BEGIN:VCALENDAR
VERSION:2.0
PRODID:-//First Christian Church (Disciples of Christ) - ECPv6.15.13//NONSGML v1.0//EN
CALSCALE:GREGORIAN
METHOD:PUBLISH
X-ORIGINAL-URL:https://www.fccminneapolis.org
X-WR-CALDESC:Events for First Christian Church (Disciples of Christ)
REFRESH-INTERVAL;VALUE=DURATION:PT1H
X-Robots-Tag:noindex
X-PUBLISHED-TTL:PT1H
BEGIN:VTIMEZONE
TZID:America/Chicago
BEGIN:DAYLIGHT
TZOFFSETFROM:-0600
TZOFFSETTO:-0500
TZNAME:CDT
DTSTART:20210314T080000
END:DAYLIGHT
BEGIN:STANDARD
TZOFFSETFROM:-0500
TZOFFSETTO:-0600
TZNAME:CST
DTSTART:20211107T070000
END:STANDARD
BEGIN:DAYLIGHT
TZOFFSETFROM:-0600
TZOFFSETTO:-0500
TZNAME:CDT
DTSTART:20220313T080000
END:DAYLIGHT
BEGIN:STANDARD
TZOFFSETFROM:-0500
TZOFFSETTO:-0600
TZNAME:CST
DTSTART:20221106T070000
END:STANDARD
BEGIN:DAYLIGHT
TZOFFSETFROM:-0600
TZOFFSETTO:-0500
TZNAME:CDT
DTSTART:20230312T080000
END:DAYLIGHT
BEGIN:STANDARD
TZOFFSETFROM:-0500
TZOFFSETTO:-0600
TZNAME:CST
DTSTART:20231105T070000
END:STANDARD
BEGIN:DAYLIGHT
TZOFFSETFROM:-0600
TZOFFSETTO:-0500
TZNAME:CDT
DTSTART:20240310T080000
END:DAYLIGHT
BEGIN:STANDARD
TZOFFSETFROM:-0500
TZOFFSETTO:-0600
TZNAME:CST
DTSTART:20241103T070000
END:STANDARD
END:VTIMEZONE
BEGIN:VEVENT
DTSTART;TZID=America/Chicago:20230326T092000
DTEND;TZID=America/Chicago:20230326T101500
DTSTAMP:20260425T224411
CREATED:20221215T215555Z
LAST-MODIFIED:20221215T215555Z
UID:10001563-1679822400-1679825700@www.fccminneapolis.org
SUMMARY:U-Pick Sunday School
DESCRIPTION:Meeting in the SHMC Squiggle Space (Lower Level) and the Child Ministries Zoom Room.
URL:https://www.fccminneapolis.org/event/u-pick-sunday-school-2/2023-03-26/
LOCATION:SHMC Squiggle Space (Lower Level) & Child Ministries Zoom Room
CATEGORIES:Child Ministries
END:VEVENT
BEGIN:VEVENT
DTSTART;TZID=America/Chicago:20230319T092000
DTEND;TZID=America/Chicago:20230319T101500
DTSTAMP:20260425T224411
CREATED:20221215T215555Z
LAST-MODIFIED:20221215T215555Z
UID:10001562-1679217600-1679220900@www.fccminneapolis.org
SUMMARY:U-Pick Sunday School
DESCRIPTION:Meeting in the SHMC Squiggle Space (Lower Level) and the Child Ministries Zoom Room.
URL:https://www.fccminneapolis.org/event/u-pick-sunday-school-2/2023-03-19/
LOCATION:SHMC Squiggle Space (Lower Level) & Child Ministries Zoom Room
CATEGORIES:Child Ministries
END:VEVENT
BEGIN:VEVENT
DTSTART;TZID=America/Chicago:20230312T092000
DTEND;TZID=America/Chicago:20230312T101500
DTSTAMP:20260425T224411
CREATED:20221215T215555Z
LAST-MODIFIED:20221215T215555Z
UID:10001561-1678612800-1678616100@www.fccminneapolis.org
SUMMARY:U-Pick Sunday School
DESCRIPTION:Meeting in the SHMC Squiggle Space (Lower Level) and the Child Ministries Zoom Room.
URL:https://www.fccminneapolis.org/event/u-pick-sunday-school-2/2023-03-12/
LOCATION:SHMC Squiggle Space (Lower Level) & Child Ministries Zoom Room
CATEGORIES:Child Ministries
END:VEVENT
BEGIN:VEVENT
DTSTART;TZID=America/Chicago:20230305T092000
DTEND;TZID=America/Chicago:20230305T101500
DTSTAMP:20260425T224411
CREATED:20221215T215555Z
LAST-MODIFIED:20221215T215555Z
UID:10001560-1678008000-1678011300@www.fccminneapolis.org
SUMMARY:U-Pick Sunday School
DESCRIPTION:Meeting in the SHMC Squiggle Space (Lower Level) and the Child Ministries Zoom Room.
URL:https://www.fccminneapolis.org/event/u-pick-sunday-school-2/2023-03-05/
LOCATION:SHMC Squiggle Space (Lower Level) & Child Ministries Zoom Room
CATEGORIES:Child Ministries
END:VEVENT
BEGIN:VEVENT
DTSTART;TZID=America/Chicago:20230226T092000
DTEND;TZID=America/Chicago:20230226T101500
DTSTAMP:20260425T224411
CREATED:20221215T215555Z
LAST-MODIFIED:20221215T215555Z
UID:10001559-1677403200-1677406500@www.fccminneapolis.org
SUMMARY:U-Pick Sunday School
DESCRIPTION:Meeting in the SHMC Squiggle Space (Lower Level) and the Child Ministries Zoom Room.
URL:https://www.fccminneapolis.org/event/u-pick-sunday-school-2/2023-02-26/
LOCATION:SHMC Squiggle Space (Lower Level) & Child Ministries Zoom Room
CATEGORIES:Child Ministries
END:VEVENT
BEGIN:VEVENT
DTSTART;TZID=America/Chicago:20230219T092000
DTEND;TZID=America/Chicago:20230219T101500
DTSTAMP:20260425T224411
CREATED:20221215T215555Z
LAST-MODIFIED:20221215T215555Z
UID:10001558-1676798400-1676801700@www.fccminneapolis.org
SUMMARY:U-Pick Sunday School
DESCRIPTION:Meeting in the SHMC Squiggle Space (Lower Level) and the Child Ministries Zoom Room.
URL:https://www.fccminneapolis.org/event/u-pick-sunday-school-2/2023-02-19/
LOCATION:SHMC Squiggle Space (Lower Level) & Child Ministries Zoom Room
CATEGORIES:Child Ministries
END:VEVENT
BEGIN:VEVENT
DTSTART;TZID=America/Chicago:20230212T092000
DTEND;TZID=America/Chicago:20230212T101500
DTSTAMP:20260425T224411
CREATED:20221215T215555Z
LAST-MODIFIED:20221215T215555Z
UID:10001557-1676193600-1676196900@www.fccminneapolis.org
SUMMARY:U-Pick Sunday School
DESCRIPTION:Meeting in the SHMC Squiggle Space (Lower Level) and the Child Ministries Zoom Room.
URL:https://www.fccminneapolis.org/event/u-pick-sunday-school-2/2023-02-12/
LOCATION:SHMC Squiggle Space (Lower Level) & Child Ministries Zoom Room
CATEGORIES:Child Ministries
END:VEVENT
BEGIN:VEVENT
DTSTART;TZID=America/Chicago:20230205T092000
DTEND;TZID=America/Chicago:20230205T101500
DTSTAMP:20260425T224411
CREATED:20221215T215555Z
LAST-MODIFIED:20221215T215555Z
UID:10001556-1675588800-1675592100@www.fccminneapolis.org
SUMMARY:U-Pick Sunday School
DESCRIPTION:Meeting in the SHMC Squiggle Space (Lower Level) and the Child Ministries Zoom Room.
URL:https://www.fccminneapolis.org/event/u-pick-sunday-school-2/2023-02-05/
LOCATION:SHMC Squiggle Space (Lower Level) & Child Ministries Zoom Room
CATEGORIES:Child Ministries
END:VEVENT
BEGIN:VEVENT
DTSTART;TZID=America/Chicago:20230129T092000
DTEND;TZID=America/Chicago:20230129T101500
DTSTAMP:20260425T224411
CREATED:20221215T215555Z
LAST-MODIFIED:20221215T215555Z
UID:10001555-1674984000-1674987300@www.fccminneapolis.org
SUMMARY:U-Pick Sunday School
DESCRIPTION:Meeting in the SHMC Squiggle Space (Lower Level) and the Child Ministries Zoom Room.
URL:https://www.fccminneapolis.org/event/u-pick-sunday-school-2/2023-01-29/
LOCATION:SHMC Squiggle Space (Lower Level) & Child Ministries Zoom Room
CATEGORIES:Child Ministries
END:VEVENT
BEGIN:VEVENT
DTSTART;TZID=America/Chicago:20230122T092000
DTEND;TZID=America/Chicago:20230122T101500
DTSTAMP:20260425T224411
CREATED:20221215T215555Z
LAST-MODIFIED:20221215T215555Z
UID:10001554-1674379200-1674382500@www.fccminneapolis.org
SUMMARY:U-Pick Sunday School
DESCRIPTION:Meeting in the SHMC Squiggle Space (Lower Level) and the Child Ministries Zoom Room.
URL:https://www.fccminneapolis.org/event/u-pick-sunday-school-2/2023-01-22/
LOCATION:SHMC Squiggle Space (Lower Level) & Child Ministries Zoom Room
CATEGORIES:Child Ministries
END:VEVENT
BEGIN:VEVENT
DTSTART;TZID=America/Chicago:20230115T092000
DTEND;TZID=America/Chicago:20230115T101500
DTSTAMP:20260425T224411
CREATED:20221215T215555Z
LAST-MODIFIED:20221215T215555Z
UID:10001553-1673774400-1673777700@www.fccminneapolis.org
SUMMARY:U-Pick Sunday School
DESCRIPTION:Meeting in the SHMC Squiggle Space (Lower Level) and the Child Ministries Zoom Room.
URL:https://www.fccminneapolis.org/event/u-pick-sunday-school-2/2023-01-15/
LOCATION:SHMC Squiggle Space (Lower Level) & Child Ministries Zoom Room
CATEGORIES:Child Ministries
END:VEVENT
BEGIN:VEVENT
DTSTART;TZID=America/Chicago:20230108T092000
DTEND;TZID=America/Chicago:20230108T101500
DTSTAMP:20260425T224411
CREATED:20221215T215555Z
LAST-MODIFIED:20221215T215555Z
UID:10001552-1673169600-1673172900@www.fccminneapolis.org
SUMMARY:U-Pick Sunday School
DESCRIPTION:Meeting in the SHMC Squiggle Space (Lower Level) and the Child Ministries Zoom Room.
URL:https://www.fccminneapolis.org/event/u-pick-sunday-school-2/2023-01-08/
LOCATION:SHMC Squiggle Space (Lower Level) & Child Ministries Zoom Room
CATEGORIES:Child Ministries
END:VEVENT
BEGIN:VEVENT
DTSTART;TZID=America/Chicago:20221218T092000
DTEND;TZID=America/Chicago:20221218T101500
DTSTAMP:20260425T224411
CREATED:20221012T191559Z
LAST-MODIFIED:20221215T215358Z
UID:10001434-1671355200-1671358500@www.fccminneapolis.org
SUMMARY:U-Pick Sunday School
DESCRIPTION:Meeting in the SHMC Squiggle Space (Lower Level) and the Child Ministries Zoom Room.
URL:https://www.fccminneapolis.org/event/u-pick-sunday-school/2022-12-18/
LOCATION:SHMC Squiggle Space (Lower Level) & Child Ministries Zoom Room
CATEGORIES:Child Ministries
END:VEVENT
BEGIN:VEVENT
DTSTART;TZID=America/Chicago:20221211T092000
DTEND;TZID=America/Chicago:20221211T101500
DTSTAMP:20260425T224411
CREATED:20221012T191559Z
LAST-MODIFIED:20221215T215358Z
UID:10001433-1670750400-1670753700@www.fccminneapolis.org
SUMMARY:U-Pick Sunday School
DESCRIPTION:Meeting in the SHMC Squiggle Space (Lower Level) and the Child Ministries Zoom Room.
URL:https://www.fccminneapolis.org/event/u-pick-sunday-school/2022-12-11/
LOCATION:SHMC Squiggle Space (Lower Level) & Child Ministries Zoom Room
CATEGORIES:Child Ministries
END:VEVENT
BEGIN:VEVENT
DTSTART;TZID=America/Chicago:20221204T092000
DTEND;TZID=America/Chicago:20221204T101500
DTSTAMP:20260425T224411
CREATED:20221012T191559Z
LAST-MODIFIED:20221215T215358Z
UID:10001432-1670145600-1670148900@www.fccminneapolis.org
SUMMARY:U-Pick Sunday School
DESCRIPTION:Meeting in the SHMC Squiggle Space (Lower Level) and the Child Ministries Zoom Room.
URL:https://www.fccminneapolis.org/event/u-pick-sunday-school/2022-12-04/
LOCATION:SHMC Squiggle Space (Lower Level) & Child Ministries Zoom Room
CATEGORIES:Child Ministries
END:VEVENT
BEGIN:VEVENT
DTSTART;TZID=America/Chicago:20221127T092000
DTEND;TZID=America/Chicago:20221127T101500
DTSTAMP:20260425T224411
CREATED:20221012T191559Z
LAST-MODIFIED:20221215T215358Z
UID:10001431-1669540800-1669544100@www.fccminneapolis.org
SUMMARY:U-Pick Sunday School
DESCRIPTION:Meeting in the SHMC Squiggle Space (Lower Level) and the Child Ministries Zoom Room.
URL:https://www.fccminneapolis.org/event/u-pick-sunday-school/2022-11-27/
LOCATION:SHMC Squiggle Space (Lower Level) & Child Ministries Zoom Room
CATEGORIES:Child Ministries
END:VEVENT
BEGIN:VEVENT
DTSTART;TZID=America/Chicago:20221120T092000
DTEND;TZID=America/Chicago:20221120T101500
DTSTAMP:20260425T224411
CREATED:20221012T191559Z
LAST-MODIFIED:20221215T215358Z
UID:10001430-1668936000-1668939300@www.fccminneapolis.org
SUMMARY:U-Pick Sunday School
DESCRIPTION:Meeting in the SHMC Squiggle Space (Lower Level) and the Child Ministries Zoom Room.
URL:https://www.fccminneapolis.org/event/u-pick-sunday-school/2022-11-20/
LOCATION:SHMC Squiggle Space (Lower Level) & Child Ministries Zoom Room
CATEGORIES:Child Ministries
END:VEVENT
BEGIN:VEVENT
DTSTART;TZID=America/Chicago:20221113T092000
DTEND;TZID=America/Chicago:20221113T101500
DTSTAMP:20260425T224411
CREATED:20221012T191559Z
LAST-MODIFIED:20221215T215358Z
UID:10001429-1668331200-1668334500@www.fccminneapolis.org
SUMMARY:U-Pick Sunday School
DESCRIPTION:Meeting in the SHMC Squiggle Space (Lower Level) and the Child Ministries Zoom Room.
URL:https://www.fccminneapolis.org/event/u-pick-sunday-school/2022-11-13/
LOCATION:SHMC Squiggle Space (Lower Level) & Child Ministries Zoom Room
CATEGORIES:Child Ministries
END:VEVENT
BEGIN:VEVENT
DTSTART;TZID=America/Chicago:20221106T092000
DTEND;TZID=America/Chicago:20221106T101500
DTSTAMP:20260425T224411
CREATED:20221012T191559Z
LAST-MODIFIED:20221215T215358Z
UID:10001428-1667726400-1667729700@www.fccminneapolis.org
SUMMARY:U-Pick Sunday School
DESCRIPTION:Meeting in the SHMC Squiggle Space (Lower Level) and the Child Ministries Zoom Room.
URL:https://www.fccminneapolis.org/event/u-pick-sunday-school/2022-11-06/
LOCATION:SHMC Squiggle Space (Lower Level) & Child Ministries Zoom Room
CATEGORIES:Child Ministries
END:VEVENT
BEGIN:VEVENT
DTSTART;TZID=America/Chicago:20221030T092000
DTEND;TZID=America/Chicago:20221030T101500
DTSTAMP:20260425T224411
CREATED:20221012T191559Z
LAST-MODIFIED:20221215T215358Z
UID:10001427-1667121600-1667124900@www.fccminneapolis.org
SUMMARY:U-Pick Sunday School
DESCRIPTION:Meeting in the SHMC Squiggle Space (Lower Level) and the Child Ministries Zoom Room.
URL:https://www.fccminneapolis.org/event/u-pick-sunday-school/2022-10-30/
LOCATION:SHMC Squiggle Space (Lower Level) & Child Ministries Zoom Room
CATEGORIES:Child Ministries
END:VEVENT
BEGIN:VEVENT
DTSTART;TZID=America/Chicago:20221023T092000
DTEND;TZID=America/Chicago:20221023T101500
DTSTAMP:20260425T224411
CREATED:20221012T191559Z
LAST-MODIFIED:20221215T215358Z
UID:10001426-1666516800-1666520100@www.fccminneapolis.org
SUMMARY:U-Pick Sunday School
DESCRIPTION:Meeting in the SHMC Squiggle Space (Lower Level) and the Child Ministries Zoom Room.
URL:https://www.fccminneapolis.org/event/u-pick-sunday-school/2022-10-23/
LOCATION:SHMC Squiggle Space (Lower Level) & Child Ministries Zoom Room
CATEGORIES:Child Ministries
END:VEVENT
BEGIN:VEVENT
DTSTART;TZID=America/Chicago:20221016T092000
DTEND;TZID=America/Chicago:20221016T101500
DTSTAMP:20260425T224411
CREATED:20221012T191559Z
LAST-MODIFIED:20221215T215358Z
UID:10001425-1665912000-1665915300@www.fccminneapolis.org
SUMMARY:U-Pick Sunday School
DESCRIPTION:Meeting in the SHMC Squiggle Space (Lower Level) and the Child Ministries Zoom Room.
URL:https://www.fccminneapolis.org/event/u-pick-sunday-school/2022-10-16/
LOCATION:SHMC Squiggle Space (Lower Level) & Child Ministries Zoom Room
CATEGORIES:Child Ministries
END:VEVENT
END:VCALENDAR