BEGIN:VCALENDAR
VERSION:2.0
PRODID:-//First Christian Church (Disciples of Christ) - ECPv6.15.13//NONSGML v1.0//EN
CALSCALE:GREGORIAN
METHOD:PUBLISH
X-ORIGINAL-URL:https://www.fccminneapolis.org
X-WR-CALDESC:Events for First Christian Church (Disciples of Christ)
REFRESH-INTERVAL;VALUE=DURATION:PT1H
X-Robots-Tag:noindex
X-PUBLISHED-TTL:PT1H
BEGIN:VTIMEZONE
TZID:America/Chicago
BEGIN:DAYLIGHT
TZOFFSETFROM:-0600
TZOFFSETTO:-0500
TZNAME:CDT
DTSTART:20230312T080000
END:DAYLIGHT
BEGIN:STANDARD
TZOFFSETFROM:-0500
TZOFFSETTO:-0600
TZNAME:CST
DTSTART:20231105T070000
END:STANDARD
BEGIN:DAYLIGHT
TZOFFSETFROM:-0600
TZOFFSETTO:-0500
TZNAME:CDT
DTSTART:20240310T080000
END:DAYLIGHT
BEGIN:STANDARD
TZOFFSETFROM:-0500
TZOFFSETTO:-0600
TZNAME:CST
DTSTART:20241103T070000
END:STANDARD
BEGIN:DAYLIGHT
TZOFFSETFROM:-0600
TZOFFSETTO:-0500
TZNAME:CDT
DTSTART:20250309T080000
END:DAYLIGHT
BEGIN:STANDARD
TZOFFSETFROM:-0500
TZOFFSETTO:-0600
TZNAME:CST
DTSTART:20251102T070000
END:STANDARD
BEGIN:DAYLIGHT
TZOFFSETFROM:-0600
TZOFFSETTO:-0500
TZNAME:CDT
DTSTART:20260308T080000
END:DAYLIGHT
BEGIN:STANDARD
TZOFFSETFROM:-0500
TZOFFSETTO:-0600
TZNAME:CST
DTSTART:20261101T070000
END:STANDARD
END:VTIMEZONE
BEGIN:VEVENT
DTSTART;TZID=America/Chicago:20251225T103000
DTEND;TZID=America/Chicago:20251225T120000
DTSTAMP:20260425T163133
CREATED:20251216T185845Z
LAST-MODIFIED:20251216T185845Z
UID:10007262-1766658600-1766664000@www.fccminneapolis.org
SUMMARY:Christmas Day Service
DESCRIPTION:Hosted by Lyndale UCC
URL:https://www.fccminneapolis.org/event/christmas-day-service/
LOCATION:SHMC South Sanctuary (Upper Level)
END:VEVENT
BEGIN:VEVENT
DTSTART;TZID=America/Chicago:20251221T170000
DTEND;TZID=America/Chicago:20251221T180000
DTSTAMP:20260425T163133
CREATED:20251216T185514Z
LAST-MODIFIED:20251216T185514Z
UID:10007260-1766336400-1766340000@www.fccminneapolis.org
SUMMARY:Blue Christmas Service
DESCRIPTION:
URL:https://www.fccminneapolis.org/event/blue-christmas-service-5/
LOCATION:SHMC South Sanctuary (Upper Level)
END:VEVENT
BEGIN:VEVENT
DTSTART;TZID=America/Chicago:20250420T090000
DTEND;TZID=America/Chicago:20250420T100000
DTSTAMP:20260425T163133
CREATED:20240917T185305Z
LAST-MODIFIED:20241226T163249Z
UID:10004794-1745139600-1745143200@www.fccminneapolis.org
SUMMARY:Choir Rehearsals
DESCRIPTION:Join us at 9 am in the South Sanctuary as we begin a new choir year! All voices and ability levels are welcome!\nFor questions\, please contact our music director\, Dr. Caroline Povolny
URL:https://www.fccminneapolis.org/event/choir-rehearsals-2/2025-04-20/
LOCATION:SHMC South Sanctuary (Upper Level)
END:VEVENT
BEGIN:VEVENT
DTSTART;TZID=America/Chicago:20250413T090000
DTEND;TZID=America/Chicago:20250413T100000
DTSTAMP:20260425T163133
CREATED:20240917T185305Z
LAST-MODIFIED:20241226T163249Z
UID:10004793-1744534800-1744538400@www.fccminneapolis.org
SUMMARY:Choir Rehearsals
DESCRIPTION:Join us at 9 am in the South Sanctuary as we begin a new choir year! All voices and ability levels are welcome!\nFor questions\, please contact our music director\, Dr. Caroline Povolny
URL:https://www.fccminneapolis.org/event/choir-rehearsals-2/2025-04-13/
LOCATION:SHMC South Sanctuary (Upper Level)
END:VEVENT
BEGIN:VEVENT
DTSTART;TZID=America/Chicago:20250406T090000
DTEND;TZID=America/Chicago:20250406T100000
DTSTAMP:20260425T163133
CREATED:20240917T185305Z
LAST-MODIFIED:20241226T163249Z
UID:10004792-1743930000-1743933600@www.fccminneapolis.org
SUMMARY:Choir Rehearsals
DESCRIPTION:Join us at 9 am in the South Sanctuary as we begin a new choir year! All voices and ability levels are welcome!\nFor questions\, please contact our music director\, Dr. Caroline Povolny
URL:https://www.fccminneapolis.org/event/choir-rehearsals-2/2025-04-06/
LOCATION:SHMC South Sanctuary (Upper Level)
END:VEVENT
BEGIN:VEVENT
DTSTART;TZID=America/Chicago:20250330T090000
DTEND;TZID=America/Chicago:20250330T100000
DTSTAMP:20260425T163133
CREATED:20240917T185305Z
LAST-MODIFIED:20241226T163249Z
UID:10004791-1743325200-1743328800@www.fccminneapolis.org
SUMMARY:Choir Rehearsals
DESCRIPTION:Join us at 9 am in the South Sanctuary as we begin a new choir year! All voices and ability levels are welcome!\nFor questions\, please contact our music director\, Dr. Caroline Povolny
URL:https://www.fccminneapolis.org/event/choir-rehearsals-2/2025-03-30/
LOCATION:SHMC South Sanctuary (Upper Level)
END:VEVENT
BEGIN:VEVENT
DTSTART;TZID=America/Chicago:20250323T090000
DTEND;TZID=America/Chicago:20250323T100000
DTSTAMP:20260425T163133
CREATED:20240917T185305Z
LAST-MODIFIED:20241226T163249Z
UID:10004790-1742720400-1742724000@www.fccminneapolis.org
SUMMARY:Choir Rehearsals
DESCRIPTION:Join us at 9 am in the South Sanctuary as we begin a new choir year! All voices and ability levels are welcome!\nFor questions\, please contact our music director\, Dr. Caroline Povolny
URL:https://www.fccminneapolis.org/event/choir-rehearsals-2/2025-03-23/
LOCATION:SHMC South Sanctuary (Upper Level)
END:VEVENT
BEGIN:VEVENT
DTSTART;TZID=America/Chicago:20250316T090000
DTEND;TZID=America/Chicago:20250316T100000
DTSTAMP:20260425T163133
CREATED:20240917T185305Z
LAST-MODIFIED:20241226T163249Z
UID:10004789-1742115600-1742119200@www.fccminneapolis.org
SUMMARY:Choir Rehearsals
DESCRIPTION:Join us at 9 am in the South Sanctuary as we begin a new choir year! All voices and ability levels are welcome!\nFor questions\, please contact our music director\, Dr. Caroline Povolny
URL:https://www.fccminneapolis.org/event/choir-rehearsals-2/2025-03-16/
LOCATION:SHMC South Sanctuary (Upper Level)
END:VEVENT
BEGIN:VEVENT
DTSTART;TZID=America/Chicago:20250309T090000
DTEND;TZID=America/Chicago:20250309T100000
DTSTAMP:20260425T163133
CREATED:20240917T185305Z
LAST-MODIFIED:20241226T163249Z
UID:10004788-1741510800-1741514400@www.fccminneapolis.org
SUMMARY:Choir Rehearsals
DESCRIPTION:Join us at 9 am in the South Sanctuary as we begin a new choir year! All voices and ability levels are welcome!\nFor questions\, please contact our music director\, Dr. Caroline Povolny
URL:https://www.fccminneapolis.org/event/choir-rehearsals-2/2025-03-09/
LOCATION:SHMC South Sanctuary (Upper Level)
END:VEVENT
BEGIN:VEVENT
DTSTART;TZID=America/Chicago:20250302T094500
DTEND;TZID=America/Chicago:20250302T103000
DTSTAMP:20260425T163133
CREATED:20250204T195811Z
LAST-MODIFIED:20250204T195928Z
UID:10005457-1740908700-1740911400@www.fccminneapolis.org
SUMMARY:Choir Lite
DESCRIPTION:An Invitation From Caroline \nIntroducing Choir-Lite! \nYou can join the choir short-term for Mardi Gras Sunday! Rehearsals on that music will begin at 9:45 AM for the next 4 Sundays. Contact Caroline with questions! \nWe will do the same for Easter! \nRegular full choir rehearsals will still happen at 9 AM.
URL:https://www.fccminneapolis.org/event/choir-lite/2025-03-02/
LOCATION:SHMC South Sanctuary (Upper Level)
END:VEVENT
BEGIN:VEVENT
DTSTART;TZID=America/Chicago:20250302T090000
DTEND;TZID=America/Chicago:20250302T100000
DTSTAMP:20260425T163133
CREATED:20240917T185305Z
LAST-MODIFIED:20241226T163249Z
UID:10004787-1740906000-1740909600@www.fccminneapolis.org
SUMMARY:Choir Rehearsals
DESCRIPTION:Join us at 9 am in the South Sanctuary as we begin a new choir year! All voices and ability levels are welcome!\nFor questions\, please contact our music director\, Dr. Caroline Povolny
URL:https://www.fccminneapolis.org/event/choir-rehearsals-2/2025-03-02/
LOCATION:SHMC South Sanctuary (Upper Level)
END:VEVENT
BEGIN:VEVENT
DTSTART;TZID=America/Chicago:20250223T094500
DTEND;TZID=America/Chicago:20250223T103000
DTSTAMP:20260425T163133
CREATED:20250204T195811Z
LAST-MODIFIED:20250204T195928Z
UID:10005456-1740303900-1740306600@www.fccminneapolis.org
SUMMARY:Choir Lite
DESCRIPTION:An Invitation From Caroline \nIntroducing Choir-Lite! \nYou can join the choir short-term for Mardi Gras Sunday! Rehearsals on that music will begin at 9:45 AM for the next 4 Sundays. Contact Caroline with questions! \nWe will do the same for Easter! \nRegular full choir rehearsals will still happen at 9 AM.
URL:https://www.fccminneapolis.org/event/choir-lite/2025-02-23/
LOCATION:SHMC South Sanctuary (Upper Level)
END:VEVENT
BEGIN:VEVENT
DTSTART;TZID=America/Chicago:20250223T090000
DTEND;TZID=America/Chicago:20250223T100000
DTSTAMP:20260425T163133
CREATED:20240917T185305Z
LAST-MODIFIED:20241226T163249Z
UID:10004786-1740301200-1740304800@www.fccminneapolis.org
SUMMARY:Choir Rehearsals
DESCRIPTION:Join us at 9 am in the South Sanctuary as we begin a new choir year! All voices and ability levels are welcome!\nFor questions\, please contact our music director\, Dr. Caroline Povolny
URL:https://www.fccminneapolis.org/event/choir-rehearsals-2/2025-02-23/
LOCATION:SHMC South Sanctuary (Upper Level)
END:VEVENT
BEGIN:VEVENT
DTSTART;TZID=America/Chicago:20250216T094500
DTEND;TZID=America/Chicago:20250216T103000
DTSTAMP:20260425T163133
CREATED:20250204T195811Z
LAST-MODIFIED:20250204T195928Z
UID:10005455-1739699100-1739701800@www.fccminneapolis.org
SUMMARY:Choir Lite
DESCRIPTION:An Invitation From Caroline \nIntroducing Choir-Lite! \nYou can join the choir short-term for Mardi Gras Sunday! Rehearsals on that music will begin at 9:45 AM for the next 4 Sundays. Contact Caroline with questions! \nWe will do the same for Easter! \nRegular full choir rehearsals will still happen at 9 AM.
URL:https://www.fccminneapolis.org/event/choir-lite/2025-02-16/
LOCATION:SHMC South Sanctuary (Upper Level)
END:VEVENT
BEGIN:VEVENT
DTSTART;TZID=America/Chicago:20250216T090000
DTEND;TZID=America/Chicago:20250216T100000
DTSTAMP:20260425T163133
CREATED:20240917T185305Z
LAST-MODIFIED:20241226T163249Z
UID:10004785-1739696400-1739700000@www.fccminneapolis.org
SUMMARY:Choir Rehearsals
DESCRIPTION:Join us at 9 am in the South Sanctuary as we begin a new choir year! All voices and ability levels are welcome!\nFor questions\, please contact our music director\, Dr. Caroline Povolny
URL:https://www.fccminneapolis.org/event/choir-rehearsals-2/2025-02-16/
LOCATION:SHMC South Sanctuary (Upper Level)
END:VEVENT
BEGIN:VEVENT
DTSTART;TZID=America/Chicago:20250209T094500
DTEND;TZID=America/Chicago:20250209T103000
DTSTAMP:20260425T163133
CREATED:20250204T195811Z
LAST-MODIFIED:20250204T195928Z
UID:10005454-1739094300-1739097000@www.fccminneapolis.org
SUMMARY:Choir Lite
DESCRIPTION:An Invitation From Caroline \nIntroducing Choir-Lite! \nYou can join the choir short-term for Mardi Gras Sunday! Rehearsals on that music will begin at 9:45 AM for the next 4 Sundays. Contact Caroline with questions! \nWe will do the same for Easter! \nRegular full choir rehearsals will still happen at 9 AM.
URL:https://www.fccminneapolis.org/event/choir-lite/2025-02-09/
LOCATION:SHMC South Sanctuary (Upper Level)
END:VEVENT
BEGIN:VEVENT
DTSTART;TZID=America/Chicago:20250209T090000
DTEND;TZID=America/Chicago:20250209T100000
DTSTAMP:20260425T163133
CREATED:20240917T185305Z
LAST-MODIFIED:20241226T163249Z
UID:10004784-1739091600-1739095200@www.fccminneapolis.org
SUMMARY:Choir Rehearsals
DESCRIPTION:Join us at 9 am in the South Sanctuary as we begin a new choir year! All voices and ability levels are welcome!\nFor questions\, please contact our music director\, Dr. Caroline Povolny
URL:https://www.fccminneapolis.org/event/choir-rehearsals-2/2025-02-09/
LOCATION:SHMC South Sanctuary (Upper Level)
END:VEVENT
BEGIN:VEVENT
DTSTART;TZID=America/Chicago:20250202T090000
DTEND;TZID=America/Chicago:20250202T100000
DTSTAMP:20260425T163133
CREATED:20240917T185305Z
LAST-MODIFIED:20241226T163249Z
UID:10004783-1738486800-1738490400@www.fccminneapolis.org
SUMMARY:Choir Rehearsals
DESCRIPTION:Join us at 9 am in the South Sanctuary as we begin a new choir year! All voices and ability levels are welcome!\nFor questions\, please contact our music director\, Dr. Caroline Povolny
URL:https://www.fccminneapolis.org/event/choir-rehearsals-2/2025-02-02/
LOCATION:SHMC South Sanctuary (Upper Level)
END:VEVENT
BEGIN:VEVENT
DTSTART;TZID=America/Chicago:20250126T090000
DTEND;TZID=America/Chicago:20250126T100000
DTSTAMP:20260425T163133
CREATED:20240917T185305Z
LAST-MODIFIED:20241226T163249Z
UID:10004782-1737882000-1737885600@www.fccminneapolis.org
SUMMARY:Choir Rehearsals
DESCRIPTION:Join us at 9 am in the South Sanctuary as we begin a new choir year! All voices and ability levels are welcome!\nFor questions\, please contact our music director\, Dr. Caroline Povolny
URL:https://www.fccminneapolis.org/event/choir-rehearsals-2/2025-01-26/
LOCATION:SHMC South Sanctuary (Upper Level)
END:VEVENT
BEGIN:VEVENT
DTSTART;TZID=America/Chicago:20250119T090000
DTEND;TZID=America/Chicago:20250119T100000
DTSTAMP:20260425T163133
CREATED:20240917T185305Z
LAST-MODIFIED:20241226T163249Z
UID:10004781-1737277200-1737280800@www.fccminneapolis.org
SUMMARY:Choir Rehearsals
DESCRIPTION:Join us at 9 am in the South Sanctuary as we begin a new choir year! All voices and ability levels are welcome!\nFor questions\, please contact our music director\, Dr. Caroline Povolny
URL:https://www.fccminneapolis.org/event/choir-rehearsals-2/2025-01-19/
LOCATION:SHMC South Sanctuary (Upper Level)
END:VEVENT
BEGIN:VEVENT
DTSTART;TZID=America/Chicago:20250112T090000
DTEND;TZID=America/Chicago:20250112T100000
DTSTAMP:20260425T163133
CREATED:20240917T185305Z
LAST-MODIFIED:20241226T163249Z
UID:10004780-1736672400-1736676000@www.fccminneapolis.org
SUMMARY:Choir Rehearsals
DESCRIPTION:Join us at 9 am in the South Sanctuary as we begin a new choir year! All voices and ability levels are welcome!\nFor questions\, please contact our music director\, Dr. Caroline Povolny
URL:https://www.fccminneapolis.org/event/choir-rehearsals-2/2025-01-12/
LOCATION:SHMC South Sanctuary (Upper Level)
END:VEVENT
BEGIN:VEVENT
DTSTART;TZID=America/Chicago:20250105T090000
DTEND;TZID=America/Chicago:20250105T100000
DTSTAMP:20260425T163133
CREATED:20240917T185305Z
LAST-MODIFIED:20241226T163249Z
UID:10004779-1736067600-1736071200@www.fccminneapolis.org
SUMMARY:Choir Rehearsals
DESCRIPTION:Join us at 9 am in the South Sanctuary as we begin a new choir year! All voices and ability levels are welcome!\nFor questions\, please contact our music director\, Dr. Caroline Povolny
URL:https://www.fccminneapolis.org/event/choir-rehearsals-2/2025-01-05/
LOCATION:SHMC South Sanctuary (Upper Level)
END:VEVENT
BEGIN:VEVENT
DTSTART;TZID=America/Chicago:20241222T090000
DTEND;TZID=America/Chicago:20241222T100000
DTSTAMP:20260425T163133
CREATED:20240917T185305Z
LAST-MODIFIED:20241226T163249Z
UID:10004777-1734858000-1734861600@www.fccminneapolis.org
SUMMARY:Choir Rehearsals
DESCRIPTION:Join us at 9 am in the South Sanctuary as we begin a new choir year! All voices and ability levels are welcome!\nFor questions\, please contact our music director\, Dr. Caroline Povolny
URL:https://www.fccminneapolis.org/event/choir-rehearsals-2/2024-12-22/
LOCATION:SHMC South Sanctuary (Upper Level)
END:VEVENT
BEGIN:VEVENT
DTSTART;TZID=America/Chicago:20241215T090000
DTEND;TZID=America/Chicago:20241215T100000
DTSTAMP:20260425T163133
CREATED:20240917T185305Z
LAST-MODIFIED:20241226T163249Z
UID:10004776-1734253200-1734256800@www.fccminneapolis.org
SUMMARY:Choir Rehearsals
DESCRIPTION:Join us at 9 am in the South Sanctuary as we begin a new choir year! All voices and ability levels are welcome!\nFor questions\, please contact our music director\, Dr. Caroline Povolny
URL:https://www.fccminneapolis.org/event/choir-rehearsals-2/2024-12-15/
LOCATION:SHMC South Sanctuary (Upper Level)
END:VEVENT
BEGIN:VEVENT
DTSTART;TZID=America/Chicago:20241208T090000
DTEND;TZID=America/Chicago:20241208T100000
DTSTAMP:20260425T163133
CREATED:20240917T185305Z
LAST-MODIFIED:20241226T163249Z
UID:10004775-1733648400-1733652000@www.fccminneapolis.org
SUMMARY:Choir Rehearsals
DESCRIPTION:Join us at 9 am in the South Sanctuary as we begin a new choir year! All voices and ability levels are welcome!\nFor questions\, please contact our music director\, Dr. Caroline Povolny
URL:https://www.fccminneapolis.org/event/choir-rehearsals-2/2024-12-08/
LOCATION:SHMC South Sanctuary (Upper Level)
END:VEVENT
BEGIN:VEVENT
DTSTART;TZID=America/Chicago:20241201T090000
DTEND;TZID=America/Chicago:20241201T100000
DTSTAMP:20260425T163133
CREATED:20240917T185305Z
LAST-MODIFIED:20241226T163249Z
UID:10004774-1733043600-1733047200@www.fccminneapolis.org
SUMMARY:Choir Rehearsals
DESCRIPTION:Join us at 9 am in the South Sanctuary as we begin a new choir year! All voices and ability levels are welcome!\nFor questions\, please contact our music director\, Dr. Caroline Povolny
URL:https://www.fccminneapolis.org/event/choir-rehearsals-2/2024-12-01/
LOCATION:SHMC South Sanctuary (Upper Level)
END:VEVENT
BEGIN:VEVENT
DTSTART;TZID=America/Chicago:20241124T090000
DTEND;TZID=America/Chicago:20241124T100000
DTSTAMP:20260425T163133
CREATED:20240917T185305Z
LAST-MODIFIED:20241226T163249Z
UID:10004773-1732438800-1732442400@www.fccminneapolis.org
SUMMARY:Choir Rehearsals
DESCRIPTION:Join us at 9 am in the South Sanctuary as we begin a new choir year! All voices and ability levels are welcome!\nFor questions\, please contact our music director\, Dr. Caroline Povolny
URL:https://www.fccminneapolis.org/event/choir-rehearsals-2/2024-11-24/
LOCATION:SHMC South Sanctuary (Upper Level)
END:VEVENT
BEGIN:VEVENT
DTSTART;TZID=America/Chicago:20241117T090000
DTEND;TZID=America/Chicago:20241117T100000
DTSTAMP:20260425T163133
CREATED:20240917T185305Z
LAST-MODIFIED:20241226T163249Z
UID:10004772-1731834000-1731837600@www.fccminneapolis.org
SUMMARY:Choir Rehearsals
DESCRIPTION:Join us at 9 am in the South Sanctuary as we begin a new choir year! All voices and ability levels are welcome!\nFor questions\, please contact our music director\, Dr. Caroline Povolny
URL:https://www.fccminneapolis.org/event/choir-rehearsals-2/2024-11-17/
LOCATION:SHMC South Sanctuary (Upper Level)
END:VEVENT
BEGIN:VEVENT
DTSTART;TZID=America/Chicago:20241110T090000
DTEND;TZID=America/Chicago:20241110T100000
DTSTAMP:20260425T163133
CREATED:20240917T185305Z
LAST-MODIFIED:20241226T163249Z
UID:10004771-1731229200-1731232800@www.fccminneapolis.org
SUMMARY:Choir Rehearsals
DESCRIPTION:Join us at 9 am in the South Sanctuary as we begin a new choir year! All voices and ability levels are welcome!\nFor questions\, please contact our music director\, Dr. Caroline Povolny
URL:https://www.fccminneapolis.org/event/choir-rehearsals-2/2024-11-10/
LOCATION:SHMC South Sanctuary (Upper Level)
END:VEVENT
BEGIN:VEVENT
DTSTART;TZID=America/Chicago:20241103T090000
DTEND;TZID=America/Chicago:20241103T100000
DTSTAMP:20260425T163133
CREATED:20240917T185305Z
LAST-MODIFIED:20241226T163249Z
UID:10004770-1730624400-1730628000@www.fccminneapolis.org
SUMMARY:Choir Rehearsals
DESCRIPTION:Join us at 9 am in the South Sanctuary as we begin a new choir year! All voices and ability levels are welcome!\nFor questions\, please contact our music director\, Dr. Caroline Povolny
URL:https://www.fccminneapolis.org/event/choir-rehearsals-2/2024-11-03/
LOCATION:SHMC South Sanctuary (Upper Level)
END:VEVENT
END:VCALENDAR