BEGIN:VCALENDAR
VERSION:2.0
PRODID:-//First Christian Church (Disciples of Christ) - ECPv6.15.13//NONSGML v1.0//EN
CALSCALE:GREGORIAN
METHOD:PUBLISH
X-WR-CALNAME:First Christian Church (Disciples of Christ)
X-ORIGINAL-URL:https://www.fccminneapolis.org
X-WR-CALDESC:Events for First Christian Church (Disciples of Christ)
REFRESH-INTERVAL;VALUE=DURATION:PT1H
X-Robots-Tag:noindex
X-PUBLISHED-TTL:PT1H
BEGIN:VTIMEZONE
TZID:America/Chicago
BEGIN:DAYLIGHT
TZOFFSETFROM:-0600
TZOFFSETTO:-0500
TZNAME:CDT
DTSTART:20210314T080000
END:DAYLIGHT
BEGIN:STANDARD
TZOFFSETFROM:-0500
TZOFFSETTO:-0600
TZNAME:CST
DTSTART:20211107T070000
END:STANDARD
BEGIN:DAYLIGHT
TZOFFSETFROM:-0600
TZOFFSETTO:-0500
TZNAME:CDT
DTSTART:20220313T080000
END:DAYLIGHT
BEGIN:STANDARD
TZOFFSETFROM:-0500
TZOFFSETTO:-0600
TZNAME:CST
DTSTART:20221106T070000
END:STANDARD
BEGIN:DAYLIGHT
TZOFFSETFROM:-0600
TZOFFSETTO:-0500
TZNAME:CDT
DTSTART:20230312T080000
END:DAYLIGHT
BEGIN:STANDARD
TZOFFSETFROM:-0500
TZOFFSETTO:-0600
TZNAME:CST
DTSTART:20231105T070000
END:STANDARD
BEGIN:DAYLIGHT
TZOFFSETFROM:-0600
TZOFFSETTO:-0500
TZNAME:CDT
DTSTART:20240310T080000
END:DAYLIGHT
BEGIN:STANDARD
TZOFFSETFROM:-0500
TZOFFSETTO:-0600
TZNAME:CST
DTSTART:20241103T070000
END:STANDARD
BEGIN:DAYLIGHT
TZOFFSETFROM:-0600
TZOFFSETTO:-0500
TZNAME:CDT
DTSTART:20250309T080000
END:DAYLIGHT
BEGIN:STANDARD
TZOFFSETFROM:-0500
TZOFFSETTO:-0600
TZNAME:CST
DTSTART:20251102T070000
END:STANDARD
BEGIN:DAYLIGHT
TZOFFSETFROM:-0600
TZOFFSETTO:-0500
TZNAME:CDT
DTSTART:20260308T080000
END:DAYLIGHT
BEGIN:STANDARD
TZOFFSETFROM:-0500
TZOFFSETTO:-0600
TZNAME:CST
DTSTART:20261101T070000
END:STANDARD
END:VTIMEZONE
BEGIN:VEVENT
DTSTART;TZID=America/Chicago:20250418T070000
DTEND;TZID=America/Chicago:20250418T200000
DTSTAMP:20260425T211035
CREATED:20250304T194949Z
LAST-MODIFIED:20250415T183457Z
UID:10005513-1744959600-1745006400@www.fccminneapolis.org
SUMMARY:Good Friday Service
DESCRIPTION:
URL:https://www.fccminneapolis.org/event/good-friday-service-3/
LOCATION:SHMC South Sanctuary & FCC LiveStream Channel
END:VEVENT
BEGIN:VEVENT
DTSTART;TZID=America/Chicago:20250305T190000
DTEND;TZID=America/Chicago:20250305T200000
DTSTAMP:20260425T211035
CREATED:20250211T193053Z
LAST-MODIFIED:20250211T193053Z
UID:10005466-1741201200-1741204800@www.fccminneapolis.org
SUMMARY:Ash Wednesday Service
DESCRIPTION:
URL:https://www.fccminneapolis.org/event/ash-wednesday-service-2/
LOCATION:SHMC South Sanctuary & FCC LiveStream Channel
END:VEVENT
BEGIN:VEVENT
DTSTART;TZID=America/Chicago:20220227T103000
DTEND;TZID=America/Chicago:20220227T120000
DTSTAMP:20260425T211035
CREATED:20211229T140338Z
LAST-MODIFIED:20211229T140338Z
UID:10000733-1645957800-1645963200@www.fccminneapolis.org
SUMMARY:Sunday Worship (In-Person Small Group & LiveStream)
DESCRIPTION:Click here to register to attend. There are only *8* spots per Sunday. \nLiveStream is available – click on the weblink in the event listing
URL:https://www.fccminneapolis.org/event/sunday-worship-in-person-small-group-livestream/2022-02-27/
LOCATION:SHMC South Sanctuary & FCC LiveStream Channel
CATEGORIES:Sunday Worship
END:VEVENT
BEGIN:VEVENT
DTSTART;TZID=America/Chicago:20220109T103000
DTEND;TZID=America/Chicago:20220109T120000
DTSTAMP:20260425T211035
CREATED:20211229T140338Z
LAST-MODIFIED:20211229T140338Z
UID:10000732-1641724200-1641729600@www.fccminneapolis.org
SUMMARY:Sunday Worship (In-Person Small Group & LiveStream)
DESCRIPTION:Click here to register to attend. There are only *8* spots per Sunday. \nLiveStream is available – click on the weblink in the event listing
URL:https://www.fccminneapolis.org/event/sunday-worship-in-person-small-group-livestream/2022-01-09/
LOCATION:SHMC South Sanctuary & FCC LiveStream Channel
CATEGORIES:Sunday Worship
END:VEVENT
BEGIN:VEVENT
DTSTART;TZID=America/Chicago:20220102T103000
DTEND;TZID=America/Chicago:20220102T120000
DTSTAMP:20260425T211035
CREATED:20211229T140338Z
LAST-MODIFIED:20211229T140338Z
UID:10000731-1641119400-1641124800@www.fccminneapolis.org
SUMMARY:Sunday Worship (In-Person Small Group & LiveStream)
DESCRIPTION:Click here to register to attend. There are only *8* spots per Sunday. \nLiveStream is available – click on the weblink in the event listing
URL:https://www.fccminneapolis.org/event/sunday-worship-in-person-small-group-livestream/2022-01-02/
LOCATION:SHMC South Sanctuary & FCC LiveStream Channel
CATEGORIES:Sunday Worship
END:VEVENT
END:VCALENDAR