BEGIN:VCALENDAR
VERSION:2.0
PRODID:-//First Christian Church (Disciples of Christ) - ECPv6.15.13//NONSGML v1.0//EN
CALSCALE:GREGORIAN
METHOD:PUBLISH
X-ORIGINAL-URL:https://www.fccminneapolis.org
X-WR-CALDESC:Events for First Christian Church (Disciples of Christ)
REFRESH-INTERVAL;VALUE=DURATION:PT1H
X-Robots-Tag:noindex
X-PUBLISHED-TTL:PT1H
BEGIN:VTIMEZONE
TZID:America/Chicago
BEGIN:DAYLIGHT
TZOFFSETFROM:-0600
TZOFFSETTO:-0500
TZNAME:CDT
DTSTART:20260308T080000
END:DAYLIGHT
BEGIN:STANDARD
TZOFFSETFROM:-0500
TZOFFSETTO:-0600
TZNAME:CST
DTSTART:20261101T070000
END:STANDARD
BEGIN:DAYLIGHT
TZOFFSETFROM:-0600
TZOFFSETTO:-0500
TZNAME:CDT
DTSTART:20270314T080000
END:DAYLIGHT
BEGIN:STANDARD
TZOFFSETFROM:-0500
TZOFFSETTO:-0600
TZNAME:CST
DTSTART:20271107T070000
END:STANDARD
BEGIN:DAYLIGHT
TZOFFSETFROM:-0600
TZOFFSETTO:-0500
TZNAME:CDT
DTSTART:20280312T080000
END:DAYLIGHT
BEGIN:STANDARD
TZOFFSETFROM:-0500
TZOFFSETTO:-0600
TZNAME:CST
DTSTART:20281105T070000
END:STANDARD
BEGIN:DAYLIGHT
TZOFFSETFROM:-0600
TZOFFSETTO:-0500
TZNAME:CDT
DTSTART:20290311T080000
END:DAYLIGHT
BEGIN:STANDARD
TZOFFSETFROM:-0500
TZOFFSETTO:-0600
TZNAME:CST
DTSTART:20291104T070000
END:STANDARD
BEGIN:DAYLIGHT
TZOFFSETFROM:-0600
TZOFFSETTO:-0500
TZNAME:CDT
DTSTART:20300310T080000
END:DAYLIGHT
BEGIN:STANDARD
TZOFFSETFROM:-0500
TZOFFSETTO:-0600
TZNAME:CST
DTSTART:20301103T070000
END:STANDARD
END:VTIMEZONE
BEGIN:VEVENT
DTSTART;TZID=America/Chicago:20270511T133000
DTEND;TZID=America/Chicago:20270511T153000
DTSTAMP:20260425T091700
CREATED:20260301T232328Z
LAST-MODIFIED:20260301T232328Z
UID:10008304-1810042200-1810049400@www.fccminneapolis.org
SUMMARY:SHMC Clergy Meeting
DESCRIPTION:
URL:https://www.fccminneapolis.org/event/shmc-clergy-meeting-2-2-2/2027-05-11/
LOCATION:SHMC Esther Meeting Space (Lower Level)
END:VEVENT
BEGIN:VEVENT
DTSTART;TZID=America/Chicago:20270608T133000
DTEND;TZID=America/Chicago:20270608T153000
DTSTAMP:20260425T091700
CREATED:20260301T232328Z
LAST-MODIFIED:20260301T232328Z
UID:10008305-1812461400-1812468600@www.fccminneapolis.org
SUMMARY:SHMC Clergy Meeting
DESCRIPTION:
URL:https://www.fccminneapolis.org/event/shmc-clergy-meeting-2-2-2/2027-06-08/
LOCATION:SHMC Esther Meeting Space (Lower Level)
END:VEVENT
BEGIN:VEVENT
DTSTART;TZID=America/Chicago:20270713T133000
DTEND;TZID=America/Chicago:20270713T153000
DTSTAMP:20260425T091700
CREATED:20260301T232328Z
LAST-MODIFIED:20260301T232328Z
UID:10008306-1815485400-1815492600@www.fccminneapolis.org
SUMMARY:SHMC Clergy Meeting
DESCRIPTION:
URL:https://www.fccminneapolis.org/event/shmc-clergy-meeting-2-2-2/2027-07-13/
LOCATION:SHMC Esther Meeting Space (Lower Level)
END:VEVENT
BEGIN:VEVENT
DTSTART;TZID=America/Chicago:20270810T133000
DTEND;TZID=America/Chicago:20270810T153000
DTSTAMP:20260425T091700
CREATED:20260301T232328Z
LAST-MODIFIED:20260301T232328Z
UID:10008307-1817904600-1817911800@www.fccminneapolis.org
SUMMARY:SHMC Clergy Meeting
DESCRIPTION:
URL:https://www.fccminneapolis.org/event/shmc-clergy-meeting-2-2-2/2027-08-10/
LOCATION:SHMC Esther Meeting Space (Lower Level)
END:VEVENT
BEGIN:VEVENT
DTSTART;TZID=America/Chicago:20270914T133000
DTEND;TZID=America/Chicago:20270914T153000
DTSTAMP:20260425T091700
CREATED:20260301T232328Z
LAST-MODIFIED:20260301T232328Z
UID:10008308-1820928600-1820935800@www.fccminneapolis.org
SUMMARY:SHMC Clergy Meeting
DESCRIPTION:
URL:https://www.fccminneapolis.org/event/shmc-clergy-meeting-2-2-2/2027-09-14/
LOCATION:SHMC Esther Meeting Space (Lower Level)
END:VEVENT
BEGIN:VEVENT
DTSTART;TZID=America/Chicago:20271012T133000
DTEND;TZID=America/Chicago:20271012T153000
DTSTAMP:20260425T091700
CREATED:20260301T232328Z
LAST-MODIFIED:20260301T232328Z
UID:10008309-1823347800-1823355000@www.fccminneapolis.org
SUMMARY:SHMC Clergy Meeting
DESCRIPTION:
URL:https://www.fccminneapolis.org/event/shmc-clergy-meeting-2-2-2/2027-10-12/
LOCATION:SHMC Esther Meeting Space (Lower Level)
END:VEVENT
BEGIN:VEVENT
DTSTART;TZID=America/Chicago:20271109T133000
DTEND;TZID=America/Chicago:20271109T153000
DTSTAMP:20260425T091700
CREATED:20260301T232328Z
LAST-MODIFIED:20260301T232328Z
UID:10008310-1825767000-1825774200@www.fccminneapolis.org
SUMMARY:SHMC Clergy Meeting
DESCRIPTION:
URL:https://www.fccminneapolis.org/event/shmc-clergy-meeting-2-2-2/2027-11-09/
LOCATION:SHMC Esther Meeting Space (Lower Level)
END:VEVENT
BEGIN:VEVENT
DTSTART;TZID=America/Chicago:20271214T133000
DTEND;TZID=America/Chicago:20271214T153000
DTSTAMP:20260425T091700
CREATED:20260301T232328Z
LAST-MODIFIED:20260301T232328Z
UID:10008311-1828791000-1828798200@www.fccminneapolis.org
SUMMARY:SHMC Clergy Meeting
DESCRIPTION:
URL:https://www.fccminneapolis.org/event/shmc-clergy-meeting-2-2-2/2027-12-14/
LOCATION:SHMC Esther Meeting Space (Lower Level)
END:VEVENT
BEGIN:VEVENT
DTSTART;TZID=America/Chicago:20280111T133000
DTEND;TZID=America/Chicago:20280111T153000
DTSTAMP:20260425T091700
CREATED:20260301T232328Z
LAST-MODIFIED:20260301T232328Z
UID:10008312-1831210200-1831217400@www.fccminneapolis.org
SUMMARY:SHMC Clergy Meeting
DESCRIPTION:
URL:https://www.fccminneapolis.org/event/shmc-clergy-meeting-2-2-2/2028-01-11/
LOCATION:SHMC Esther Meeting Space (Lower Level)
END:VEVENT
BEGIN:VEVENT
DTSTART;TZID=America/Chicago:20280208T133000
DTEND;TZID=America/Chicago:20280208T153000
DTSTAMP:20260425T091700
CREATED:20260301T232328Z
LAST-MODIFIED:20260301T232328Z
UID:10008313-1833629400-1833636600@www.fccminneapolis.org
SUMMARY:SHMC Clergy Meeting
DESCRIPTION:
URL:https://www.fccminneapolis.org/event/shmc-clergy-meeting-2-2-2/2028-02-08/
LOCATION:SHMC Esther Meeting Space (Lower Level)
END:VEVENT
BEGIN:VEVENT
DTSTART;TZID=America/Chicago:20280314T133000
DTEND;TZID=America/Chicago:20280314T153000
DTSTAMP:20260425T091700
CREATED:20260301T232328Z
LAST-MODIFIED:20260301T232328Z
UID:10008314-1836653400-1836660600@www.fccminneapolis.org
SUMMARY:SHMC Clergy Meeting
DESCRIPTION:
URL:https://www.fccminneapolis.org/event/shmc-clergy-meeting-2-2-2/2028-03-14/
LOCATION:SHMC Esther Meeting Space (Lower Level)
END:VEVENT
BEGIN:VEVENT
DTSTART;TZID=America/Chicago:20280411T133000
DTEND;TZID=America/Chicago:20280411T153000
DTSTAMP:20260425T091700
CREATED:20260301T232328Z
LAST-MODIFIED:20260301T232328Z
UID:10008315-1839072600-1839079800@www.fccminneapolis.org
SUMMARY:SHMC Clergy Meeting
DESCRIPTION:
URL:https://www.fccminneapolis.org/event/shmc-clergy-meeting-2-2-2/2028-04-11/
LOCATION:SHMC Esther Meeting Space (Lower Level)
END:VEVENT
BEGIN:VEVENT
DTSTART;TZID=America/Chicago:20280509T133000
DTEND;TZID=America/Chicago:20280509T153000
DTSTAMP:20260425T091700
CREATED:20260301T232328Z
LAST-MODIFIED:20260301T232328Z
UID:10008316-1841491800-1841499000@www.fccminneapolis.org
SUMMARY:SHMC Clergy Meeting
DESCRIPTION:
URL:https://www.fccminneapolis.org/event/shmc-clergy-meeting-2-2-2/2028-05-09/
LOCATION:SHMC Esther Meeting Space (Lower Level)
END:VEVENT
BEGIN:VEVENT
DTSTART;TZID=America/Chicago:20280613T133000
DTEND;TZID=America/Chicago:20280613T153000
DTSTAMP:20260425T091700
CREATED:20260301T232328Z
LAST-MODIFIED:20260301T232328Z
UID:10008317-1844515800-1844523000@www.fccminneapolis.org
SUMMARY:SHMC Clergy Meeting
DESCRIPTION:
URL:https://www.fccminneapolis.org/event/shmc-clergy-meeting-2-2-2/2028-06-13/
LOCATION:SHMC Esther Meeting Space (Lower Level)
END:VEVENT
BEGIN:VEVENT
DTSTART;TZID=America/Chicago:20280711T133000
DTEND;TZID=America/Chicago:20280711T153000
DTSTAMP:20260425T091700
CREATED:20260301T232328Z
LAST-MODIFIED:20260301T232328Z
UID:10008318-1846935000-1846942200@www.fccminneapolis.org
SUMMARY:SHMC Clergy Meeting
DESCRIPTION:
URL:https://www.fccminneapolis.org/event/shmc-clergy-meeting-2-2-2/2028-07-11/
LOCATION:SHMC Esther Meeting Space (Lower Level)
END:VEVENT
BEGIN:VEVENT
DTSTART;TZID=America/Chicago:20280808T133000
DTEND;TZID=America/Chicago:20280808T153000
DTSTAMP:20260425T091700
CREATED:20260301T232328Z
LAST-MODIFIED:20260301T232328Z
UID:10008319-1849354200-1849361400@www.fccminneapolis.org
SUMMARY:SHMC Clergy Meeting
DESCRIPTION:
URL:https://www.fccminneapolis.org/event/shmc-clergy-meeting-2-2-2/2028-08-08/
LOCATION:SHMC Esther Meeting Space (Lower Level)
END:VEVENT
BEGIN:VEVENT
DTSTART;TZID=America/Chicago:20280912T133000
DTEND;TZID=America/Chicago:20280912T153000
DTSTAMP:20260425T091700
CREATED:20260301T232328Z
LAST-MODIFIED:20260301T232328Z
UID:10008320-1852378200-1852385400@www.fccminneapolis.org
SUMMARY:SHMC Clergy Meeting
DESCRIPTION:
URL:https://www.fccminneapolis.org/event/shmc-clergy-meeting-2-2-2/2028-09-12/
LOCATION:SHMC Esther Meeting Space (Lower Level)
END:VEVENT
BEGIN:VEVENT
DTSTART;TZID=America/Chicago:20281010T133000
DTEND;TZID=America/Chicago:20281010T153000
DTSTAMP:20260425T091700
CREATED:20260301T232328Z
LAST-MODIFIED:20260301T232328Z
UID:10008321-1854797400-1854804600@www.fccminneapolis.org
SUMMARY:SHMC Clergy Meeting
DESCRIPTION:
URL:https://www.fccminneapolis.org/event/shmc-clergy-meeting-2-2-2/2028-10-10/
LOCATION:SHMC Esther Meeting Space (Lower Level)
END:VEVENT
BEGIN:VEVENT
DTSTART;TZID=America/Chicago:20281114T133000
DTEND;TZID=America/Chicago:20281114T153000
DTSTAMP:20260425T091700
CREATED:20260301T232328Z
LAST-MODIFIED:20260301T232328Z
UID:10008322-1857821400-1857828600@www.fccminneapolis.org
SUMMARY:SHMC Clergy Meeting
DESCRIPTION:
URL:https://www.fccminneapolis.org/event/shmc-clergy-meeting-2-2-2/2028-11-14/
LOCATION:SHMC Esther Meeting Space (Lower Level)
END:VEVENT
BEGIN:VEVENT
DTSTART;TZID=America/Chicago:20281212T133000
DTEND;TZID=America/Chicago:20281212T153000
DTSTAMP:20260425T091700
CREATED:20260301T232328Z
LAST-MODIFIED:20260301T232328Z
UID:10008323-1860240600-1860247800@www.fccminneapolis.org
SUMMARY:SHMC Clergy Meeting
DESCRIPTION:
URL:https://www.fccminneapolis.org/event/shmc-clergy-meeting-2-2-2/2028-12-12/
LOCATION:SHMC Esther Meeting Space (Lower Level)
END:VEVENT
BEGIN:VEVENT
DTSTART;TZID=America/Chicago:20290109T133000
DTEND;TZID=America/Chicago:20290109T153000
DTSTAMP:20260425T091700
CREATED:20260301T232328Z
LAST-MODIFIED:20260301T232328Z
UID:10008324-1862659800-1862667000@www.fccminneapolis.org
SUMMARY:SHMC Clergy Meeting
DESCRIPTION:
URL:https://www.fccminneapolis.org/event/shmc-clergy-meeting-2-2-2/2029-01-09/
LOCATION:SHMC Esther Meeting Space (Lower Level)
END:VEVENT
BEGIN:VEVENT
DTSTART;TZID=America/Chicago:20290213T133000
DTEND;TZID=America/Chicago:20290213T153000
DTSTAMP:20260425T091700
CREATED:20260301T232328Z
LAST-MODIFIED:20260301T232328Z
UID:10008325-1865683800-1865691000@www.fccminneapolis.org
SUMMARY:SHMC Clergy Meeting
DESCRIPTION:
URL:https://www.fccminneapolis.org/event/shmc-clergy-meeting-2-2-2/2029-02-13/
LOCATION:SHMC Esther Meeting Space (Lower Level)
END:VEVENT
BEGIN:VEVENT
DTSTART;TZID=America/Chicago:20290313T133000
DTEND;TZID=America/Chicago:20290313T153000
DTSTAMP:20260425T091700
CREATED:20260301T232328Z
LAST-MODIFIED:20260301T232328Z
UID:10008326-1868103000-1868110200@www.fccminneapolis.org
SUMMARY:SHMC Clergy Meeting
DESCRIPTION:
URL:https://www.fccminneapolis.org/event/shmc-clergy-meeting-2-2-2/2029-03-13/
LOCATION:SHMC Esther Meeting Space (Lower Level)
END:VEVENT
BEGIN:VEVENT
DTSTART;TZID=America/Chicago:20290410T133000
DTEND;TZID=America/Chicago:20290410T153000
DTSTAMP:20260425T091700
CREATED:20260301T232328Z
LAST-MODIFIED:20260301T232328Z
UID:10008327-1870522200-1870529400@www.fccminneapolis.org
SUMMARY:SHMC Clergy Meeting
DESCRIPTION:
URL:https://www.fccminneapolis.org/event/shmc-clergy-meeting-2-2-2/2029-04-10/
LOCATION:SHMC Esther Meeting Space (Lower Level)
END:VEVENT
BEGIN:VEVENT
DTSTART;TZID=America/Chicago:20290508T133000
DTEND;TZID=America/Chicago:20290508T153000
DTSTAMP:20260425T091700
CREATED:20260301T232328Z
LAST-MODIFIED:20260301T232328Z
UID:10008328-1872941400-1872948600@www.fccminneapolis.org
SUMMARY:SHMC Clergy Meeting
DESCRIPTION:
URL:https://www.fccminneapolis.org/event/shmc-clergy-meeting-2-2-2/2029-05-08/
LOCATION:SHMC Esther Meeting Space (Lower Level)
END:VEVENT
BEGIN:VEVENT
DTSTART;TZID=America/Chicago:20290612T133000
DTEND;TZID=America/Chicago:20290612T153000
DTSTAMP:20260425T091700
CREATED:20260301T232328Z
LAST-MODIFIED:20260301T232328Z
UID:10008329-1875965400-1875972600@www.fccminneapolis.org
SUMMARY:SHMC Clergy Meeting
DESCRIPTION:
URL:https://www.fccminneapolis.org/event/shmc-clergy-meeting-2-2-2/2029-06-12/
LOCATION:SHMC Esther Meeting Space (Lower Level)
END:VEVENT
BEGIN:VEVENT
DTSTART;TZID=America/Chicago:20290710T133000
DTEND;TZID=America/Chicago:20290710T153000
DTSTAMP:20260425T091700
CREATED:20260301T232328Z
LAST-MODIFIED:20260301T232328Z
UID:10008330-1878384600-1878391800@www.fccminneapolis.org
SUMMARY:SHMC Clergy Meeting
DESCRIPTION:
URL:https://www.fccminneapolis.org/event/shmc-clergy-meeting-2-2-2/2029-07-10/
LOCATION:SHMC Esther Meeting Space (Lower Level)
END:VEVENT
BEGIN:VEVENT
DTSTART;TZID=America/Chicago:20290814T133000
DTEND;TZID=America/Chicago:20290814T153000
DTSTAMP:20260425T091700
CREATED:20260301T232328Z
LAST-MODIFIED:20260301T232328Z
UID:10008331-1881408600-1881415800@www.fccminneapolis.org
SUMMARY:SHMC Clergy Meeting
DESCRIPTION:
URL:https://www.fccminneapolis.org/event/shmc-clergy-meeting-2-2-2/2029-08-14/
LOCATION:SHMC Esther Meeting Space (Lower Level)
END:VEVENT
BEGIN:VEVENT
DTSTART;TZID=America/Chicago:20290911T133000
DTEND;TZID=America/Chicago:20290911T153000
DTSTAMP:20260425T091700
CREATED:20260301T232328Z
LAST-MODIFIED:20260301T232328Z
UID:10008332-1883827800-1883835000@www.fccminneapolis.org
SUMMARY:SHMC Clergy Meeting
DESCRIPTION:
URL:https://www.fccminneapolis.org/event/shmc-clergy-meeting-2-2-2/2029-09-11/
LOCATION:SHMC Esther Meeting Space (Lower Level)
END:VEVENT
BEGIN:VEVENT
DTSTART;TZID=America/Chicago:20291009T133000
DTEND;TZID=America/Chicago:20291009T153000
DTSTAMP:20260425T091700
CREATED:20260301T232328Z
LAST-MODIFIED:20260301T232328Z
UID:10008333-1886247000-1886254200@www.fccminneapolis.org
SUMMARY:SHMC Clergy Meeting
DESCRIPTION:
URL:https://www.fccminneapolis.org/event/shmc-clergy-meeting-2-2-2/2029-10-09/
LOCATION:SHMC Esther Meeting Space (Lower Level)
END:VEVENT
END:VCALENDAR