BEGIN:VCALENDAR
VERSION:2.0
PRODID:-//First Christian Church (Disciples of Christ) - ECPv6.15.13//NONSGML v1.0//EN
CALSCALE:GREGORIAN
METHOD:PUBLISH
X-WR-CALNAME:First Christian Church (Disciples of Christ)
X-ORIGINAL-URL:https://www.fccminneapolis.org
X-WR-CALDESC:Events for First Christian Church (Disciples of Christ)
REFRESH-INTERVAL;VALUE=DURATION:PT1H
X-Robots-Tag:noindex
X-PUBLISHED-TTL:PT1H
BEGIN:VTIMEZONE
TZID:America/Chicago
BEGIN:DAYLIGHT
TZOFFSETFROM:-0600
TZOFFSETTO:-0500
TZNAME:CDT
DTSTART:20210314T080000
END:DAYLIGHT
BEGIN:STANDARD
TZOFFSETFROM:-0500
TZOFFSETTO:-0600
TZNAME:CST
DTSTART:20211107T070000
END:STANDARD
BEGIN:DAYLIGHT
TZOFFSETFROM:-0600
TZOFFSETTO:-0500
TZNAME:CDT
DTSTART:20220313T080000
END:DAYLIGHT
BEGIN:STANDARD
TZOFFSETFROM:-0500
TZOFFSETTO:-0600
TZNAME:CST
DTSTART:20221106T070000
END:STANDARD
BEGIN:DAYLIGHT
TZOFFSETFROM:-0600
TZOFFSETTO:-0500
TZNAME:CDT
DTSTART:20230312T080000
END:DAYLIGHT
BEGIN:STANDARD
TZOFFSETFROM:-0500
TZOFFSETTO:-0600
TZNAME:CST
DTSTART:20231105T070000
END:STANDARD
BEGIN:DAYLIGHT
TZOFFSETFROM:-0600
TZOFFSETTO:-0500
TZNAME:CDT
DTSTART:20240310T080000
END:DAYLIGHT
BEGIN:STANDARD
TZOFFSETFROM:-0500
TZOFFSETTO:-0600
TZNAME:CST
DTSTART:20241103T070000
END:STANDARD
END:VTIMEZONE
BEGIN:VEVENT
DTSTART;TZID=America/Chicago:20230307T190000
DTEND;TZID=America/Chicago:20230307T200000
DTSTAMP:20260425T223748
CREATED:20221215T220805Z
LAST-MODIFIED:20221215T220805Z
UID:10002234-1678215600-1678219200@www.fccminneapolis.org
SUMMARY:the stable
DESCRIPTION:Rev. Jia Starr Brown (one of our members) invites us to join her Tuesday evenings at 7:00 pm online for “the stable” \nThe Church\, in its current form\, isn’t working.\nEdison defined “insanity” very well…change is needed. \n“the stable” (lowercase intentional) is a Christian-centered gathering community with NO money expectations\, fancy veneer\, agendas\, or ambiguity. NO power trips\, privilege\, and programs over PEOPLE… \n…just Jesus and us broken humans coming together for some truth-telling preaching (from the fringes!0 and teaching\, all in about an hour…on a Tuesday. \nAnd\, NO membership required. Both Pastors and their parishioners can tune in on Tuesday evenings at 7:00 pm to hear a preached sermon (sermon prep\, perhaps?) using the Scripture from the Lectionary for the upcoming Sunday.
URL:https://www.fccminneapolis.org/event/the-stable-2/2023-03-07/
LOCATION:Online
END:VEVENT
BEGIN:VEVENT
DTSTART;TZID=America/Chicago:20230228T190000
DTEND;TZID=America/Chicago:20230228T200000
DTSTAMP:20260425T223748
CREATED:20221215T220805Z
LAST-MODIFIED:20221215T220805Z
UID:10002233-1677610800-1677614400@www.fccminneapolis.org
SUMMARY:the stable
DESCRIPTION:Rev. Jia Starr Brown (one of our members) invites us to join her Tuesday evenings at 7:00 pm online for “the stable” \nThe Church\, in its current form\, isn’t working.\nEdison defined “insanity” very well…change is needed. \n“the stable” (lowercase intentional) is a Christian-centered gathering community with NO money expectations\, fancy veneer\, agendas\, or ambiguity. NO power trips\, privilege\, and programs over PEOPLE… \n…just Jesus and us broken humans coming together for some truth-telling preaching (from the fringes!0 and teaching\, all in about an hour…on a Tuesday. \nAnd\, NO membership required. Both Pastors and their parishioners can tune in on Tuesday evenings at 7:00 pm to hear a preached sermon (sermon prep\, perhaps?) using the Scripture from the Lectionary for the upcoming Sunday.
URL:https://www.fccminneapolis.org/event/the-stable-2/2023-02-28/
LOCATION:Online
END:VEVENT
BEGIN:VEVENT
DTSTART;TZID=America/Chicago:20230226T140000
DTEND;TZID=America/Chicago:20230226T150000
DTSTAMP:20260425T223748
CREATED:20221226T222336Z
LAST-MODIFIED:20221226T222336Z
UID:10002532-1677420000-1677423600@www.fccminneapolis.org
SUMMARY:SpringHouse Board Meeting
DESCRIPTION:
URL:https://www.fccminneapolis.org/event/springhouse-board-meeting-3/2023-02-26/
LOCATION:Online
CATEGORIES:SpringHouse Joint Ministries
END:VEVENT
BEGIN:VEVENT
DTSTART;TZID=America/Chicago:20230221T190000
DTEND;TZID=America/Chicago:20230221T200000
DTSTAMP:20260425T223748
CREATED:20221215T220805Z
LAST-MODIFIED:20221215T220805Z
UID:10002232-1677006000-1677009600@www.fccminneapolis.org
SUMMARY:the stable
DESCRIPTION:Rev. Jia Starr Brown (one of our members) invites us to join her Tuesday evenings at 7:00 pm online for “the stable” \nThe Church\, in its current form\, isn’t working.\nEdison defined “insanity” very well…change is needed. \n“the stable” (lowercase intentional) is a Christian-centered gathering community with NO money expectations\, fancy veneer\, agendas\, or ambiguity. NO power trips\, privilege\, and programs over PEOPLE… \n…just Jesus and us broken humans coming together for some truth-telling preaching (from the fringes!0 and teaching\, all in about an hour…on a Tuesday. \nAnd\, NO membership required. Both Pastors and their parishioners can tune in on Tuesday evenings at 7:00 pm to hear a preached sermon (sermon prep\, perhaps?) using the Scripture from the Lectionary for the upcoming Sunday.
URL:https://www.fccminneapolis.org/event/the-stable-2/2023-02-21/
LOCATION:Online
END:VEVENT
BEGIN:VEVENT
DTSTART;TZID=America/Chicago:20230220T190000
DTEND;TZID=America/Chicago:20230220T200000
DTSTAMP:20260425T223748
CREATED:20221122T202354Z
LAST-MODIFIED:20221122T202354Z
UID:10001487-1676919600-1676923200@www.fccminneapolis.org
SUMMARY:Book Group
DESCRIPTION:February selection: \nDeacon King Kong by James McBride
URL:https://www.fccminneapolis.org/event/book-group-14/
LOCATION:Online
CATEGORIES:Book Group
END:VEVENT
BEGIN:VEVENT
DTSTART;TZID=America/Chicago:20230214T190000
DTEND;TZID=America/Chicago:20230214T200000
DTSTAMP:20260425T223748
CREATED:20221215T220805Z
LAST-MODIFIED:20221215T220805Z
UID:10002231-1676401200-1676404800@www.fccminneapolis.org
SUMMARY:the stable
DESCRIPTION:Rev. Jia Starr Brown (one of our members) invites us to join her Tuesday evenings at 7:00 pm online for “the stable” \nThe Church\, in its current form\, isn’t working.\nEdison defined “insanity” very well…change is needed. \n“the stable” (lowercase intentional) is a Christian-centered gathering community with NO money expectations\, fancy veneer\, agendas\, or ambiguity. NO power trips\, privilege\, and programs over PEOPLE… \n…just Jesus and us broken humans coming together for some truth-telling preaching (from the fringes!0 and teaching\, all in about an hour…on a Tuesday. \nAnd\, NO membership required. Both Pastors and their parishioners can tune in on Tuesday evenings at 7:00 pm to hear a preached sermon (sermon prep\, perhaps?) using the Scripture from the Lectionary for the upcoming Sunday.
URL:https://www.fccminneapolis.org/event/the-stable-2/2023-02-14/
LOCATION:Online
END:VEVENT
BEGIN:VEVENT
DTSTART;TZID=America/Chicago:20230213T190000
DTEND;TZID=America/Chicago:20230213T210000
DTSTAMP:20260425T223748
CREATED:20221215T222157Z
LAST-MODIFIED:20241224T201559Z
UID:10002354-1676314800-1676322000@www.fccminneapolis.org
SUMMARY:SHMC Finance Committee
DESCRIPTION:
URL:https://www.fccminneapolis.org/event/shmc-finance-committee-4/2023-02-13/
LOCATION:Online
CATEGORIES:SpringHouse Joint Ministries
END:VEVENT
BEGIN:VEVENT
DTSTART;TZID=America/Chicago:20230213T170000
DTEND;TZID=America/Chicago:20230213T183000
DTSTAMP:20260425T223748
CREATED:20221215T221953Z
LAST-MODIFIED:20241224T201517Z
UID:10002342-1676307600-1676313000@www.fccminneapolis.org
SUMMARY:SHMC Building Committee
DESCRIPTION:
URL:https://www.fccminneapolis.org/event/shmc-building-committee-5/2023-02-13/
LOCATION:Online
CATEGORIES:SpringHouse Joint Ministries
END:VEVENT
BEGIN:VEVENT
DTSTART;TZID=America/Chicago:20230207T190000
DTEND;TZID=America/Chicago:20230207T200000
DTSTAMP:20260425T223748
CREATED:20221215T220805Z
LAST-MODIFIED:20221215T220805Z
UID:10002230-1675796400-1675800000@www.fccminneapolis.org
SUMMARY:the stable
DESCRIPTION:Rev. Jia Starr Brown (one of our members) invites us to join her Tuesday evenings at 7:00 pm online for “the stable” \nThe Church\, in its current form\, isn’t working.\nEdison defined “insanity” very well…change is needed. \n“the stable” (lowercase intentional) is a Christian-centered gathering community with NO money expectations\, fancy veneer\, agendas\, or ambiguity. NO power trips\, privilege\, and programs over PEOPLE… \n…just Jesus and us broken humans coming together for some truth-telling preaching (from the fringes!0 and teaching\, all in about an hour…on a Tuesday. \nAnd\, NO membership required. Both Pastors and their parishioners can tune in on Tuesday evenings at 7:00 pm to hear a preached sermon (sermon prep\, perhaps?) using the Scripture from the Lectionary for the upcoming Sunday.
URL:https://www.fccminneapolis.org/event/the-stable-2/2023-02-07/
LOCATION:Online
END:VEVENT
BEGIN:VEVENT
DTSTART;TZID=America/Chicago:20230131T190000
DTEND;TZID=America/Chicago:20230131T200000
DTSTAMP:20260425T223748
CREATED:20221215T220805Z
LAST-MODIFIED:20221215T220805Z
UID:10002229-1675191600-1675195200@www.fccminneapolis.org
SUMMARY:the stable
DESCRIPTION:Rev. Jia Starr Brown (one of our members) invites us to join her Tuesday evenings at 7:00 pm online for “the stable” \nThe Church\, in its current form\, isn’t working.\nEdison defined “insanity” very well…change is needed. \n“the stable” (lowercase intentional) is a Christian-centered gathering community with NO money expectations\, fancy veneer\, agendas\, or ambiguity. NO power trips\, privilege\, and programs over PEOPLE… \n…just Jesus and us broken humans coming together for some truth-telling preaching (from the fringes!0 and teaching\, all in about an hour…on a Tuesday. \nAnd\, NO membership required. Both Pastors and their parishioners can tune in on Tuesday evenings at 7:00 pm to hear a preached sermon (sermon prep\, perhaps?) using the Scripture from the Lectionary for the upcoming Sunday.
URL:https://www.fccminneapolis.org/event/the-stable-2/2023-01-31/
LOCATION:Online
END:VEVENT
BEGIN:VEVENT
DTSTART;TZID=America/Chicago:20230124T190000
DTEND;TZID=America/Chicago:20230124T200000
DTSTAMP:20260425T223748
CREATED:20221215T220805Z
LAST-MODIFIED:20221215T220805Z
UID:10002228-1674586800-1674590400@www.fccminneapolis.org
SUMMARY:the stable
DESCRIPTION:Rev. Jia Starr Brown (one of our members) invites us to join her Tuesday evenings at 7:00 pm online for “the stable” \nThe Church\, in its current form\, isn’t working.\nEdison defined “insanity” very well…change is needed. \n“the stable” (lowercase intentional) is a Christian-centered gathering community with NO money expectations\, fancy veneer\, agendas\, or ambiguity. NO power trips\, privilege\, and programs over PEOPLE… \n…just Jesus and us broken humans coming together for some truth-telling preaching (from the fringes!0 and teaching\, all in about an hour…on a Tuesday. \nAnd\, NO membership required. Both Pastors and their parishioners can tune in on Tuesday evenings at 7:00 pm to hear a preached sermon (sermon prep\, perhaps?) using the Scripture from the Lectionary for the upcoming Sunday.
URL:https://www.fccminneapolis.org/event/the-stable-2/2023-01-24/
LOCATION:Online
END:VEVENT
BEGIN:VEVENT
DTSTART;TZID=America/Chicago:20230117T190000
DTEND;TZID=America/Chicago:20230117T200000
DTSTAMP:20260425T223748
CREATED:20221215T220805Z
LAST-MODIFIED:20221215T220805Z
UID:10002227-1673982000-1673985600@www.fccminneapolis.org
SUMMARY:the stable
DESCRIPTION:Rev. Jia Starr Brown (one of our members) invites us to join her Tuesday evenings at 7:00 pm online for “the stable” \nThe Church\, in its current form\, isn’t working.\nEdison defined “insanity” very well…change is needed. \n“the stable” (lowercase intentional) is a Christian-centered gathering community with NO money expectations\, fancy veneer\, agendas\, or ambiguity. NO power trips\, privilege\, and programs over PEOPLE… \n…just Jesus and us broken humans coming together for some truth-telling preaching (from the fringes!0 and teaching\, all in about an hour…on a Tuesday. \nAnd\, NO membership required. Both Pastors and their parishioners can tune in on Tuesday evenings at 7:00 pm to hear a preached sermon (sermon prep\, perhaps?) using the Scripture from the Lectionary for the upcoming Sunday.
URL:https://www.fccminneapolis.org/event/the-stable-2/2023-01-17/
LOCATION:Online
END:VEVENT
BEGIN:VEVENT
DTSTART;TZID=America/Chicago:20230116T190000
DTEND;TZID=America/Chicago:20230116T200000
DTSTAMP:20260425T223748
CREATED:20221122T192927Z
LAST-MODIFIED:20221122T192927Z
UID:10001486-1673895600-1673899200@www.fccminneapolis.org
SUMMARY:Book Group
DESCRIPTION:January selection: \nPrague Winter by Madeleine Albright
URL:https://www.fccminneapolis.org/event/book-group-13/
LOCATION:Online
CATEGORIES:Book Group
END:VEVENT
BEGIN:VEVENT
DTSTART;TZID=America/Chicago:20230114T100000
DTEND;TZID=America/Chicago:20230114T110000
DTSTAMP:20260425T223748
CREATED:20221221T223915Z
LAST-MODIFIED:20221221T223915Z
UID:10002460-1673690400-1673694000@www.fccminneapolis.org
SUMMARY:Trustees Meeting
DESCRIPTION:
URL:https://www.fccminneapolis.org/event/trustees-meeting-3/
LOCATION:Online
CATEGORIES:FCC Meetings
END:VEVENT
BEGIN:VEVENT
DTSTART;TZID=America/Chicago:20230110T190000
DTEND;TZID=America/Chicago:20230110T200000
DTSTAMP:20260425T223748
CREATED:20221215T220805Z
LAST-MODIFIED:20221215T220805Z
UID:10002226-1673377200-1673380800@www.fccminneapolis.org
SUMMARY:the stable
DESCRIPTION:Rev. Jia Starr Brown (one of our members) invites us to join her Tuesday evenings at 7:00 pm online for “the stable” \nThe Church\, in its current form\, isn’t working.\nEdison defined “insanity” very well…change is needed. \n“the stable” (lowercase intentional) is a Christian-centered gathering community with NO money expectations\, fancy veneer\, agendas\, or ambiguity. NO power trips\, privilege\, and programs over PEOPLE… \n…just Jesus and us broken humans coming together for some truth-telling preaching (from the fringes!0 and teaching\, all in about an hour…on a Tuesday. \nAnd\, NO membership required. Both Pastors and their parishioners can tune in on Tuesday evenings at 7:00 pm to hear a preached sermon (sermon prep\, perhaps?) using the Scripture from the Lectionary for the upcoming Sunday.
URL:https://www.fccminneapolis.org/event/the-stable-2/2023-01-10/
LOCATION:Online
END:VEVENT
BEGIN:VEVENT
DTSTART;TZID=America/Chicago:20230109T190000
DTEND;TZID=America/Chicago:20230109T210000
DTSTAMP:20260425T223748
CREATED:20221215T222157Z
LAST-MODIFIED:20241224T201559Z
UID:10002353-1673290800-1673298000@www.fccminneapolis.org
SUMMARY:SHMC Finance Committee
DESCRIPTION:
URL:https://www.fccminneapolis.org/event/shmc-finance-committee-4/2023-01-09/
LOCATION:Online
CATEGORIES:SpringHouse Joint Ministries
END:VEVENT
BEGIN:VEVENT
DTSTART;TZID=America/Chicago:20230109T170000
DTEND;TZID=America/Chicago:20230109T183000
DTSTAMP:20260425T223748
CREATED:20221215T221953Z
LAST-MODIFIED:20241224T201517Z
UID:10002341-1673283600-1673289000@www.fccminneapolis.org
SUMMARY:SHMC Building Committee
DESCRIPTION:
URL:https://www.fccminneapolis.org/event/shmc-building-committee-5/2023-01-09/
LOCATION:Online
CATEGORIES:SpringHouse Joint Ministries
END:VEVENT
BEGIN:VEVENT
DTSTART;TZID=America/Chicago:20230103T190000
DTEND;TZID=America/Chicago:20230103T200000
DTSTAMP:20260425T223748
CREATED:20221215T220805Z
LAST-MODIFIED:20221215T220805Z
UID:10002225-1672772400-1672776000@www.fccminneapolis.org
SUMMARY:the stable
DESCRIPTION:Rev. Jia Starr Brown (one of our members) invites us to join her Tuesday evenings at 7:00 pm online for “the stable” \nThe Church\, in its current form\, isn’t working.\nEdison defined “insanity” very well…change is needed. \n“the stable” (lowercase intentional) is a Christian-centered gathering community with NO money expectations\, fancy veneer\, agendas\, or ambiguity. NO power trips\, privilege\, and programs over PEOPLE… \n…just Jesus and us broken humans coming together for some truth-telling preaching (from the fringes!0 and teaching\, all in about an hour…on a Tuesday. \nAnd\, NO membership required. Both Pastors and their parishioners can tune in on Tuesday evenings at 7:00 pm to hear a preached sermon (sermon prep\, perhaps?) using the Scripture from the Lectionary for the upcoming Sunday.
URL:https://www.fccminneapolis.org/event/the-stable-2/2023-01-03/
LOCATION:Online
END:VEVENT
BEGIN:VEVENT
DTSTART;TZID=America/Chicago:20221227T190000
DTEND;TZID=America/Chicago:20221227T200000
DTSTAMP:20260425T223748
CREATED:20221027T185430Z
LAST-MODIFIED:20221027T185430Z
UID:10001453-1672167600-1672171200@www.fccminneapolis.org
SUMMARY:the stable
DESCRIPTION:Rev. Jia Starr Brown (one of our members) invites us to join her Tuesday evenings at 7:00 pm online for “the stable” \nThe Church\, in its current form\, isn’t working.\nEdison defined “insanity” very well…change is needed. \n“the stable” (lowercase intentional) is a Christian-centered gathering community with NO money expectations\, fancy veneer\, agendas\, or ambiguity. NO power trips\, privilege\, and programs over PEOPLE… \n…just Jesus and us broken humans coming together for some truth-telling preaching (from the fringes!0 and teaching\, all in about an hour…on a Tuesday. \nAnd\, NO membership required. Both Pastors and their parishioners can tune in on Tuesday evenings at 7:00 pm to hear a preached sermon (sermon prep\, perhaps?) using the Scripture from the Lectionary for the upcoming Sunday.
URL:https://www.fccminneapolis.org/event/the-stable/2022-12-27/
LOCATION:Online
END:VEVENT
BEGIN:VEVENT
DTSTART;TZID=America/Chicago:20221220T190000
DTEND;TZID=America/Chicago:20221220T200000
DTSTAMP:20260425T223748
CREATED:20221027T185430Z
LAST-MODIFIED:20221027T185430Z
UID:10001452-1671562800-1671566400@www.fccminneapolis.org
SUMMARY:the stable
DESCRIPTION:Rev. Jia Starr Brown (one of our members) invites us to join her Tuesday evenings at 7:00 pm online for “the stable” \nThe Church\, in its current form\, isn’t working.\nEdison defined “insanity” very well…change is needed. \n“the stable” (lowercase intentional) is a Christian-centered gathering community with NO money expectations\, fancy veneer\, agendas\, or ambiguity. NO power trips\, privilege\, and programs over PEOPLE… \n…just Jesus and us broken humans coming together for some truth-telling preaching (from the fringes!0 and teaching\, all in about an hour…on a Tuesday. \nAnd\, NO membership required. Both Pastors and their parishioners can tune in on Tuesday evenings at 7:00 pm to hear a preached sermon (sermon prep\, perhaps?) using the Scripture from the Lectionary for the upcoming Sunday.
URL:https://www.fccminneapolis.org/event/the-stable/2022-12-20/
LOCATION:Online
END:VEVENT
BEGIN:VEVENT
DTSTART;TZID=America/Chicago:20221213T190000
DTEND;TZID=America/Chicago:20221213T200000
DTSTAMP:20260425T223748
CREATED:20221027T185430Z
LAST-MODIFIED:20221027T185430Z
UID:10001451-1670958000-1670961600@www.fccminneapolis.org
SUMMARY:the stable
DESCRIPTION:Rev. Jia Starr Brown (one of our members) invites us to join her Tuesday evenings at 7:00 pm online for “the stable” \nThe Church\, in its current form\, isn’t working.\nEdison defined “insanity” very well…change is needed. \n“the stable” (lowercase intentional) is a Christian-centered gathering community with NO money expectations\, fancy veneer\, agendas\, or ambiguity. NO power trips\, privilege\, and programs over PEOPLE… \n…just Jesus and us broken humans coming together for some truth-telling preaching (from the fringes!0 and teaching\, all in about an hour…on a Tuesday. \nAnd\, NO membership required. Both Pastors and their parishioners can tune in on Tuesday evenings at 7:00 pm to hear a preached sermon (sermon prep\, perhaps?) using the Scripture from the Lectionary for the upcoming Sunday.
URL:https://www.fccminneapolis.org/event/the-stable/2022-12-13/
LOCATION:Online
END:VEVENT
BEGIN:VEVENT
DTSTART;TZID=America/Chicago:20221212T190000
DTEND;TZID=America/Chicago:20221212T210000
DTSTAMP:20260425T223748
CREATED:20221128T205251Z
LAST-MODIFIED:20221128T205251Z
UID:10001494-1670871600-1670878800@www.fccminneapolis.org
SUMMARY:SHMC Finance Committee
DESCRIPTION:
URL:https://www.fccminneapolis.org/event/shmc-finance-committee-3/
LOCATION:Online
CATEGORIES:SpringHouse Joint Ministries
END:VEVENT
BEGIN:VEVENT
DTSTART;TZID=America/Chicago:20221212T170000
DTEND;TZID=America/Chicago:20221212T183000
DTSTAMP:20260425T223748
CREATED:20211229T135525Z
LAST-MODIFIED:20221128T205147Z
UID:10001493-1670864400-1670869800@www.fccminneapolis.org
SUMMARY:SHMC Building Committee
DESCRIPTION:
URL:https://www.fccminneapolis.org/event/shmc-building-committee-4/2022-12-12/
LOCATION:Online
CATEGORIES:SpringHouse Joint Ministries
END:VEVENT
BEGIN:VEVENT
DTSTART;TZID=America/Chicago:20221206T190000
DTEND;TZID=America/Chicago:20221206T200000
DTSTAMP:20260425T223748
CREATED:20221027T185430Z
LAST-MODIFIED:20221027T185430Z
UID:10001450-1670353200-1670356800@www.fccminneapolis.org
SUMMARY:the stable
DESCRIPTION:Rev. Jia Starr Brown (one of our members) invites us to join her Tuesday evenings at 7:00 pm online for “the stable” \nThe Church\, in its current form\, isn’t working.\nEdison defined “insanity” very well…change is needed. \n“the stable” (lowercase intentional) is a Christian-centered gathering community with NO money expectations\, fancy veneer\, agendas\, or ambiguity. NO power trips\, privilege\, and programs over PEOPLE… \n…just Jesus and us broken humans coming together for some truth-telling preaching (from the fringes!0 and teaching\, all in about an hour…on a Tuesday. \nAnd\, NO membership required. Both Pastors and their parishioners can tune in on Tuesday evenings at 7:00 pm to hear a preached sermon (sermon prep\, perhaps?) using the Scripture from the Lectionary for the upcoming Sunday.
URL:https://www.fccminneapolis.org/event/the-stable/2022-12-06/
LOCATION:Online
END:VEVENT
BEGIN:VEVENT
DTSTART;TZID=America/Chicago:20221205T190000
DTEND;TZID=America/Chicago:20221205T210000
DTSTAMP:20260425T223749
CREATED:20220930T115734Z
LAST-MODIFIED:20220930T115734Z
UID:10001411-1670266800-1670274000@www.fccminneapolis.org
SUMMARY:Women's Fellowship
DESCRIPTION:
URL:https://www.fccminneapolis.org/event/womens-fellowship-7/2022-12-05/
LOCATION:Online
CATEGORIES:Women's Fellowship
END:VEVENT
BEGIN:VEVENT
DTSTART;TZID=America/Chicago:20221129T190000
DTEND;TZID=America/Chicago:20221129T200000
DTSTAMP:20260425T223749
CREATED:20221027T185430Z
LAST-MODIFIED:20221027T185430Z
UID:10001449-1669748400-1669752000@www.fccminneapolis.org
SUMMARY:the stable
DESCRIPTION:Rev. Jia Starr Brown (one of our members) invites us to join her Tuesday evenings at 7:00 pm online for “the stable” \nThe Church\, in its current form\, isn’t working.\nEdison defined “insanity” very well…change is needed. \n“the stable” (lowercase intentional) is a Christian-centered gathering community with NO money expectations\, fancy veneer\, agendas\, or ambiguity. NO power trips\, privilege\, and programs over PEOPLE… \n…just Jesus and us broken humans coming together for some truth-telling preaching (from the fringes!0 and teaching\, all in about an hour…on a Tuesday. \nAnd\, NO membership required. Both Pastors and their parishioners can tune in on Tuesday evenings at 7:00 pm to hear a preached sermon (sermon prep\, perhaps?) using the Scripture from the Lectionary for the upcoming Sunday.
URL:https://www.fccminneapolis.org/event/the-stable/2022-11-29/
LOCATION:Online
END:VEVENT
BEGIN:VEVENT
DTSTART;TZID=America/Chicago:20221122T190000
DTEND;TZID=America/Chicago:20221122T200000
DTSTAMP:20260425T223749
CREATED:20221027T185430Z
LAST-MODIFIED:20221027T185430Z
UID:10001448-1669143600-1669147200@www.fccminneapolis.org
SUMMARY:the stable
DESCRIPTION:Rev. Jia Starr Brown (one of our members) invites us to join her Tuesday evenings at 7:00 pm online for “the stable” \nThe Church\, in its current form\, isn’t working.\nEdison defined “insanity” very well…change is needed. \n“the stable” (lowercase intentional) is a Christian-centered gathering community with NO money expectations\, fancy veneer\, agendas\, or ambiguity. NO power trips\, privilege\, and programs over PEOPLE… \n…just Jesus and us broken humans coming together for some truth-telling preaching (from the fringes!0 and teaching\, all in about an hour…on a Tuesday. \nAnd\, NO membership required. Both Pastors and their parishioners can tune in on Tuesday evenings at 7:00 pm to hear a preached sermon (sermon prep\, perhaps?) using the Scripture from the Lectionary for the upcoming Sunday.
URL:https://www.fccminneapolis.org/event/the-stable/2022-11-22/
LOCATION:Online
END:VEVENT
BEGIN:VEVENT
DTSTART;TZID=America/Chicago:20221121T190000
DTEND;TZID=America/Chicago:20221121T210000
DTSTAMP:20260425T223749
CREATED:20220915T125200Z
LAST-MODIFIED:20220915T125200Z
UID:10000919-1669057200-1669064400@www.fccminneapolis.org
SUMMARY:Book Group
DESCRIPTION:November selection: \nSimon the Fiddler by Paulette Jiles
URL:https://www.fccminneapolis.org/event/book-group-12/
LOCATION:Online
CATEGORIES:Book Group
END:VEVENT
BEGIN:VEVENT
DTSTART;TZID=America/Chicago:20221115T190000
DTEND;TZID=America/Chicago:20221115T200000
DTSTAMP:20260425T223749
CREATED:20221027T185430Z
LAST-MODIFIED:20221027T185430Z
UID:10001447-1668538800-1668542400@www.fccminneapolis.org
SUMMARY:the stable
DESCRIPTION:Rev. Jia Starr Brown (one of our members) invites us to join her Tuesday evenings at 7:00 pm online for “the stable” \nThe Church\, in its current form\, isn’t working.\nEdison defined “insanity” very well…change is needed. \n“the stable” (lowercase intentional) is a Christian-centered gathering community with NO money expectations\, fancy veneer\, agendas\, or ambiguity. NO power trips\, privilege\, and programs over PEOPLE… \n…just Jesus and us broken humans coming together for some truth-telling preaching (from the fringes!0 and teaching\, all in about an hour…on a Tuesday. \nAnd\, NO membership required. Both Pastors and their parishioners can tune in on Tuesday evenings at 7:00 pm to hear a preached sermon (sermon prep\, perhaps?) using the Scripture from the Lectionary for the upcoming Sunday.
URL:https://www.fccminneapolis.org/event/the-stable/2022-11-15/
LOCATION:Online
END:VEVENT
BEGIN:VEVENT
DTSTART;TZID=America/Chicago:20221113T140000
DTEND;TZID=America/Chicago:20221113T150000
DTSTAMP:20260425T223749
CREATED:20220217T153536Z
LAST-MODIFIED:20220217T153536Z
UID:10001264-1668348000-1668351600@www.fccminneapolis.org
SUMMARY:SpringHouse Board Meeting
DESCRIPTION:
URL:https://www.fccminneapolis.org/event/springhouse-board-meeting-2/2022-11-13/
LOCATION:Online
CATEGORIES:SpringHouse Joint Ministries
END:VEVENT
END:VCALENDAR