BEGIN:VCALENDAR
VERSION:2.0
PRODID:-//First Christian Church (Disciples of Christ) - ECPv6.15.13//NONSGML v1.0//EN
CALSCALE:GREGORIAN
METHOD:PUBLISH
X-ORIGINAL-URL:https://www.fccminneapolis.org
X-WR-CALDESC:Events for First Christian Church (Disciples of Christ)
REFRESH-INTERVAL;VALUE=DURATION:PT1H
X-Robots-Tag:noindex
X-PUBLISHED-TTL:PT1H
BEGIN:VTIMEZONE
TZID:America/Chicago
BEGIN:DAYLIGHT
TZOFFSETFROM:-0600
TZOFFSETTO:-0500
TZNAME:CDT
DTSTART:20220313T080000
END:DAYLIGHT
BEGIN:STANDARD
TZOFFSETFROM:-0500
TZOFFSETTO:-0600
TZNAME:CST
DTSTART:20221106T070000
END:STANDARD
BEGIN:DAYLIGHT
TZOFFSETFROM:-0600
TZOFFSETTO:-0500
TZNAME:CDT
DTSTART:20230312T080000
END:DAYLIGHT
BEGIN:STANDARD
TZOFFSETFROM:-0500
TZOFFSETTO:-0600
TZNAME:CST
DTSTART:20231105T070000
END:STANDARD
BEGIN:DAYLIGHT
TZOFFSETFROM:-0600
TZOFFSETTO:-0500
TZNAME:CDT
DTSTART:20240310T080000
END:DAYLIGHT
BEGIN:STANDARD
TZOFFSETFROM:-0500
TZOFFSETTO:-0600
TZNAME:CST
DTSTART:20241103T070000
END:STANDARD
BEGIN:DAYLIGHT
TZOFFSETFROM:-0600
TZOFFSETTO:-0500
TZNAME:CDT
DTSTART:20250309T080000
END:DAYLIGHT
BEGIN:STANDARD
TZOFFSETFROM:-0500
TZOFFSETTO:-0600
TZNAME:CST
DTSTART:20251102T070000
END:STANDARD
END:VTIMEZONE
BEGIN:VEVENT
DTSTART;TZID=America/Chicago:20241209T170000
DTEND;TZID=America/Chicago:20241209T183000
DTSTAMP:20260425T151245
CREATED:20221215T221953Z
LAST-MODIFIED:20241224T201517Z
UID:10003608-1733763600-1733769000@www.fccminneapolis.org
SUMMARY:SHMC Building Committee
DESCRIPTION:
URL:https://www.fccminneapolis.org/event/shmc-building-committee-5/2024-12-09/
LOCATION:Online
CATEGORIES:SpringHouse Joint Ministries
END:VEVENT
BEGIN:VEVENT
DTSTART;TZID=America/Chicago:20241111T190000
DTEND;TZID=America/Chicago:20241111T210000
DTSTAMP:20260425T151245
CREATED:20221215T222157Z
LAST-MODIFIED:20241224T201559Z
UID:10003619-1731351600-1731358800@www.fccminneapolis.org
SUMMARY:SHMC Finance Committee
DESCRIPTION:
URL:https://www.fccminneapolis.org/event/shmc-finance-committee-4/2024-11-11/
LOCATION:Online
CATEGORIES:SpringHouse Joint Ministries
END:VEVENT
BEGIN:VEVENT
DTSTART;TZID=America/Chicago:20241111T170000
DTEND;TZID=America/Chicago:20241111T183000
DTSTAMP:20260425T151245
CREATED:20221215T221953Z
LAST-MODIFIED:20241224T201517Z
UID:10003607-1731344400-1731349800@www.fccminneapolis.org
SUMMARY:SHMC Building Committee
DESCRIPTION:
URL:https://www.fccminneapolis.org/event/shmc-building-committee-5/2024-11-11/
LOCATION:Online
CATEGORIES:SpringHouse Joint Ministries
END:VEVENT
BEGIN:VEVENT
DTSTART;TZID=America/Chicago:20241014T190000
DTEND;TZID=America/Chicago:20241014T210000
DTSTAMP:20260425T151245
CREATED:20221215T222157Z
LAST-MODIFIED:20241224T201559Z
UID:10003618-1728932400-1728939600@www.fccminneapolis.org
SUMMARY:SHMC Finance Committee
DESCRIPTION:
URL:https://www.fccminneapolis.org/event/shmc-finance-committee-4/2024-10-14/
LOCATION:Online
CATEGORIES:SpringHouse Joint Ministries
END:VEVENT
BEGIN:VEVENT
DTSTART;TZID=America/Chicago:20241014T170000
DTEND;TZID=America/Chicago:20241014T183000
DTSTAMP:20260425T151245
CREATED:20221215T221953Z
LAST-MODIFIED:20241224T201517Z
UID:10003606-1728925200-1728930600@www.fccminneapolis.org
SUMMARY:SHMC Building Committee
DESCRIPTION:
URL:https://www.fccminneapolis.org/event/shmc-building-committee-5/2024-10-14/
LOCATION:Online
CATEGORIES:SpringHouse Joint Ministries
END:VEVENT
BEGIN:VEVENT
DTSTART;TZID=America/Chicago:20240909T190000
DTEND;TZID=America/Chicago:20240909T210000
DTSTAMP:20260425T151245
CREATED:20221215T222157Z
LAST-MODIFIED:20241224T201559Z
UID:10003617-1725908400-1725915600@www.fccminneapolis.org
SUMMARY:SHMC Finance Committee
DESCRIPTION:
URL:https://www.fccminneapolis.org/event/shmc-finance-committee-4/2024-09-09/
LOCATION:Online
CATEGORIES:SpringHouse Joint Ministries
END:VEVENT
BEGIN:VEVENT
DTSTART;TZID=America/Chicago:20240909T170000
DTEND;TZID=America/Chicago:20240909T183000
DTSTAMP:20260425T151245
CREATED:20221215T221953Z
LAST-MODIFIED:20241224T201517Z
UID:10003605-1725901200-1725906600@www.fccminneapolis.org
SUMMARY:SHMC Building Committee
DESCRIPTION:
URL:https://www.fccminneapolis.org/event/shmc-building-committee-5/2024-09-09/
LOCATION:Online
CATEGORIES:SpringHouse Joint Ministries
END:VEVENT
BEGIN:VEVENT
DTSTART;TZID=America/Chicago:20240812T190000
DTEND;TZID=America/Chicago:20240812T210000
DTSTAMP:20260425T151245
CREATED:20221215T222157Z
LAST-MODIFIED:20241224T201559Z
UID:10003616-1723489200-1723496400@www.fccminneapolis.org
SUMMARY:SHMC Finance Committee
DESCRIPTION:
URL:https://www.fccminneapolis.org/event/shmc-finance-committee-4/2024-08-12/
LOCATION:Online
CATEGORIES:SpringHouse Joint Ministries
END:VEVENT
BEGIN:VEVENT
DTSTART;TZID=America/Chicago:20240812T170000
DTEND;TZID=America/Chicago:20240812T183000
DTSTAMP:20260425T151245
CREATED:20221215T221953Z
LAST-MODIFIED:20241224T201517Z
UID:10003604-1723482000-1723487400@www.fccminneapolis.org
SUMMARY:SHMC Building Committee
DESCRIPTION:
URL:https://www.fccminneapolis.org/event/shmc-building-committee-5/2024-08-12/
LOCATION:Online
CATEGORIES:SpringHouse Joint Ministries
END:VEVENT
BEGIN:VEVENT
DTSTART;TZID=America/Chicago:20240708T190000
DTEND;TZID=America/Chicago:20240708T210000
DTSTAMP:20260425T151245
CREATED:20221215T222157Z
LAST-MODIFIED:20241224T201559Z
UID:10003615-1720465200-1720472400@www.fccminneapolis.org
SUMMARY:SHMC Finance Committee
DESCRIPTION:
URL:https://www.fccminneapolis.org/event/shmc-finance-committee-4/2024-07-08/
LOCATION:Online
CATEGORIES:SpringHouse Joint Ministries
END:VEVENT
BEGIN:VEVENT
DTSTART;TZID=America/Chicago:20240708T170000
DTEND;TZID=America/Chicago:20240708T183000
DTSTAMP:20260425T151245
CREATED:20221215T221953Z
LAST-MODIFIED:20241224T201517Z
UID:10003603-1720458000-1720463400@www.fccminneapolis.org
SUMMARY:SHMC Building Committee
DESCRIPTION:
URL:https://www.fccminneapolis.org/event/shmc-building-committee-5/2024-07-08/
LOCATION:Online
CATEGORIES:SpringHouse Joint Ministries
END:VEVENT
BEGIN:VEVENT
DTSTART;TZID=America/Chicago:20240610T190000
DTEND;TZID=America/Chicago:20240610T210000
DTSTAMP:20260425T151245
CREATED:20221215T222157Z
LAST-MODIFIED:20241224T201559Z
UID:10003614-1718046000-1718053200@www.fccminneapolis.org
SUMMARY:SHMC Finance Committee
DESCRIPTION:
URL:https://www.fccminneapolis.org/event/shmc-finance-committee-4/2024-06-10/
LOCATION:Online
CATEGORIES:SpringHouse Joint Ministries
END:VEVENT
BEGIN:VEVENT
DTSTART;TZID=America/Chicago:20240610T170000
DTEND;TZID=America/Chicago:20240610T183000
DTSTAMP:20260425T151245
CREATED:20221215T221953Z
LAST-MODIFIED:20241224T201517Z
UID:10003602-1718038800-1718044200@www.fccminneapolis.org
SUMMARY:SHMC Building Committee
DESCRIPTION:
URL:https://www.fccminneapolis.org/event/shmc-building-committee-5/2024-06-10/
LOCATION:Online
CATEGORIES:SpringHouse Joint Ministries
END:VEVENT
BEGIN:VEVENT
DTSTART;TZID=America/Chicago:20240513T190000
DTEND;TZID=America/Chicago:20240513T210000
DTSTAMP:20260425T151245
CREATED:20221215T222157Z
LAST-MODIFIED:20241224T201559Z
UID:10003613-1715626800-1715634000@www.fccminneapolis.org
SUMMARY:SHMC Finance Committee
DESCRIPTION:
URL:https://www.fccminneapolis.org/event/shmc-finance-committee-4/2024-05-13/
LOCATION:Online
CATEGORIES:SpringHouse Joint Ministries
END:VEVENT
BEGIN:VEVENT
DTSTART;TZID=America/Chicago:20240513T170000
DTEND;TZID=America/Chicago:20240513T183000
DTSTAMP:20260425T151245
CREATED:20221215T221953Z
LAST-MODIFIED:20241224T201517Z
UID:10003601-1715619600-1715625000@www.fccminneapolis.org
SUMMARY:SHMC Building Committee
DESCRIPTION:
URL:https://www.fccminneapolis.org/event/shmc-building-committee-5/2024-05-13/
LOCATION:Online
CATEGORIES:SpringHouse Joint Ministries
END:VEVENT
BEGIN:VEVENT
DTSTART;TZID=America/Chicago:20240408T190000
DTEND;TZID=America/Chicago:20240408T210000
DTSTAMP:20260425T151245
CREATED:20221215T222157Z
LAST-MODIFIED:20241224T201559Z
UID:10003612-1712602800-1712610000@www.fccminneapolis.org
SUMMARY:SHMC Finance Committee
DESCRIPTION:
URL:https://www.fccminneapolis.org/event/shmc-finance-committee-4/2024-04-08/
LOCATION:Online
CATEGORIES:SpringHouse Joint Ministries
END:VEVENT
BEGIN:VEVENT
DTSTART;TZID=America/Chicago:20240408T170000
DTEND;TZID=America/Chicago:20240408T183000
DTSTAMP:20260425T151245
CREATED:20221215T221953Z
LAST-MODIFIED:20241224T201517Z
UID:10003600-1712595600-1712601000@www.fccminneapolis.org
SUMMARY:SHMC Building Committee
DESCRIPTION:
URL:https://www.fccminneapolis.org/event/shmc-building-committee-5/2024-04-08/
LOCATION:Online
CATEGORIES:SpringHouse Joint Ministries
END:VEVENT
BEGIN:VEVENT
DTSTART;TZID=America/Chicago:20240328T200000
DTEND;TZID=America/Chicago:20240329T200000
DTSTAMP:20260425T151245
CREATED:20240322T201818Z
LAST-MODIFIED:20240322T201818Z
UID:10004333-1711656000-1711742400@www.fccminneapolis.org
SUMMARY:Easter Prayer Vigil
DESCRIPTION:
URL:https://www.fccminneapolis.org/event/easter-prayer-vigil/
LOCATION:Online
CATEGORIES:Easter,Holy Week
END:VEVENT
BEGIN:VEVENT
DTSTART;TZID=America/Chicago:20240311T190000
DTEND;TZID=America/Chicago:20240311T210000
DTSTAMP:20260425T151245
CREATED:20221215T222157Z
LAST-MODIFIED:20241224T201559Z
UID:10003611-1710183600-1710190800@www.fccminneapolis.org
SUMMARY:SHMC Finance Committee
DESCRIPTION:
URL:https://www.fccminneapolis.org/event/shmc-finance-committee-4/2024-03-11/
LOCATION:Online
CATEGORIES:SpringHouse Joint Ministries
END:VEVENT
BEGIN:VEVENT
DTSTART;TZID=America/Chicago:20240311T170000
DTEND;TZID=America/Chicago:20240311T183000
DTSTAMP:20260425T151245
CREATED:20221215T221953Z
LAST-MODIFIED:20241224T201517Z
UID:10003599-1710176400-1710181800@www.fccminneapolis.org
SUMMARY:SHMC Building Committee
DESCRIPTION:
URL:https://www.fccminneapolis.org/event/shmc-building-committee-5/2024-03-11/
LOCATION:Online
CATEGORIES:SpringHouse Joint Ministries
END:VEVENT
BEGIN:VEVENT
DTSTART;TZID=America/Chicago:20240212T190000
DTEND;TZID=America/Chicago:20240212T210000
DTSTAMP:20260425T151245
CREATED:20221215T222157Z
LAST-MODIFIED:20241224T201559Z
UID:10003610-1707764400-1707771600@www.fccminneapolis.org
SUMMARY:SHMC Finance Committee
DESCRIPTION:
URL:https://www.fccminneapolis.org/event/shmc-finance-committee-4/2024-02-12/
LOCATION:Online
CATEGORIES:SpringHouse Joint Ministries
END:VEVENT
BEGIN:VEVENT
DTSTART;TZID=America/Chicago:20240212T170000
DTEND;TZID=America/Chicago:20240212T183000
DTSTAMP:20260425T151245
CREATED:20221215T221953Z
LAST-MODIFIED:20241224T201517Z
UID:10003598-1707757200-1707762600@www.fccminneapolis.org
SUMMARY:SHMC Building Committee
DESCRIPTION:
URL:https://www.fccminneapolis.org/event/shmc-building-committee-5/2024-02-12/
LOCATION:Online
CATEGORIES:SpringHouse Joint Ministries
END:VEVENT
BEGIN:VEVENT
DTSTART;TZID=America/Chicago:20240108T190000
DTEND;TZID=America/Chicago:20240108T210000
DTSTAMP:20260425T151245
CREATED:20221215T222157Z
LAST-MODIFIED:20241224T201559Z
UID:10003609-1704740400-1704747600@www.fccminneapolis.org
SUMMARY:SHMC Finance Committee
DESCRIPTION:
URL:https://www.fccminneapolis.org/event/shmc-finance-committee-4/2024-01-08/
LOCATION:Online
CATEGORIES:SpringHouse Joint Ministries
END:VEVENT
BEGIN:VEVENT
DTSTART;TZID=America/Chicago:20240108T170000
DTEND;TZID=America/Chicago:20240108T183000
DTSTAMP:20260425T151245
CREATED:20221215T221953Z
LAST-MODIFIED:20241224T201517Z
UID:10003597-1704733200-1704738600@www.fccminneapolis.org
SUMMARY:SHMC Building Committee
DESCRIPTION:
URL:https://www.fccminneapolis.org/event/shmc-building-committee-5/2024-01-08/
LOCATION:Online
CATEGORIES:SpringHouse Joint Ministries
END:VEVENT
BEGIN:VEVENT
DTSTART;TZID=America/Chicago:20231211T190000
DTEND;TZID=America/Chicago:20231211T210000
DTSTAMP:20260425T151245
CREATED:20221215T222157Z
LAST-MODIFIED:20241224T201559Z
UID:10002364-1702321200-1702328400@www.fccminneapolis.org
SUMMARY:SHMC Finance Committee
DESCRIPTION:
URL:https://www.fccminneapolis.org/event/shmc-finance-committee-4/2023-12-11/
LOCATION:Online
CATEGORIES:SpringHouse Joint Ministries
END:VEVENT
BEGIN:VEVENT
DTSTART;TZID=America/Chicago:20231211T170000
DTEND;TZID=America/Chicago:20231211T183000
DTSTAMP:20260425T151245
CREATED:20221215T221953Z
LAST-MODIFIED:20241224T201517Z
UID:10002352-1702314000-1702319400@www.fccminneapolis.org
SUMMARY:SHMC Building Committee
DESCRIPTION:
URL:https://www.fccminneapolis.org/event/shmc-building-committee-5/2023-12-11/
LOCATION:Online
CATEGORIES:SpringHouse Joint Ministries
END:VEVENT
BEGIN:VEVENT
DTSTART;TZID=America/Chicago:20231113T190000
DTEND;TZID=America/Chicago:20231113T210000
DTSTAMP:20260425T151245
CREATED:20221215T222157Z
LAST-MODIFIED:20241224T201559Z
UID:10002363-1699902000-1699909200@www.fccminneapolis.org
SUMMARY:SHMC Finance Committee
DESCRIPTION:
URL:https://www.fccminneapolis.org/event/shmc-finance-committee-4/2023-11-13/
LOCATION:Online
CATEGORIES:SpringHouse Joint Ministries
END:VEVENT
BEGIN:VEVENT
DTSTART;TZID=America/Chicago:20231113T170000
DTEND;TZID=America/Chicago:20231113T183000
DTSTAMP:20260425T151245
CREATED:20221215T221953Z
LAST-MODIFIED:20241224T201517Z
UID:10002351-1699894800-1699900200@www.fccminneapolis.org
SUMMARY:SHMC Building Committee
DESCRIPTION:
URL:https://www.fccminneapolis.org/event/shmc-building-committee-5/2023-11-13/
LOCATION:Online
CATEGORIES:SpringHouse Joint Ministries
END:VEVENT
BEGIN:VEVENT
DTSTART;TZID=America/Chicago:20231112T140000
DTEND;TZID=America/Chicago:20231112T150000
DTSTAMP:20260425T151245
CREATED:20221226T222336Z
LAST-MODIFIED:20221226T222336Z
UID:10002535-1699797600-1699801200@www.fccminneapolis.org
SUMMARY:SpringHouse Board Meeting
DESCRIPTION:
URL:https://www.fccminneapolis.org/event/springhouse-board-meeting-3/2023-11-12/
LOCATION:Online
CATEGORIES:SpringHouse Joint Ministries
END:VEVENT
BEGIN:VEVENT
DTSTART;TZID=America/Chicago:20231009T190000
DTEND;TZID=America/Chicago:20231009T210000
DTSTAMP:20260425T151245
CREATED:20221215T222157Z
LAST-MODIFIED:20241224T201559Z
UID:10002362-1696878000-1696885200@www.fccminneapolis.org
SUMMARY:SHMC Finance Committee
DESCRIPTION:
URL:https://www.fccminneapolis.org/event/shmc-finance-committee-4/2023-10-09/
LOCATION:Online
CATEGORIES:SpringHouse Joint Ministries
END:VEVENT
END:VCALENDAR