BEGIN:VCALENDAR
VERSION:2.0
PRODID:-//First Christian Church (Disciples of Christ) - ECPv6.15.13//NONSGML v1.0//EN
CALSCALE:GREGORIAN
METHOD:PUBLISH
X-ORIGINAL-URL:https://www.fccminneapolis.org
X-WR-CALDESC:Events for First Christian Church (Disciples of Christ)
REFRESH-INTERVAL;VALUE=DURATION:PT1H
X-Robots-Tag:noindex
X-PUBLISHED-TTL:PT1H
BEGIN:VTIMEZONE
TZID:America/Chicago
BEGIN:DAYLIGHT
TZOFFSETFROM:-0600
TZOFFSETTO:-0500
TZNAME:CDT
DTSTART:20250309T080000
END:DAYLIGHT
BEGIN:STANDARD
TZOFFSETFROM:-0500
TZOFFSETTO:-0600
TZNAME:CST
DTSTART:20251102T070000
END:STANDARD
BEGIN:DAYLIGHT
TZOFFSETFROM:-0600
TZOFFSETTO:-0500
TZNAME:CDT
DTSTART:20260308T080000
END:DAYLIGHT
BEGIN:STANDARD
TZOFFSETFROM:-0500
TZOFFSETTO:-0600
TZNAME:CST
DTSTART:20261101T070000
END:STANDARD
BEGIN:DAYLIGHT
TZOFFSETFROM:-0600
TZOFFSETTO:-0500
TZNAME:CDT
DTSTART:20270314T080000
END:DAYLIGHT
BEGIN:STANDARD
TZOFFSETFROM:-0500
TZOFFSETTO:-0600
TZNAME:CST
DTSTART:20271107T070000
END:STANDARD
BEGIN:DAYLIGHT
TZOFFSETFROM:-0600
TZOFFSETTO:-0500
TZNAME:CDT
DTSTART:20280312T080000
END:DAYLIGHT
BEGIN:STANDARD
TZOFFSETFROM:-0500
TZOFFSETTO:-0600
TZNAME:CST
DTSTART:20281105T070000
END:STANDARD
BEGIN:DAYLIGHT
TZOFFSETFROM:-0600
TZOFFSETTO:-0500
TZNAME:CDT
DTSTART:20290311T080000
END:DAYLIGHT
BEGIN:STANDARD
TZOFFSETFROM:-0500
TZOFFSETTO:-0600
TZNAME:CST
DTSTART:20291104T070000
END:STANDARD
END:VTIMEZONE
BEGIN:VEVENT
DTSTART;TZID=America/Chicago:20261109T170000
DTEND;TZID=America/Chicago:20261109T183000
DTSTAMP:20260425T103917
CREATED:20251230T183152Z
LAST-MODIFIED:20251230T183152Z
UID:10007584-1794243600-1794249000@www.fccminneapolis.org
SUMMARY:SHMC Building Committee
DESCRIPTION:
URL:https://www.fccminneapolis.org/event/shmc-building-committee-5-2/2026-11-09/
LOCATION:Online
CATEGORIES:SpringHouse Joint Ministries
END:VEVENT
BEGIN:VEVENT
DTSTART;TZID=America/Chicago:20261109T190000
DTEND;TZID=America/Chicago:20261109T210000
DTSTAMP:20260425T103917
CREATED:20251230T183339Z
LAST-MODIFIED:20251230T183441Z
UID:10007644-1794250800-1794258000@www.fccminneapolis.org
SUMMARY:SHMC Finance Committee
DESCRIPTION:
URL:https://www.fccminneapolis.org/event/shmc-finance-committee-4-2/2026-11-09/
LOCATION:Online
CATEGORIES:SpringHouse Joint Ministries
END:VEVENT
BEGIN:VEVENT
DTSTART;TZID=America/Chicago:20261214T170000
DTEND;TZID=America/Chicago:20261214T183000
DTSTAMP:20260425T103917
CREATED:20251230T183152Z
LAST-MODIFIED:20251230T183152Z
UID:10007585-1797267600-1797273000@www.fccminneapolis.org
SUMMARY:SHMC Building Committee
DESCRIPTION:
URL:https://www.fccminneapolis.org/event/shmc-building-committee-5-2/2026-12-14/
LOCATION:Online
CATEGORIES:SpringHouse Joint Ministries
END:VEVENT
BEGIN:VEVENT
DTSTART;TZID=America/Chicago:20261214T190000
DTEND;TZID=America/Chicago:20261214T210000
DTSTAMP:20260425T103917
CREATED:20251230T183339Z
LAST-MODIFIED:20251230T183441Z
UID:10007645-1797274800-1797282000@www.fccminneapolis.org
SUMMARY:SHMC Finance Committee
DESCRIPTION:
URL:https://www.fccminneapolis.org/event/shmc-finance-committee-4-2/2026-12-14/
LOCATION:Online
CATEGORIES:SpringHouse Joint Ministries
END:VEVENT
BEGIN:VEVENT
DTSTART;TZID=America/Chicago:20270111T170000
DTEND;TZID=America/Chicago:20270111T183000
DTSTAMP:20260425T103917
CREATED:20251230T183152Z
LAST-MODIFIED:20251230T183152Z
UID:10007586-1799686800-1799692200@www.fccminneapolis.org
SUMMARY:SHMC Building Committee
DESCRIPTION:
URL:https://www.fccminneapolis.org/event/shmc-building-committee-5-2/2027-01-11/
LOCATION:Online
CATEGORIES:SpringHouse Joint Ministries
END:VEVENT
BEGIN:VEVENT
DTSTART;TZID=America/Chicago:20270111T190000
DTEND;TZID=America/Chicago:20270111T210000
DTSTAMP:20260425T103917
CREATED:20251230T183339Z
LAST-MODIFIED:20251230T183441Z
UID:10007646-1799694000-1799701200@www.fccminneapolis.org
SUMMARY:SHMC Finance Committee
DESCRIPTION:
URL:https://www.fccminneapolis.org/event/shmc-finance-committee-4-2/2027-01-11/
LOCATION:Online
CATEGORIES:SpringHouse Joint Ministries
END:VEVENT
BEGIN:VEVENT
DTSTART;TZID=America/Chicago:20270208T170000
DTEND;TZID=America/Chicago:20270208T183000
DTSTAMP:20260425T103917
CREATED:20251230T183152Z
LAST-MODIFIED:20251230T183152Z
UID:10007587-1802106000-1802111400@www.fccminneapolis.org
SUMMARY:SHMC Building Committee
DESCRIPTION:
URL:https://www.fccminneapolis.org/event/shmc-building-committee-5-2/2027-02-08/
LOCATION:Online
CATEGORIES:SpringHouse Joint Ministries
END:VEVENT
BEGIN:VEVENT
DTSTART;TZID=America/Chicago:20270208T190000
DTEND;TZID=America/Chicago:20270208T210000
DTSTAMP:20260425T103917
CREATED:20251230T183339Z
LAST-MODIFIED:20251230T183441Z
UID:10007647-1802113200-1802120400@www.fccminneapolis.org
SUMMARY:SHMC Finance Committee
DESCRIPTION:
URL:https://www.fccminneapolis.org/event/shmc-finance-committee-4-2/2027-02-08/
LOCATION:Online
CATEGORIES:SpringHouse Joint Ministries
END:VEVENT
BEGIN:VEVENT
DTSTART;TZID=America/Chicago:20270308T170000
DTEND;TZID=America/Chicago:20270308T183000
DTSTAMP:20260425T103917
CREATED:20251230T183152Z
LAST-MODIFIED:20251230T183152Z
UID:10007588-1804525200-1804530600@www.fccminneapolis.org
SUMMARY:SHMC Building Committee
DESCRIPTION:
URL:https://www.fccminneapolis.org/event/shmc-building-committee-5-2/2027-03-08/
LOCATION:Online
CATEGORIES:SpringHouse Joint Ministries
END:VEVENT
BEGIN:VEVENT
DTSTART;TZID=America/Chicago:20270308T190000
DTEND;TZID=America/Chicago:20270308T210000
DTSTAMP:20260425T103917
CREATED:20251230T183339Z
LAST-MODIFIED:20251230T183441Z
UID:10007648-1804532400-1804539600@www.fccminneapolis.org
SUMMARY:SHMC Finance Committee
DESCRIPTION:
URL:https://www.fccminneapolis.org/event/shmc-finance-committee-4-2/2027-03-08/
LOCATION:Online
CATEGORIES:SpringHouse Joint Ministries
END:VEVENT
BEGIN:VEVENT
DTSTART;TZID=America/Chicago:20270412T170000
DTEND;TZID=America/Chicago:20270412T183000
DTSTAMP:20260425T103917
CREATED:20251230T183152Z
LAST-MODIFIED:20251230T183152Z
UID:10007589-1807549200-1807554600@www.fccminneapolis.org
SUMMARY:SHMC Building Committee
DESCRIPTION:
URL:https://www.fccminneapolis.org/event/shmc-building-committee-5-2/2027-04-12/
LOCATION:Online
CATEGORIES:SpringHouse Joint Ministries
END:VEVENT
BEGIN:VEVENT
DTSTART;TZID=America/Chicago:20270412T190000
DTEND;TZID=America/Chicago:20270412T210000
DTSTAMP:20260425T103917
CREATED:20251230T183339Z
LAST-MODIFIED:20251230T183441Z
UID:10007649-1807556400-1807563600@www.fccminneapolis.org
SUMMARY:SHMC Finance Committee
DESCRIPTION:
URL:https://www.fccminneapolis.org/event/shmc-finance-committee-4-2/2027-04-12/
LOCATION:Online
CATEGORIES:SpringHouse Joint Ministries
END:VEVENT
BEGIN:VEVENT
DTSTART;TZID=America/Chicago:20270510T170000
DTEND;TZID=America/Chicago:20270510T183000
DTSTAMP:20260425T103917
CREATED:20251230T183152Z
LAST-MODIFIED:20251230T183152Z
UID:10007590-1809968400-1809973800@www.fccminneapolis.org
SUMMARY:SHMC Building Committee
DESCRIPTION:
URL:https://www.fccminneapolis.org/event/shmc-building-committee-5-2/2027-05-10/
LOCATION:Online
CATEGORIES:SpringHouse Joint Ministries
END:VEVENT
BEGIN:VEVENT
DTSTART;TZID=America/Chicago:20270510T190000
DTEND;TZID=America/Chicago:20270510T210000
DTSTAMP:20260425T103917
CREATED:20251230T183339Z
LAST-MODIFIED:20251230T183441Z
UID:10007650-1809975600-1809982800@www.fccminneapolis.org
SUMMARY:SHMC Finance Committee
DESCRIPTION:
URL:https://www.fccminneapolis.org/event/shmc-finance-committee-4-2/2027-05-10/
LOCATION:Online
CATEGORIES:SpringHouse Joint Ministries
END:VEVENT
BEGIN:VEVENT
DTSTART;TZID=America/Chicago:20270614T170000
DTEND;TZID=America/Chicago:20270614T183000
DTSTAMP:20260425T103917
CREATED:20251230T183152Z
LAST-MODIFIED:20251230T183152Z
UID:10007591-1812992400-1812997800@www.fccminneapolis.org
SUMMARY:SHMC Building Committee
DESCRIPTION:
URL:https://www.fccminneapolis.org/event/shmc-building-committee-5-2/2027-06-14/
LOCATION:Online
CATEGORIES:SpringHouse Joint Ministries
END:VEVENT
BEGIN:VEVENT
DTSTART;TZID=America/Chicago:20270614T190000
DTEND;TZID=America/Chicago:20270614T210000
DTSTAMP:20260425T103917
CREATED:20251230T183339Z
LAST-MODIFIED:20251230T183441Z
UID:10007651-1812999600-1813006800@www.fccminneapolis.org
SUMMARY:SHMC Finance Committee
DESCRIPTION:
URL:https://www.fccminneapolis.org/event/shmc-finance-committee-4-2/2027-06-14/
LOCATION:Online
CATEGORIES:SpringHouse Joint Ministries
END:VEVENT
BEGIN:VEVENT
DTSTART;TZID=America/Chicago:20270712T170000
DTEND;TZID=America/Chicago:20270712T183000
DTSTAMP:20260425T103917
CREATED:20251230T183152Z
LAST-MODIFIED:20251230T183152Z
UID:10007592-1815411600-1815417000@www.fccminneapolis.org
SUMMARY:SHMC Building Committee
DESCRIPTION:
URL:https://www.fccminneapolis.org/event/shmc-building-committee-5-2/2027-07-12/
LOCATION:Online
CATEGORIES:SpringHouse Joint Ministries
END:VEVENT
BEGIN:VEVENT
DTSTART;TZID=America/Chicago:20270712T190000
DTEND;TZID=America/Chicago:20270712T210000
DTSTAMP:20260425T103917
CREATED:20251230T183339Z
LAST-MODIFIED:20251230T183441Z
UID:10007652-1815418800-1815426000@www.fccminneapolis.org
SUMMARY:SHMC Finance Committee
DESCRIPTION:
URL:https://www.fccminneapolis.org/event/shmc-finance-committee-4-2/2027-07-12/
LOCATION:Online
CATEGORIES:SpringHouse Joint Ministries
END:VEVENT
BEGIN:VEVENT
DTSTART;TZID=America/Chicago:20270809T170000
DTEND;TZID=America/Chicago:20270809T183000
DTSTAMP:20260425T103917
CREATED:20251230T183152Z
LAST-MODIFIED:20251230T183152Z
UID:10007593-1817830800-1817836200@www.fccminneapolis.org
SUMMARY:SHMC Building Committee
DESCRIPTION:
URL:https://www.fccminneapolis.org/event/shmc-building-committee-5-2/2027-08-09/
LOCATION:Online
CATEGORIES:SpringHouse Joint Ministries
END:VEVENT
BEGIN:VEVENT
DTSTART;TZID=America/Chicago:20270809T190000
DTEND;TZID=America/Chicago:20270809T210000
DTSTAMP:20260425T103917
CREATED:20251230T183339Z
LAST-MODIFIED:20251230T183441Z
UID:10007653-1817838000-1817845200@www.fccminneapolis.org
SUMMARY:SHMC Finance Committee
DESCRIPTION:
URL:https://www.fccminneapolis.org/event/shmc-finance-committee-4-2/2027-08-09/
LOCATION:Online
CATEGORIES:SpringHouse Joint Ministries
END:VEVENT
BEGIN:VEVENT
DTSTART;TZID=America/Chicago:20270913T170000
DTEND;TZID=America/Chicago:20270913T183000
DTSTAMP:20260425T103917
CREATED:20251230T183152Z
LAST-MODIFIED:20251230T183152Z
UID:10007594-1820854800-1820860200@www.fccminneapolis.org
SUMMARY:SHMC Building Committee
DESCRIPTION:
URL:https://www.fccminneapolis.org/event/shmc-building-committee-5-2/2027-09-13/
LOCATION:Online
CATEGORIES:SpringHouse Joint Ministries
END:VEVENT
BEGIN:VEVENT
DTSTART;TZID=America/Chicago:20270913T190000
DTEND;TZID=America/Chicago:20270913T210000
DTSTAMP:20260425T103917
CREATED:20251230T183339Z
LAST-MODIFIED:20251230T183441Z
UID:10007654-1820862000-1820869200@www.fccminneapolis.org
SUMMARY:SHMC Finance Committee
DESCRIPTION:
URL:https://www.fccminneapolis.org/event/shmc-finance-committee-4-2/2027-09-13/
LOCATION:Online
CATEGORIES:SpringHouse Joint Ministries
END:VEVENT
BEGIN:VEVENT
DTSTART;TZID=America/Chicago:20271011T170000
DTEND;TZID=America/Chicago:20271011T183000
DTSTAMP:20260425T103917
CREATED:20251230T183152Z
LAST-MODIFIED:20251230T183152Z
UID:10007595-1823274000-1823279400@www.fccminneapolis.org
SUMMARY:SHMC Building Committee
DESCRIPTION:
URL:https://www.fccminneapolis.org/event/shmc-building-committee-5-2/2027-10-11/
LOCATION:Online
CATEGORIES:SpringHouse Joint Ministries
END:VEVENT
BEGIN:VEVENT
DTSTART;TZID=America/Chicago:20271011T190000
DTEND;TZID=America/Chicago:20271011T210000
DTSTAMP:20260425T103917
CREATED:20251230T183339Z
LAST-MODIFIED:20251230T183441Z
UID:10007655-1823281200-1823288400@www.fccminneapolis.org
SUMMARY:SHMC Finance Committee
DESCRIPTION:
URL:https://www.fccminneapolis.org/event/shmc-finance-committee-4-2/2027-10-11/
LOCATION:Online
CATEGORIES:SpringHouse Joint Ministries
END:VEVENT
BEGIN:VEVENT
DTSTART;TZID=America/Chicago:20271108T170000
DTEND;TZID=America/Chicago:20271108T183000
DTSTAMP:20260425T103917
CREATED:20251230T183152Z
LAST-MODIFIED:20251230T183152Z
UID:10007596-1825693200-1825698600@www.fccminneapolis.org
SUMMARY:SHMC Building Committee
DESCRIPTION:
URL:https://www.fccminneapolis.org/event/shmc-building-committee-5-2/2027-11-08/
LOCATION:Online
CATEGORIES:SpringHouse Joint Ministries
END:VEVENT
BEGIN:VEVENT
DTSTART;TZID=America/Chicago:20271108T190000
DTEND;TZID=America/Chicago:20271108T210000
DTSTAMP:20260425T103917
CREATED:20251230T183339Z
LAST-MODIFIED:20251230T183441Z
UID:10007656-1825700400-1825707600@www.fccminneapolis.org
SUMMARY:SHMC Finance Committee
DESCRIPTION:
URL:https://www.fccminneapolis.org/event/shmc-finance-committee-4-2/2027-11-08/
LOCATION:Online
CATEGORIES:SpringHouse Joint Ministries
END:VEVENT
BEGIN:VEVENT
DTSTART;TZID=America/Chicago:20271213T170000
DTEND;TZID=America/Chicago:20271213T183000
DTSTAMP:20260425T103917
CREATED:20251230T183152Z
LAST-MODIFIED:20251230T183152Z
UID:10007597-1828717200-1828722600@www.fccminneapolis.org
SUMMARY:SHMC Building Committee
DESCRIPTION:
URL:https://www.fccminneapolis.org/event/shmc-building-committee-5-2/2027-12-13/
LOCATION:Online
CATEGORIES:SpringHouse Joint Ministries
END:VEVENT
BEGIN:VEVENT
DTSTART;TZID=America/Chicago:20271213T190000
DTEND;TZID=America/Chicago:20271213T210000
DTSTAMP:20260425T103917
CREATED:20251230T183339Z
LAST-MODIFIED:20251230T183441Z
UID:10007657-1828724400-1828731600@www.fccminneapolis.org
SUMMARY:SHMC Finance Committee
DESCRIPTION:
URL:https://www.fccminneapolis.org/event/shmc-finance-committee-4-2/2027-12-13/
LOCATION:Online
CATEGORIES:SpringHouse Joint Ministries
END:VEVENT
BEGIN:VEVENT
DTSTART;TZID=America/Chicago:20280110T170000
DTEND;TZID=America/Chicago:20280110T183000
DTSTAMP:20260425T103917
CREATED:20251230T183152Z
LAST-MODIFIED:20251230T183152Z
UID:10007598-1831136400-1831141800@www.fccminneapolis.org
SUMMARY:SHMC Building Committee
DESCRIPTION:
URL:https://www.fccminneapolis.org/event/shmc-building-committee-5-2/2028-01-10/
LOCATION:Online
CATEGORIES:SpringHouse Joint Ministries
END:VEVENT
BEGIN:VEVENT
DTSTART;TZID=America/Chicago:20280110T190000
DTEND;TZID=America/Chicago:20280110T210000
DTSTAMP:20260425T103917
CREATED:20251230T183339Z
LAST-MODIFIED:20251230T183441Z
UID:10007658-1831143600-1831150800@www.fccminneapolis.org
SUMMARY:SHMC Finance Committee
DESCRIPTION:
URL:https://www.fccminneapolis.org/event/shmc-finance-committee-4-2/2028-01-10/
LOCATION:Online
CATEGORIES:SpringHouse Joint Ministries
END:VEVENT
END:VCALENDAR