BEGIN:VCALENDAR
VERSION:2.0
PRODID:-//First Christian Church (Disciples of Christ) - ECPv6.15.13//NONSGML v1.0//EN
CALSCALE:GREGORIAN
METHOD:PUBLISH
X-WR-CALNAME:First Christian Church (Disciples of Christ)
X-ORIGINAL-URL:https://www.fccminneapolis.org
X-WR-CALDESC:Events for First Christian Church (Disciples of Christ)
REFRESH-INTERVAL;VALUE=DURATION:PT1H
X-Robots-Tag:noindex
X-PUBLISHED-TTL:PT1H
BEGIN:VTIMEZONE
TZID:America/Chicago
BEGIN:DAYLIGHT
TZOFFSETFROM:-0600
TZOFFSETTO:-0500
TZNAME:CDT
DTSTART:20230312T080000
END:DAYLIGHT
BEGIN:STANDARD
TZOFFSETFROM:-0500
TZOFFSETTO:-0600
TZNAME:CST
DTSTART:20231105T070000
END:STANDARD
BEGIN:DAYLIGHT
TZOFFSETFROM:-0600
TZOFFSETTO:-0500
TZNAME:CDT
DTSTART:20240310T080000
END:DAYLIGHT
BEGIN:STANDARD
TZOFFSETFROM:-0500
TZOFFSETTO:-0600
TZNAME:CST
DTSTART:20241103T070000
END:STANDARD
BEGIN:DAYLIGHT
TZOFFSETFROM:-0600
TZOFFSETTO:-0500
TZNAME:CDT
DTSTART:20250309T080000
END:DAYLIGHT
BEGIN:STANDARD
TZOFFSETFROM:-0500
TZOFFSETTO:-0600
TZNAME:CST
DTSTART:20251102T070000
END:STANDARD
BEGIN:DAYLIGHT
TZOFFSETFROM:-0600
TZOFFSETTO:-0500
TZNAME:CDT
DTSTART:20260308T080000
END:DAYLIGHT
BEGIN:STANDARD
TZOFFSETFROM:-0500
TZOFFSETTO:-0600
TZNAME:CST
DTSTART:20261101T070000
END:STANDARD
END:VTIMEZONE
BEGIN:VEVENT
DTSTART;TZID=America/Chicago:20251013T190000
DTEND;TZID=America/Chicago:20251013T210000
DTSTAMP:20260425T103919
CREATED:20221215T222157Z
LAST-MODIFIED:20241224T201559Z
UID:10005323-1760382000-1760389200@www.fccminneapolis.org
SUMMARY:SHMC Finance Committee
DESCRIPTION:
URL:https://www.fccminneapolis.org/event/shmc-finance-committee-4/2025-10-13/
LOCATION:Online
CATEGORIES:SpringHouse Joint Ministries
END:VEVENT
BEGIN:VEVENT
DTSTART;TZID=America/Chicago:20251013T170000
DTEND;TZID=America/Chicago:20251013T183000
DTSTAMP:20260425T103919
CREATED:20251230T183152Z
LAST-MODIFIED:20251230T183152Z
UID:10005311-1760374800-1760380200@www.fccminneapolis.org
SUMMARY:SHMC Building Committee
DESCRIPTION:
URL:https://www.fccminneapolis.org/event/shmc-building-committee-5-2/2025-10-13/
LOCATION:Online
CATEGORIES:SpringHouse Joint Ministries
END:VEVENT
BEGIN:VEVENT
DTSTART;TZID=America/Chicago:20250908T190000
DTEND;TZID=America/Chicago:20250908T210000
DTSTAMP:20260425T103919
CREATED:20221215T222157Z
LAST-MODIFIED:20241224T201559Z
UID:10005322-1757358000-1757365200@www.fccminneapolis.org
SUMMARY:SHMC Finance Committee
DESCRIPTION:
URL:https://www.fccminneapolis.org/event/shmc-finance-committee-4/2025-09-08/
LOCATION:Online
CATEGORIES:SpringHouse Joint Ministries
END:VEVENT
BEGIN:VEVENT
DTSTART;TZID=America/Chicago:20250908T170000
DTEND;TZID=America/Chicago:20250908T183000
DTSTAMP:20260425T103919
CREATED:20221215T221953Z
LAST-MODIFIED:20241224T201517Z
UID:10005310-1757350800-1757356200@www.fccminneapolis.org
SUMMARY:SHMC Building Committee
DESCRIPTION:
URL:https://www.fccminneapolis.org/event/shmc-building-committee-5/2025-09-08/
LOCATION:Online
CATEGORIES:SpringHouse Joint Ministries
END:VEVENT
BEGIN:VEVENT
DTSTART;TZID=America/Chicago:20250819T190000
DTEND;TZID=America/Chicago:20250819T203000
DTSTAMP:20260425T103919
CREATED:20250807T174212Z
LAST-MODIFIED:20250807T174212Z
UID:10005904-1755630000-1755635400@www.fccminneapolis.org
SUMMARY:FCC Board Meeting
DESCRIPTION:
URL:https://www.fccminneapolis.org/event/fcc-board-meeting-3/
LOCATION:Online
END:VEVENT
BEGIN:VEVENT
DTSTART;TZID=America/Chicago:20250811T190000
DTEND;TZID=America/Chicago:20250811T210000
DTSTAMP:20260425T103919
CREATED:20221215T222157Z
LAST-MODIFIED:20241224T201559Z
UID:10005321-1754938800-1754946000@www.fccminneapolis.org
SUMMARY:SHMC Finance Committee
DESCRIPTION:
URL:https://www.fccminneapolis.org/event/shmc-finance-committee-4/2025-08-11/
LOCATION:Online
CATEGORIES:SpringHouse Joint Ministries
END:VEVENT
BEGIN:VEVENT
DTSTART;TZID=America/Chicago:20250811T170000
DTEND;TZID=America/Chicago:20250811T183000
DTSTAMP:20260425T103919
CREATED:20221215T221953Z
LAST-MODIFIED:20241224T201517Z
UID:10005309-1754931600-1754937000@www.fccminneapolis.org
SUMMARY:SHMC Building Committee
DESCRIPTION:
URL:https://www.fccminneapolis.org/event/shmc-building-committee-5/2025-08-11/
LOCATION:Online
CATEGORIES:SpringHouse Joint Ministries
END:VEVENT
BEGIN:VEVENT
DTSTART;TZID=America/Chicago:20250714T190000
DTEND;TZID=America/Chicago:20250714T210000
DTSTAMP:20260425T103919
CREATED:20221215T222157Z
LAST-MODIFIED:20241224T201559Z
UID:10005320-1752519600-1752526800@www.fccminneapolis.org
SUMMARY:SHMC Finance Committee
DESCRIPTION:
URL:https://www.fccminneapolis.org/event/shmc-finance-committee-4/2025-07-14/
LOCATION:Online
CATEGORIES:SpringHouse Joint Ministries
END:VEVENT
BEGIN:VEVENT
DTSTART;TZID=America/Chicago:20250714T170000
DTEND;TZID=America/Chicago:20250714T183000
DTSTAMP:20260425T103919
CREATED:20221215T221953Z
LAST-MODIFIED:20241224T201517Z
UID:10005308-1752512400-1752517800@www.fccminneapolis.org
SUMMARY:SHMC Building Committee
DESCRIPTION:
URL:https://www.fccminneapolis.org/event/shmc-building-committee-5/2025-07-14/
LOCATION:Online
CATEGORIES:SpringHouse Joint Ministries
END:VEVENT
BEGIN:VEVENT
DTSTART;TZID=America/Chicago:20250609T190000
DTEND;TZID=America/Chicago:20250609T210000
DTSTAMP:20260425T103919
CREATED:20221215T222157Z
LAST-MODIFIED:20241224T201559Z
UID:10005319-1749495600-1749502800@www.fccminneapolis.org
SUMMARY:SHMC Finance Committee
DESCRIPTION:
URL:https://www.fccminneapolis.org/event/shmc-finance-committee-4/2025-06-09/
LOCATION:Online
CATEGORIES:SpringHouse Joint Ministries
END:VEVENT
BEGIN:VEVENT
DTSTART;TZID=America/Chicago:20250609T170000
DTEND;TZID=America/Chicago:20250609T183000
DTSTAMP:20260425T103919
CREATED:20221215T221953Z
LAST-MODIFIED:20241224T201517Z
UID:10005307-1749488400-1749493800@www.fccminneapolis.org
SUMMARY:SHMC Building Committee
DESCRIPTION:
URL:https://www.fccminneapolis.org/event/shmc-building-committee-5/2025-06-09/
LOCATION:Online
CATEGORIES:SpringHouse Joint Ministries
END:VEVENT
BEGIN:VEVENT
DTSTART;TZID=America/Chicago:20250512T190000
DTEND;TZID=America/Chicago:20250512T210000
DTSTAMP:20260425T103919
CREATED:20221215T222157Z
LAST-MODIFIED:20241224T201559Z
UID:10005318-1747076400-1747083600@www.fccminneapolis.org
SUMMARY:SHMC Finance Committee
DESCRIPTION:
URL:https://www.fccminneapolis.org/event/shmc-finance-committee-4/2025-05-12/
LOCATION:Online
CATEGORIES:SpringHouse Joint Ministries
END:VEVENT
BEGIN:VEVENT
DTSTART;TZID=America/Chicago:20250512T170000
DTEND;TZID=America/Chicago:20250512T183000
DTSTAMP:20260425T103919
CREATED:20221215T221953Z
LAST-MODIFIED:20241224T201517Z
UID:10005306-1747069200-1747074600@www.fccminneapolis.org
SUMMARY:SHMC Building Committee
DESCRIPTION:
URL:https://www.fccminneapolis.org/event/shmc-building-committee-5/2025-05-12/
LOCATION:Online
CATEGORIES:SpringHouse Joint Ministries
END:VEVENT
BEGIN:VEVENT
DTSTART;TZID=America/Chicago:20250414T190000
DTEND;TZID=America/Chicago:20250414T210000
DTSTAMP:20260425T103919
CREATED:20221215T222157Z
LAST-MODIFIED:20241224T201559Z
UID:10005317-1744657200-1744664400@www.fccminneapolis.org
SUMMARY:SHMC Finance Committee
DESCRIPTION:
URL:https://www.fccminneapolis.org/event/shmc-finance-committee-4/2025-04-14/
LOCATION:Online
CATEGORIES:SpringHouse Joint Ministries
END:VEVENT
BEGIN:VEVENT
DTSTART;TZID=America/Chicago:20250414T170000
DTEND;TZID=America/Chicago:20250414T183000
DTSTAMP:20260425T103919
CREATED:20221215T221953Z
LAST-MODIFIED:20241224T201517Z
UID:10005305-1744650000-1744655400@www.fccminneapolis.org
SUMMARY:SHMC Building Committee
DESCRIPTION:
URL:https://www.fccminneapolis.org/event/shmc-building-committee-5/2025-04-14/
LOCATION:Online
CATEGORIES:SpringHouse Joint Ministries
END:VEVENT
BEGIN:VEVENT
DTSTART;TZID=America/Chicago:20250310T190000
DTEND;TZID=America/Chicago:20250310T210000
DTSTAMP:20260425T103919
CREATED:20221215T222157Z
LAST-MODIFIED:20241224T201559Z
UID:10005316-1741633200-1741640400@www.fccminneapolis.org
SUMMARY:SHMC Finance Committee
DESCRIPTION:
URL:https://www.fccminneapolis.org/event/shmc-finance-committee-4/2025-03-10/
LOCATION:Online
CATEGORIES:SpringHouse Joint Ministries
END:VEVENT
BEGIN:VEVENT
DTSTART;TZID=America/Chicago:20250310T170000
DTEND;TZID=America/Chicago:20250310T183000
DTSTAMP:20260425T103919
CREATED:20221215T221953Z
LAST-MODIFIED:20241224T201517Z
UID:10005304-1741626000-1741631400@www.fccminneapolis.org
SUMMARY:SHMC Building Committee
DESCRIPTION:
URL:https://www.fccminneapolis.org/event/shmc-building-committee-5/2025-03-10/
LOCATION:Online
CATEGORIES:SpringHouse Joint Ministries
END:VEVENT
BEGIN:VEVENT
DTSTART;TZID=America/Chicago:20250210T190000
DTEND;TZID=America/Chicago:20250210T210000
DTSTAMP:20260425T103919
CREATED:20221215T222157Z
LAST-MODIFIED:20241224T201559Z
UID:10005315-1739214000-1739221200@www.fccminneapolis.org
SUMMARY:SHMC Finance Committee
DESCRIPTION:
URL:https://www.fccminneapolis.org/event/shmc-finance-committee-4/2025-02-10/
LOCATION:Online
CATEGORIES:SpringHouse Joint Ministries
END:VEVENT
BEGIN:VEVENT
DTSTART;TZID=America/Chicago:20250210T170000
DTEND;TZID=America/Chicago:20250210T183000
DTSTAMP:20260425T103919
CREATED:20221215T221953Z
LAST-MODIFIED:20241224T201517Z
UID:10005303-1739206800-1739212200@www.fccminneapolis.org
SUMMARY:SHMC Building Committee
DESCRIPTION:
URL:https://www.fccminneapolis.org/event/shmc-building-committee-5/2025-02-10/
LOCATION:Online
CATEGORIES:SpringHouse Joint Ministries
END:VEVENT
BEGIN:VEVENT
DTSTART;TZID=America/Chicago:20250208T100000
DTEND;TZID=America/Chicago:20250208T170000
DTSTAMP:20260425T103919
CREATED:20250109T212903Z
LAST-MODIFIED:20250109T212903Z
UID:10005413-1739008800-1739034000@www.fccminneapolis.org
SUMMARY:Center for Indigenous Ministries (DOC) Winter Talk 2025
DESCRIPTION:Featuring: Rev. Dr. Lisa Barnett\, Phillips Theological Seminary
URL:https://www.fccminneapolis.org/event/center-for-indigenous-ministries-doc-winter-talk-2025/
LOCATION:Online
END:VEVENT
BEGIN:VEVENT
DTSTART;TZID=America/Chicago:20250120T180000
DTEND;TZID=America/Chicago:20250120T193000
DTSTAMP:20260425T103919
CREATED:20250109T210703Z
LAST-MODIFIED:20250109T210703Z
UID:10005409-1737396000-1737401400@www.fccminneapolis.org
SUMMARY:Interfaith Service & Moral Mass Meeting: "For Such A Time As This: A Prophetic Response to America's Defining Moment"
DESCRIPTION:Rev. Terri Hord Owens\, Bishop Willlian Barber II\, Bishop Yvette Flunder\, and more!
URL:https://www.fccminneapolis.org/event/interfaith-service-moral-mass-meeting-for-such-a-time-as-this-a-prophetic-response-to-americas-defining-moment/
LOCATION:Online
END:VEVENT
BEGIN:VEVENT
DTSTART;TZID=America/Chicago:20250113T190000
DTEND;TZID=America/Chicago:20250113T210000
DTSTAMP:20260425T103919
CREATED:20221215T222157Z
LAST-MODIFIED:20241224T201559Z
UID:10005314-1736794800-1736802000@www.fccminneapolis.org
SUMMARY:SHMC Finance Committee
DESCRIPTION:
URL:https://www.fccminneapolis.org/event/shmc-finance-committee-4/2025-01-13/
LOCATION:Online
CATEGORIES:SpringHouse Joint Ministries
END:VEVENT
BEGIN:VEVENT
DTSTART;TZID=America/Chicago:20250113T170000
DTEND;TZID=America/Chicago:20250113T183000
DTSTAMP:20260425T103919
CREATED:20221215T221953Z
LAST-MODIFIED:20241224T201517Z
UID:10005302-1736787600-1736793000@www.fccminneapolis.org
SUMMARY:SHMC Building Committee
DESCRIPTION:
URL:https://www.fccminneapolis.org/event/shmc-building-committee-5/2025-01-13/
LOCATION:Online
CATEGORIES:SpringHouse Joint Ministries
END:VEVENT
BEGIN:VEVENT
DTSTART;TZID=America/Chicago:20241209T190000
DTEND;TZID=America/Chicago:20241209T210000
DTSTAMP:20260425T103919
CREATED:20221215T222157Z
LAST-MODIFIED:20241224T201559Z
UID:10003620-1733770800-1733778000@www.fccminneapolis.org
SUMMARY:SHMC Finance Committee
DESCRIPTION:
URL:https://www.fccminneapolis.org/event/shmc-finance-committee-4/2024-12-09/
LOCATION:Online
CATEGORIES:SpringHouse Joint Ministries
END:VEVENT
BEGIN:VEVENT
DTSTART;TZID=America/Chicago:20241209T170000
DTEND;TZID=America/Chicago:20241209T183000
DTSTAMP:20260425T103919
CREATED:20221215T221953Z
LAST-MODIFIED:20241224T201517Z
UID:10003608-1733763600-1733769000@www.fccminneapolis.org
SUMMARY:SHMC Building Committee
DESCRIPTION:
URL:https://www.fccminneapolis.org/event/shmc-building-committee-5/2024-12-09/
LOCATION:Online
CATEGORIES:SpringHouse Joint Ministries
END:VEVENT
BEGIN:VEVENT
DTSTART;TZID=America/Chicago:20241111T190000
DTEND;TZID=America/Chicago:20241111T210000
DTSTAMP:20260425T103919
CREATED:20221215T222157Z
LAST-MODIFIED:20241224T201559Z
UID:10003619-1731351600-1731358800@www.fccminneapolis.org
SUMMARY:SHMC Finance Committee
DESCRIPTION:
URL:https://www.fccminneapolis.org/event/shmc-finance-committee-4/2024-11-11/
LOCATION:Online
CATEGORIES:SpringHouse Joint Ministries
END:VEVENT
BEGIN:VEVENT
DTSTART;TZID=America/Chicago:20241111T170000
DTEND;TZID=America/Chicago:20241111T183000
DTSTAMP:20260425T103919
CREATED:20221215T221953Z
LAST-MODIFIED:20241224T201517Z
UID:10003607-1731344400-1731349800@www.fccminneapolis.org
SUMMARY:SHMC Building Committee
DESCRIPTION:
URL:https://www.fccminneapolis.org/event/shmc-building-committee-5/2024-11-11/
LOCATION:Online
CATEGORIES:SpringHouse Joint Ministries
END:VEVENT
BEGIN:VEVENT
DTSTART;TZID=America/Chicago:20241014T190000
DTEND;TZID=America/Chicago:20241014T210000
DTSTAMP:20260425T103919
CREATED:20221215T222157Z
LAST-MODIFIED:20241224T201559Z
UID:10003618-1728932400-1728939600@www.fccminneapolis.org
SUMMARY:SHMC Finance Committee
DESCRIPTION:
URL:https://www.fccminneapolis.org/event/shmc-finance-committee-4/2024-10-14/
LOCATION:Online
CATEGORIES:SpringHouse Joint Ministries
END:VEVENT
BEGIN:VEVENT
DTSTART;TZID=America/Chicago:20241014T170000
DTEND;TZID=America/Chicago:20241014T183000
DTSTAMP:20260425T103919
CREATED:20221215T221953Z
LAST-MODIFIED:20241224T201517Z
UID:10003606-1728925200-1728930600@www.fccminneapolis.org
SUMMARY:SHMC Building Committee
DESCRIPTION:
URL:https://www.fccminneapolis.org/event/shmc-building-committee-5/2024-10-14/
LOCATION:Online
CATEGORIES:SpringHouse Joint Ministries
END:VEVENT
BEGIN:VEVENT
DTSTART;TZID=America/Chicago:20240909T190000
DTEND;TZID=America/Chicago:20240909T210000
DTSTAMP:20260425T103919
CREATED:20221215T222157Z
LAST-MODIFIED:20241224T201559Z
UID:10003617-1725908400-1725915600@www.fccminneapolis.org
SUMMARY:SHMC Finance Committee
DESCRIPTION:
URL:https://www.fccminneapolis.org/event/shmc-finance-committee-4/2024-09-09/
LOCATION:Online
CATEGORIES:SpringHouse Joint Ministries
END:VEVENT
END:VCALENDAR