BEGIN:VCALENDAR
VERSION:2.0
PRODID:-//First Christian Church (Disciples of Christ) - ECPv6.15.13//NONSGML v1.0//EN
CALSCALE:GREGORIAN
METHOD:PUBLISH
X-ORIGINAL-URL:https://www.fccminneapolis.org
X-WR-CALDESC:Events for First Christian Church (Disciples of Christ)
REFRESH-INTERVAL;VALUE=DURATION:PT1H
X-Robots-Tag:noindex
X-PUBLISHED-TTL:PT1H
BEGIN:VTIMEZONE
TZID:America/Chicago
BEGIN:DAYLIGHT
TZOFFSETFROM:-0600
TZOFFSETTO:-0500
TZNAME:CDT
DTSTART:20230312T080000
END:DAYLIGHT
BEGIN:STANDARD
TZOFFSETFROM:-0500
TZOFFSETTO:-0600
TZNAME:CST
DTSTART:20231105T070000
END:STANDARD
BEGIN:DAYLIGHT
TZOFFSETFROM:-0600
TZOFFSETTO:-0500
TZNAME:CDT
DTSTART:20240310T080000
END:DAYLIGHT
BEGIN:STANDARD
TZOFFSETFROM:-0500
TZOFFSETTO:-0600
TZNAME:CST
DTSTART:20241103T070000
END:STANDARD
BEGIN:DAYLIGHT
TZOFFSETFROM:-0600
TZOFFSETTO:-0500
TZNAME:CDT
DTSTART:20250309T080000
END:DAYLIGHT
BEGIN:STANDARD
TZOFFSETFROM:-0500
TZOFFSETTO:-0600
TZNAME:CST
DTSTART:20251102T070000
END:STANDARD
END:VTIMEZONE
BEGIN:VEVENT
DTSTART;TZID=America/Chicago:20241224T173000
DTEND;TZID=America/Chicago:20241224T183000
DTSTAMP:20260425T200424
CREATED:20241203T135944Z
LAST-MODIFIED:20241203T135944Z
UID:10004847-1735061400-1735065000@www.fccminneapolis.org
SUMMARY:Christmas Eve Service
DESCRIPTION:
URL:https://www.fccminneapolis.org/event/christmas-eve-service-2/
LOCATION:FCC South Sanctuary & FCC LiveStream Channel
CATEGORIES:Christmas Eve Service
END:VEVENT
BEGIN:VEVENT
DTSTART;TZID=America/Chicago:20241222T103000
DTEND;TZID=America/Chicago:20241222T120000
DTSTAMP:20260425T200424
CREATED:20231130T203634Z
LAST-MODIFIED:20250109T212334Z
UID:10003254-1734863400-1734868800@www.fccminneapolis.org
SUMMARY:Sunday Worship (Online and In-Person)
DESCRIPTION:Click on the link on the right to attend online.
URL:https://www.fccminneapolis.org/event/sunday-worship-online-and-in-person-4/2024-12-22/
LOCATION:FCC South Sanctuary & FCC LiveStream Channel
END:VEVENT
BEGIN:VEVENT
DTSTART;TZID=America/Chicago:20241221T160000
DTEND;TZID=America/Chicago:20241221T173000
DTSTAMP:20260425T200424
CREATED:20241125T201554Z
LAST-MODIFIED:20241220T170252Z
UID:10004835-1734796800-1734802200@www.fccminneapolis.org
SUMMARY:Blue Christmas Service
DESCRIPTION:
URL:https://www.fccminneapolis.org/event/blue-christmas-service-4/
LOCATION:FCC South Sanctuary & FCC LiveStream Channel
END:VEVENT
BEGIN:VEVENT
DTSTART;TZID=America/Chicago:20241215T103000
DTEND;TZID=America/Chicago:20241215T120000
DTSTAMP:20260425T200424
CREATED:20231130T203634Z
LAST-MODIFIED:20250109T212334Z
UID:10003253-1734258600-1734264000@www.fccminneapolis.org
SUMMARY:Sunday Worship (Online and In-Person)
DESCRIPTION:Click on the link on the right to attend online.
URL:https://www.fccminneapolis.org/event/sunday-worship-online-and-in-person-4/2024-12-15/
LOCATION:FCC South Sanctuary & FCC LiveStream Channel
END:VEVENT
BEGIN:VEVENT
DTSTART;TZID=America/Chicago:20241208T103000
DTEND;TZID=America/Chicago:20241208T120000
DTSTAMP:20260425T200424
CREATED:20231130T203634Z
LAST-MODIFIED:20250109T212334Z
UID:10003252-1733653800-1733659200@www.fccminneapolis.org
SUMMARY:Sunday Worship (Online and In-Person)
DESCRIPTION:Click on the link on the right to attend online.
URL:https://www.fccminneapolis.org/event/sunday-worship-online-and-in-person-4/2024-12-08/
LOCATION:FCC South Sanctuary & FCC LiveStream Channel
END:VEVENT
BEGIN:VEVENT
DTSTART;TZID=America/Chicago:20241201T103000
DTEND;TZID=America/Chicago:20241201T120000
DTSTAMP:20260425T200424
CREATED:20231130T203634Z
LAST-MODIFIED:20250109T212334Z
UID:10003251-1733049000-1733054400@www.fccminneapolis.org
SUMMARY:Sunday Worship (Online and In-Person)
DESCRIPTION:Click on the link on the right to attend online.
URL:https://www.fccminneapolis.org/event/sunday-worship-online-and-in-person-4/2024-12-01/
LOCATION:FCC South Sanctuary & FCC LiveStream Channel
END:VEVENT
BEGIN:VEVENT
DTSTART;TZID=America/Chicago:20241124T103000
DTEND;TZID=America/Chicago:20241124T120000
DTSTAMP:20260425T200424
CREATED:20231130T203634Z
LAST-MODIFIED:20250109T212334Z
UID:10003250-1732444200-1732449600@www.fccminneapolis.org
SUMMARY:Sunday Worship (Online and In-Person)
DESCRIPTION:Click on the link on the right to attend online.
URL:https://www.fccminneapolis.org/event/sunday-worship-online-and-in-person-4/2024-11-24/
LOCATION:FCC South Sanctuary & FCC LiveStream Channel
END:VEVENT
BEGIN:VEVENT
DTSTART;TZID=America/Chicago:20241117T103000
DTEND;TZID=America/Chicago:20241117T120000
DTSTAMP:20260425T200424
CREATED:20231130T203634Z
LAST-MODIFIED:20250109T212334Z
UID:10003249-1731839400-1731844800@www.fccminneapolis.org
SUMMARY:Sunday Worship (Online and In-Person)
DESCRIPTION:Click on the link on the right to attend online.
URL:https://www.fccminneapolis.org/event/sunday-worship-online-and-in-person-4/2024-11-17/
LOCATION:FCC South Sanctuary & FCC LiveStream Channel
END:VEVENT
BEGIN:VEVENT
DTSTART;TZID=America/Chicago:20241110T103000
DTEND;TZID=America/Chicago:20241110T120000
DTSTAMP:20260425T200424
CREATED:20231130T203634Z
LAST-MODIFIED:20250109T212334Z
UID:10003248-1731234600-1731240000@www.fccminneapolis.org
SUMMARY:Sunday Worship (Online and In-Person)
DESCRIPTION:Click on the link on the right to attend online.
URL:https://www.fccminneapolis.org/event/sunday-worship-online-and-in-person-4/2024-11-10/
LOCATION:FCC South Sanctuary & FCC LiveStream Channel
END:VEVENT
BEGIN:VEVENT
DTSTART;TZID=America/Chicago:20241103T103000
DTEND;TZID=America/Chicago:20241103T120000
DTSTAMP:20260425T200424
CREATED:20231130T203634Z
LAST-MODIFIED:20250109T212334Z
UID:10003247-1730629800-1730635200@www.fccminneapolis.org
SUMMARY:Sunday Worship (Online and In-Person)
DESCRIPTION:Click on the link on the right to attend online.
URL:https://www.fccminneapolis.org/event/sunday-worship-online-and-in-person-4/2024-11-03/
LOCATION:FCC South Sanctuary & FCC LiveStream Channel
END:VEVENT
BEGIN:VEVENT
DTSTART;TZID=America/Chicago:20241027T103000
DTEND;TZID=America/Chicago:20241027T120000
DTSTAMP:20260425T200424
CREATED:20231130T203634Z
LAST-MODIFIED:20250109T212334Z
UID:10003246-1730025000-1730030400@www.fccminneapolis.org
SUMMARY:Sunday Worship (Online and In-Person)
DESCRIPTION:Click on the link on the right to attend online.
URL:https://www.fccminneapolis.org/event/sunday-worship-online-and-in-person-4/2024-10-27/
LOCATION:FCC South Sanctuary & FCC LiveStream Channel
END:VEVENT
BEGIN:VEVENT
DTSTART;TZID=America/Chicago:20241020T103000
DTEND;TZID=America/Chicago:20241020T120000
DTSTAMP:20260425T200424
CREATED:20231130T203634Z
LAST-MODIFIED:20250109T212334Z
UID:10003245-1729420200-1729425600@www.fccminneapolis.org
SUMMARY:Sunday Worship (Online and In-Person)
DESCRIPTION:Click on the link on the right to attend online.
URL:https://www.fccminneapolis.org/event/sunday-worship-online-and-in-person-4/2024-10-20/
LOCATION:FCC South Sanctuary & FCC LiveStream Channel
END:VEVENT
BEGIN:VEVENT
DTSTART;TZID=America/Chicago:20241013T103000
DTEND;TZID=America/Chicago:20241013T120000
DTSTAMP:20260425T200424
CREATED:20231130T203634Z
LAST-MODIFIED:20250109T212334Z
UID:10003244-1728815400-1728820800@www.fccminneapolis.org
SUMMARY:Sunday Worship (Online and In-Person)
DESCRIPTION:Click on the link on the right to attend online.
URL:https://www.fccminneapolis.org/event/sunday-worship-online-and-in-person-4/2024-10-13/
LOCATION:FCC South Sanctuary & FCC LiveStream Channel
END:VEVENT
BEGIN:VEVENT
DTSTART;TZID=America/Chicago:20241006T103000
DTEND;TZID=America/Chicago:20241006T120000
DTSTAMP:20260425T200425
CREATED:20231130T203634Z
LAST-MODIFIED:20250109T212334Z
UID:10003243-1728210600-1728216000@www.fccminneapolis.org
SUMMARY:Sunday Worship (Online and In-Person)
DESCRIPTION:Click on the link on the right to attend online.
URL:https://www.fccminneapolis.org/event/sunday-worship-online-and-in-person-4/2024-10-06/
LOCATION:FCC South Sanctuary & FCC LiveStream Channel
END:VEVENT
BEGIN:VEVENT
DTSTART;TZID=America/Chicago:20240929T103000
DTEND;TZID=America/Chicago:20240929T120000
DTSTAMP:20260425T200425
CREATED:20231130T203634Z
LAST-MODIFIED:20250109T212334Z
UID:10003242-1727605800-1727611200@www.fccminneapolis.org
SUMMARY:Sunday Worship (Online and In-Person)
DESCRIPTION:Click on the link on the right to attend online.
URL:https://www.fccminneapolis.org/event/sunday-worship-online-and-in-person-4/2024-09-29/
LOCATION:FCC South Sanctuary & FCC LiveStream Channel
END:VEVENT
BEGIN:VEVENT
DTSTART;TZID=America/Chicago:20240922T103000
DTEND;TZID=America/Chicago:20240922T120000
DTSTAMP:20260425T200425
CREATED:20231130T203634Z
LAST-MODIFIED:20250109T212334Z
UID:10003241-1727001000-1727006400@www.fccminneapolis.org
SUMMARY:Sunday Worship (Online and In-Person)
DESCRIPTION:Click on the link on the right to attend online.
URL:https://www.fccminneapolis.org/event/sunday-worship-online-and-in-person-4/2024-09-22/
LOCATION:FCC South Sanctuary & FCC LiveStream Channel
END:VEVENT
BEGIN:VEVENT
DTSTART;TZID=America/Chicago:20240915T103000
DTEND;TZID=America/Chicago:20240915T120000
DTSTAMP:20260425T200425
CREATED:20231130T203634Z
LAST-MODIFIED:20250109T212334Z
UID:10003240-1726396200-1726401600@www.fccminneapolis.org
SUMMARY:Sunday Worship (Online and In-Person)
DESCRIPTION:Click on the link on the right to attend online.
URL:https://www.fccminneapolis.org/event/sunday-worship-online-and-in-person-4/2024-09-15/
LOCATION:FCC South Sanctuary & FCC LiveStream Channel
END:VEVENT
BEGIN:VEVENT
DTSTART;TZID=America/Chicago:20240908T103000
DTEND;TZID=America/Chicago:20240908T120000
DTSTAMP:20260425T200425
CREATED:20231130T203634Z
LAST-MODIFIED:20250109T212334Z
UID:10003239-1725791400-1725796800@www.fccminneapolis.org
SUMMARY:Sunday Worship (Online and In-Person)
DESCRIPTION:Click on the link on the right to attend online.
URL:https://www.fccminneapolis.org/event/sunday-worship-online-and-in-person-4/2024-09-08/
LOCATION:FCC South Sanctuary & FCC LiveStream Channel
END:VEVENT
BEGIN:VEVENT
DTSTART;TZID=America/Chicago:20240901T103000
DTEND;TZID=America/Chicago:20240901T120000
DTSTAMP:20260425T200425
CREATED:20231130T203634Z
LAST-MODIFIED:20250109T212334Z
UID:10003238-1725186600-1725192000@www.fccminneapolis.org
SUMMARY:Sunday Worship (Online and In-Person)
DESCRIPTION:Click on the link on the right to attend online.
URL:https://www.fccminneapolis.org/event/sunday-worship-online-and-in-person-4/2024-09-01/
LOCATION:FCC South Sanctuary & FCC LiveStream Channel
END:VEVENT
BEGIN:VEVENT
DTSTART;TZID=America/Chicago:20240825T103000
DTEND;TZID=America/Chicago:20240825T120000
DTSTAMP:20260425T200425
CREATED:20231130T203634Z
LAST-MODIFIED:20250109T212334Z
UID:10003237-1724581800-1724587200@www.fccminneapolis.org
SUMMARY:Sunday Worship (Online and In-Person)
DESCRIPTION:Click on the link on the right to attend online.
URL:https://www.fccminneapolis.org/event/sunday-worship-online-and-in-person-4/2024-08-25/
LOCATION:FCC South Sanctuary & FCC LiveStream Channel
END:VEVENT
BEGIN:VEVENT
DTSTART;TZID=America/Chicago:20240818T103000
DTEND;TZID=America/Chicago:20240818T120000
DTSTAMP:20260425T200425
CREATED:20231130T203634Z
LAST-MODIFIED:20250109T212334Z
UID:10003236-1723977000-1723982400@www.fccminneapolis.org
SUMMARY:Sunday Worship (Online and In-Person)
DESCRIPTION:Click on the link on the right to attend online.
URL:https://www.fccminneapolis.org/event/sunday-worship-online-and-in-person-4/2024-08-18/
LOCATION:FCC South Sanctuary & FCC LiveStream Channel
END:VEVENT
BEGIN:VEVENT
DTSTART;TZID=America/Chicago:20240811T103000
DTEND;TZID=America/Chicago:20240811T120000
DTSTAMP:20260425T200425
CREATED:20231130T203634Z
LAST-MODIFIED:20250109T212334Z
UID:10003235-1723372200-1723377600@www.fccminneapolis.org
SUMMARY:Sunday Worship (Online and In-Person)
DESCRIPTION:Click on the link on the right to attend online.
URL:https://www.fccminneapolis.org/event/sunday-worship-online-and-in-person-4/2024-08-11/
LOCATION:FCC South Sanctuary & FCC LiveStream Channel
END:VEVENT
BEGIN:VEVENT
DTSTART;TZID=America/Chicago:20240804T103000
DTEND;TZID=America/Chicago:20240804T120000
DTSTAMP:20260425T200425
CREATED:20231130T203634Z
LAST-MODIFIED:20250109T212334Z
UID:10003234-1722767400-1722772800@www.fccminneapolis.org
SUMMARY:Sunday Worship (Online and In-Person)
DESCRIPTION:Click on the link on the right to attend online.
URL:https://www.fccminneapolis.org/event/sunday-worship-online-and-in-person-4/2024-08-04/
LOCATION:FCC South Sanctuary & FCC LiveStream Channel
END:VEVENT
BEGIN:VEVENT
DTSTART;TZID=America/Chicago:20240728T103000
DTEND;TZID=America/Chicago:20240728T120000
DTSTAMP:20260425T200425
CREATED:20231130T203634Z
LAST-MODIFIED:20250109T212334Z
UID:10003233-1722162600-1722168000@www.fccminneapolis.org
SUMMARY:Sunday Worship (Online and In-Person)
DESCRIPTION:Click on the link on the right to attend online.
URL:https://www.fccminneapolis.org/event/sunday-worship-online-and-in-person-4/2024-07-28/
LOCATION:FCC South Sanctuary & FCC LiveStream Channel
END:VEVENT
BEGIN:VEVENT
DTSTART;TZID=America/Chicago:20240721T103000
DTEND;TZID=America/Chicago:20240721T120000
DTSTAMP:20260425T200425
CREATED:20231130T203634Z
LAST-MODIFIED:20250109T212334Z
UID:10003232-1721557800-1721563200@www.fccminneapolis.org
SUMMARY:Sunday Worship (Online and In-Person)
DESCRIPTION:Click on the link on the right to attend online.
URL:https://www.fccminneapolis.org/event/sunday-worship-online-and-in-person-4/2024-07-21/
LOCATION:FCC South Sanctuary & FCC LiveStream Channel
END:VEVENT
BEGIN:VEVENT
DTSTART;TZID=America/Chicago:20240714T103000
DTEND;TZID=America/Chicago:20240714T120000
DTSTAMP:20260425T200425
CREATED:20231130T203634Z
LAST-MODIFIED:20250109T212334Z
UID:10003231-1720953000-1720958400@www.fccminneapolis.org
SUMMARY:Sunday Worship (Online and In-Person)
DESCRIPTION:Click on the link on the right to attend online.
URL:https://www.fccminneapolis.org/event/sunday-worship-online-and-in-person-4/2024-07-14/
LOCATION:FCC South Sanctuary & FCC LiveStream Channel
END:VEVENT
BEGIN:VEVENT
DTSTART;TZID=America/Chicago:20240707T103000
DTEND;TZID=America/Chicago:20240707T120000
DTSTAMP:20260425T200425
CREATED:20231130T203634Z
LAST-MODIFIED:20250109T212334Z
UID:10003230-1720348200-1720353600@www.fccminneapolis.org
SUMMARY:Sunday Worship (Online and In-Person)
DESCRIPTION:Click on the link on the right to attend online.
URL:https://www.fccminneapolis.org/event/sunday-worship-online-and-in-person-4/2024-07-07/
LOCATION:FCC South Sanctuary & FCC LiveStream Channel
END:VEVENT
BEGIN:VEVENT
DTSTART;TZID=America/Chicago:20240630T103000
DTEND;TZID=America/Chicago:20240630T120000
DTSTAMP:20260425T200425
CREATED:20231130T203634Z
LAST-MODIFIED:20250109T212334Z
UID:10003229-1719743400-1719748800@www.fccminneapolis.org
SUMMARY:Sunday Worship (Online and In-Person)
DESCRIPTION:Click on the link on the right to attend online.
URL:https://www.fccminneapolis.org/event/sunday-worship-online-and-in-person-4/2024-06-30/
LOCATION:FCC South Sanctuary & FCC LiveStream Channel
END:VEVENT
BEGIN:VEVENT
DTSTART;TZID=America/Chicago:20240623T103000
DTEND;TZID=America/Chicago:20240623T120000
DTSTAMP:20260425T200425
CREATED:20231130T203634Z
LAST-MODIFIED:20250109T212334Z
UID:10003228-1719138600-1719144000@www.fccminneapolis.org
SUMMARY:Sunday Worship (Online and In-Person)
DESCRIPTION:Click on the link on the right to attend online.
URL:https://www.fccminneapolis.org/event/sunday-worship-online-and-in-person-4/2024-06-23/
LOCATION:FCC South Sanctuary & FCC LiveStream Channel
END:VEVENT
BEGIN:VEVENT
DTSTART;TZID=America/Chicago:20240616T103000
DTEND;TZID=America/Chicago:20240616T120000
DTSTAMP:20260425T200425
CREATED:20231130T203634Z
LAST-MODIFIED:20250109T212334Z
UID:10003227-1718533800-1718539200@www.fccminneapolis.org
SUMMARY:Sunday Worship (Online and In-Person)
DESCRIPTION:Click on the link on the right to attend online.
URL:https://www.fccminneapolis.org/event/sunday-worship-online-and-in-person-4/2024-06-16/
LOCATION:FCC South Sanctuary & FCC LiveStream Channel
END:VEVENT
END:VCALENDAR