BEGIN:VCALENDAR
VERSION:2.0
PRODID:-//First Christian Church (Disciples of Christ) - ECPv6.15.13//NONSGML v1.0//EN
CALSCALE:GREGORIAN
METHOD:PUBLISH
X-ORIGINAL-URL:https://www.fccminneapolis.org
X-WR-CALDESC:Events for First Christian Church (Disciples of Christ)
REFRESH-INTERVAL;VALUE=DURATION:PT1H
X-Robots-Tag:noindex
X-PUBLISHED-TTL:PT1H
BEGIN:VTIMEZONE
TZID:America/Chicago
BEGIN:DAYLIGHT
TZOFFSETFROM:-0600
TZOFFSETTO:-0500
TZNAME:CDT
DTSTART:20230312T080000
END:DAYLIGHT
BEGIN:STANDARD
TZOFFSETFROM:-0500
TZOFFSETTO:-0600
TZNAME:CST
DTSTART:20231105T070000
END:STANDARD
BEGIN:DAYLIGHT
TZOFFSETFROM:-0600
TZOFFSETTO:-0500
TZNAME:CDT
DTSTART:20240310T080000
END:DAYLIGHT
BEGIN:STANDARD
TZOFFSETFROM:-0500
TZOFFSETTO:-0600
TZNAME:CST
DTSTART:20241103T070000
END:STANDARD
BEGIN:DAYLIGHT
TZOFFSETFROM:-0600
TZOFFSETTO:-0500
TZNAME:CDT
DTSTART:20250309T080000
END:DAYLIGHT
BEGIN:STANDARD
TZOFFSETFROM:-0500
TZOFFSETTO:-0600
TZNAME:CST
DTSTART:20251102T070000
END:STANDARD
BEGIN:DAYLIGHT
TZOFFSETFROM:-0600
TZOFFSETTO:-0500
TZNAME:CDT
DTSTART:20260308T080000
END:DAYLIGHT
BEGIN:STANDARD
TZOFFSETFROM:-0500
TZOFFSETTO:-0600
TZNAME:CST
DTSTART:20261101T070000
END:STANDARD
END:VTIMEZONE
BEGIN:VEVENT
DTSTART;TZID=America/Chicago:20251130T103000
DTEND;TZID=America/Chicago:20251130T120000
DTSTAMP:20260425T165634
CREATED:20251113T211254Z
LAST-MODIFIED:20251113T211254Z
UID:10005001-1764498600-1764504000@www.fccminneapolis.org
SUMMARY:SpringHouse Joint Worship (Online and In-Person)
DESCRIPTION:Click on the link on the right to attend online.
URL:https://www.fccminneapolis.org/event/sunday-worship-online-and-in-person-4-2-2/
LOCATION:FCC South Sanctuary & FCC LiveStream Channel
END:VEVENT
BEGIN:VEVENT
DTSTART;TZID=America/Chicago:20250601T103000
DTEND;TZID=America/Chicago:20250601T120000
DTSTAMP:20260425T165634
CREATED:20231130T203634Z
LAST-MODIFIED:20250109T212334Z
UID:10004975-1748773800-1748779200@www.fccminneapolis.org
SUMMARY:Sunday Worship (Online and In-Person)
DESCRIPTION:Click on the link on the right to attend online.
URL:https://www.fccminneapolis.org/event/sunday-worship-online-and-in-person-4/2025-06-01/
LOCATION:FCC South Sanctuary & FCC LiveStream Channel
END:VEVENT
BEGIN:VEVENT
DTSTART;TZID=America/Chicago:20250525T103000
DTEND;TZID=America/Chicago:20250525T120000
DTSTAMP:20260425T165634
CREATED:20231130T203634Z
LAST-MODIFIED:20250109T212334Z
UID:10004974-1748169000-1748174400@www.fccminneapolis.org
SUMMARY:Sunday Worship (Online and In-Person)
DESCRIPTION:Click on the link on the right to attend online.
URL:https://www.fccminneapolis.org/event/sunday-worship-online-and-in-person-4/2025-05-25/
LOCATION:FCC South Sanctuary & FCC LiveStream Channel
END:VEVENT
BEGIN:VEVENT
DTSTART;TZID=America/Chicago:20250518T103000
DTEND;TZID=America/Chicago:20250518T120000
DTSTAMP:20260425T165634
CREATED:20231130T203634Z
LAST-MODIFIED:20250109T212334Z
UID:10004973-1747564200-1747569600@www.fccminneapolis.org
SUMMARY:Sunday Worship (Online and In-Person)
DESCRIPTION:Click on the link on the right to attend online.
URL:https://www.fccminneapolis.org/event/sunday-worship-online-and-in-person-4/2025-05-18/
LOCATION:FCC South Sanctuary & FCC LiveStream Channel
END:VEVENT
BEGIN:VEVENT
DTSTART;TZID=America/Chicago:20250511T103000
DTEND;TZID=America/Chicago:20250511T120000
DTSTAMP:20260425T165634
CREATED:20231130T203634Z
LAST-MODIFIED:20250109T212334Z
UID:10004972-1746959400-1746964800@www.fccminneapolis.org
SUMMARY:Sunday Worship (Online and In-Person)
DESCRIPTION:Click on the link on the right to attend online.
URL:https://www.fccminneapolis.org/event/sunday-worship-online-and-in-person-4/2025-05-11/
LOCATION:FCC South Sanctuary & FCC LiveStream Channel
END:VEVENT
BEGIN:VEVENT
DTSTART;TZID=America/Chicago:20250504T103000
DTEND;TZID=America/Chicago:20250504T120000
DTSTAMP:20260425T165634
CREATED:20231130T203634Z
LAST-MODIFIED:20250109T212334Z
UID:10004971-1746354600-1746360000@www.fccminneapolis.org
SUMMARY:Sunday Worship (Online and In-Person)
DESCRIPTION:Click on the link on the right to attend online.
URL:https://www.fccminneapolis.org/event/sunday-worship-online-and-in-person-4/2025-05-04/
LOCATION:FCC South Sanctuary & FCC LiveStream Channel
END:VEVENT
BEGIN:VEVENT
DTSTART;TZID=America/Chicago:20250427T103000
DTEND;TZID=America/Chicago:20250427T120000
DTSTAMP:20260425T165634
CREATED:20231130T203634Z
LAST-MODIFIED:20250109T212334Z
UID:10004970-1745749800-1745755200@www.fccminneapolis.org
SUMMARY:Sunday Worship (Online and In-Person)
DESCRIPTION:Click on the link on the right to attend online.
URL:https://www.fccminneapolis.org/event/sunday-worship-online-and-in-person-4/2025-04-27/
LOCATION:FCC South Sanctuary & FCC LiveStream Channel
END:VEVENT
BEGIN:VEVENT
DTSTART;TZID=America/Chicago:20250420T103000
DTEND;TZID=America/Chicago:20250420T120000
DTSTAMP:20260425T165634
CREATED:20231130T203634Z
LAST-MODIFIED:20250109T212334Z
UID:10004969-1745145000-1745150400@www.fccminneapolis.org
SUMMARY:Sunday Worship (Online and In-Person)
DESCRIPTION:Click on the link on the right to attend online.
URL:https://www.fccminneapolis.org/event/sunday-worship-online-and-in-person-4/2025-04-20/
LOCATION:FCC South Sanctuary & FCC LiveStream Channel
END:VEVENT
BEGIN:VEVENT
DTSTART;TZID=America/Chicago:20250413T103000
DTEND;TZID=America/Chicago:20250413T120000
DTSTAMP:20260425T165634
CREATED:20231130T203634Z
LAST-MODIFIED:20250109T212334Z
UID:10004968-1744540200-1744545600@www.fccminneapolis.org
SUMMARY:Sunday Worship (Online and In-Person)
DESCRIPTION:Click on the link on the right to attend online.
URL:https://www.fccminneapolis.org/event/sunday-worship-online-and-in-person-4/2025-04-13/
LOCATION:FCC South Sanctuary & FCC LiveStream Channel
END:VEVENT
BEGIN:VEVENT
DTSTART;TZID=America/Chicago:20250406T103000
DTEND;TZID=America/Chicago:20250406T120000
DTSTAMP:20260425T165634
CREATED:20231130T203634Z
LAST-MODIFIED:20250109T212334Z
UID:10004967-1743935400-1743940800@www.fccminneapolis.org
SUMMARY:Sunday Worship (Online and In-Person)
DESCRIPTION:Click on the link on the right to attend online.
URL:https://www.fccminneapolis.org/event/sunday-worship-online-and-in-person-4/2025-04-06/
LOCATION:FCC South Sanctuary & FCC LiveStream Channel
END:VEVENT
BEGIN:VEVENT
DTSTART;TZID=America/Chicago:20250330T103000
DTEND;TZID=America/Chicago:20250330T120000
DTSTAMP:20260425T165634
CREATED:20231130T203634Z
LAST-MODIFIED:20250109T212334Z
UID:10004966-1743330600-1743336000@www.fccminneapolis.org
SUMMARY:Sunday Worship (Online and In-Person)
DESCRIPTION:Click on the link on the right to attend online.
URL:https://www.fccminneapolis.org/event/sunday-worship-online-and-in-person-4/2025-03-30/
LOCATION:FCC South Sanctuary & FCC LiveStream Channel
END:VEVENT
BEGIN:VEVENT
DTSTART;TZID=America/Chicago:20250323T103000
DTEND;TZID=America/Chicago:20250323T120000
DTSTAMP:20260425T165634
CREATED:20231130T203634Z
LAST-MODIFIED:20250109T212334Z
UID:10004965-1742725800-1742731200@www.fccminneapolis.org
SUMMARY:Sunday Worship (Online and In-Person)
DESCRIPTION:Click on the link on the right to attend online.
URL:https://www.fccminneapolis.org/event/sunday-worship-online-and-in-person-4/2025-03-23/
LOCATION:FCC South Sanctuary & FCC LiveStream Channel
END:VEVENT
BEGIN:VEVENT
DTSTART;TZID=America/Chicago:20250316T103000
DTEND;TZID=America/Chicago:20250316T120000
DTSTAMP:20260425T165634
CREATED:20231130T203634Z
LAST-MODIFIED:20250109T212334Z
UID:10004964-1742121000-1742126400@www.fccminneapolis.org
SUMMARY:Sunday Worship (Online and In-Person)
DESCRIPTION:Click on the link on the right to attend online.
URL:https://www.fccminneapolis.org/event/sunday-worship-online-and-in-person-4/2025-03-16/
LOCATION:FCC South Sanctuary & FCC LiveStream Channel
END:VEVENT
BEGIN:VEVENT
DTSTART;TZID=America/Chicago:20250309T103000
DTEND;TZID=America/Chicago:20250309T120000
DTSTAMP:20260425T165634
CREATED:20231130T203634Z
LAST-MODIFIED:20250109T212334Z
UID:10004963-1741516200-1741521600@www.fccminneapolis.org
SUMMARY:Sunday Worship (Online and In-Person)
DESCRIPTION:Click on the link on the right to attend online.
URL:https://www.fccminneapolis.org/event/sunday-worship-online-and-in-person-4/2025-03-09/
LOCATION:FCC South Sanctuary & FCC LiveStream Channel
END:VEVENT
BEGIN:VEVENT
DTSTART;TZID=America/Chicago:20250302T103000
DTEND;TZID=America/Chicago:20250302T120000
DTSTAMP:20260425T165634
CREATED:20231130T203634Z
LAST-MODIFIED:20250109T212334Z
UID:10004962-1740911400-1740916800@www.fccminneapolis.org
SUMMARY:Sunday Worship (Online and In-Person)
DESCRIPTION:Click on the link on the right to attend online.
URL:https://www.fccminneapolis.org/event/sunday-worship-online-and-in-person-4/2025-03-02/
LOCATION:FCC South Sanctuary & FCC LiveStream Channel
END:VEVENT
BEGIN:VEVENT
DTSTART;TZID=America/Chicago:20250223T103000
DTEND;TZID=America/Chicago:20250223T120000
DTSTAMP:20260425T165634
CREATED:20231130T203634Z
LAST-MODIFIED:20250109T212334Z
UID:10004961-1740306600-1740312000@www.fccminneapolis.org
SUMMARY:Sunday Worship (Online and In-Person)
DESCRIPTION:Click on the link on the right to attend online.
URL:https://www.fccminneapolis.org/event/sunday-worship-online-and-in-person-4/2025-02-23/
LOCATION:FCC South Sanctuary & FCC LiveStream Channel
END:VEVENT
BEGIN:VEVENT
DTSTART;TZID=America/Chicago:20250216T103000
DTEND;TZID=America/Chicago:20250216T120000
DTSTAMP:20260425T165634
CREATED:20231130T203634Z
LAST-MODIFIED:20250109T212334Z
UID:10004960-1739701800-1739707200@www.fccminneapolis.org
SUMMARY:Sunday Worship (Online and In-Person)
DESCRIPTION:Click on the link on the right to attend online.
URL:https://www.fccminneapolis.org/event/sunday-worship-online-and-in-person-4/2025-02-16/
LOCATION:FCC South Sanctuary & FCC LiveStream Channel
END:VEVENT
BEGIN:VEVENT
DTSTART;TZID=America/Chicago:20250213T100000
DTEND;TZID=America/Chicago:20250213T120000
DTSTAMP:20260425T165634
CREATED:20250204T195316Z
LAST-MODIFIED:20250204T195316Z
UID:10005449-1739440800-1739448000@www.fccminneapolis.org
SUMMARY:Jim Bowman Memorial Service
DESCRIPTION:
URL:https://www.fccminneapolis.org/event/jim-bowman-memorial-service/
LOCATION:FCC South Sanctuary & FCC LiveStream Channel
END:VEVENT
BEGIN:VEVENT
DTSTART;TZID=America/Chicago:20250209T103000
DTEND;TZID=America/Chicago:20250209T120000
DTSTAMP:20260425T165634
CREATED:20231130T203634Z
LAST-MODIFIED:20250109T212334Z
UID:10004959-1739097000-1739102400@www.fccminneapolis.org
SUMMARY:Sunday Worship (Online and In-Person)
DESCRIPTION:Click on the link on the right to attend online.
URL:https://www.fccminneapolis.org/event/sunday-worship-online-and-in-person-4/2025-02-09/
LOCATION:FCC South Sanctuary & FCC LiveStream Channel
END:VEVENT
BEGIN:VEVENT
DTSTART;TZID=America/Chicago:20250202T103000
DTEND;TZID=America/Chicago:20250202T120000
DTSTAMP:20260425T165634
CREATED:20231130T203634Z
LAST-MODIFIED:20250109T212334Z
UID:10004958-1738492200-1738497600@www.fccminneapolis.org
SUMMARY:Sunday Worship (Online and In-Person)
DESCRIPTION:Click on the link on the right to attend online.
URL:https://www.fccminneapolis.org/event/sunday-worship-online-and-in-person-4/2025-02-02/
LOCATION:FCC South Sanctuary & FCC LiveStream Channel
END:VEVENT
BEGIN:VEVENT
DTSTART;TZID=America/Chicago:20250119T103000
DTEND;TZID=America/Chicago:20250119T120000
DTSTAMP:20260425T165634
CREATED:20231130T203634Z
LAST-MODIFIED:20250109T212334Z
UID:10004956-1737282600-1737288000@www.fccminneapolis.org
SUMMARY:Sunday Worship (Online and In-Person)
DESCRIPTION:Click on the link on the right to attend online.
URL:https://www.fccminneapolis.org/event/sunday-worship-online-and-in-person-4/2025-01-19/
LOCATION:FCC South Sanctuary & FCC LiveStream Channel
END:VEVENT
BEGIN:VEVENT
DTSTART;TZID=America/Chicago:20250112T103000
DTEND;TZID=America/Chicago:20250112T120000
DTSTAMP:20260425T165634
CREATED:20231130T203634Z
LAST-MODIFIED:20250109T212334Z
UID:10003257-1736677800-1736683200@www.fccminneapolis.org
SUMMARY:Sunday Worship (Online and In-Person)
DESCRIPTION:Click on the link on the right to attend online.
URL:https://www.fccminneapolis.org/event/sunday-worship-online-and-in-person-4/2025-01-12/
LOCATION:FCC South Sanctuary & FCC LiveStream Channel
END:VEVENT
BEGIN:VEVENT
DTSTART;TZID=America/Chicago:20250105T103000
DTEND;TZID=America/Chicago:20250105T120000
DTSTAMP:20260425T165634
CREATED:20231130T203634Z
LAST-MODIFIED:20250109T212334Z
UID:10003256-1736073000-1736078400@www.fccminneapolis.org
SUMMARY:Sunday Worship (Online and In-Person)
DESCRIPTION:Click on the link on the right to attend online.
URL:https://www.fccminneapolis.org/event/sunday-worship-online-and-in-person-4/2025-01-05/
LOCATION:FCC South Sanctuary & FCC LiveStream Channel
END:VEVENT
BEGIN:VEVENT
DTSTART;TZID=America/Chicago:20241229T103000
DTEND;TZID=America/Chicago:20241229T120000
DTSTAMP:20260425T165634
CREATED:20231130T203634Z
LAST-MODIFIED:20250109T212334Z
UID:10003255-1735468200-1735473600@www.fccminneapolis.org
SUMMARY:Sunday Worship (Online and In-Person)
DESCRIPTION:Click on the link on the right to attend online.
URL:https://www.fccminneapolis.org/event/sunday-worship-online-and-in-person-4/2024-12-29/
LOCATION:FCC South Sanctuary & FCC LiveStream Channel
END:VEVENT
BEGIN:VEVENT
DTSTART;TZID=America/Chicago:20241224T173000
DTEND;TZID=America/Chicago:20241224T183000
DTSTAMP:20260425T165634
CREATED:20241203T135944Z
LAST-MODIFIED:20241203T135944Z
UID:10004847-1735061400-1735065000@www.fccminneapolis.org
SUMMARY:Christmas Eve Service
DESCRIPTION:
URL:https://www.fccminneapolis.org/event/christmas-eve-service-2/
LOCATION:FCC South Sanctuary & FCC LiveStream Channel
CATEGORIES:Christmas Eve Service
END:VEVENT
BEGIN:VEVENT
DTSTART;TZID=America/Chicago:20241222T103000
DTEND;TZID=America/Chicago:20241222T120000
DTSTAMP:20260425T165634
CREATED:20231130T203634Z
LAST-MODIFIED:20250109T212334Z
UID:10003254-1734863400-1734868800@www.fccminneapolis.org
SUMMARY:Sunday Worship (Online and In-Person)
DESCRIPTION:Click on the link on the right to attend online.
URL:https://www.fccminneapolis.org/event/sunday-worship-online-and-in-person-4/2024-12-22/
LOCATION:FCC South Sanctuary & FCC LiveStream Channel
END:VEVENT
BEGIN:VEVENT
DTSTART;TZID=America/Chicago:20241221T160000
DTEND;TZID=America/Chicago:20241221T173000
DTSTAMP:20260425T165634
CREATED:20241125T201554Z
LAST-MODIFIED:20241220T170252Z
UID:10004835-1734796800-1734802200@www.fccminneapolis.org
SUMMARY:Blue Christmas Service
DESCRIPTION:
URL:https://www.fccminneapolis.org/event/blue-christmas-service-4/
LOCATION:FCC South Sanctuary & FCC LiveStream Channel
END:VEVENT
BEGIN:VEVENT
DTSTART;TZID=America/Chicago:20241215T103000
DTEND;TZID=America/Chicago:20241215T120000
DTSTAMP:20260425T165634
CREATED:20231130T203634Z
LAST-MODIFIED:20250109T212334Z
UID:10003253-1734258600-1734264000@www.fccminneapolis.org
SUMMARY:Sunday Worship (Online and In-Person)
DESCRIPTION:Click on the link on the right to attend online.
URL:https://www.fccminneapolis.org/event/sunday-worship-online-and-in-person-4/2024-12-15/
LOCATION:FCC South Sanctuary & FCC LiveStream Channel
END:VEVENT
BEGIN:VEVENT
DTSTART;TZID=America/Chicago:20241208T103000
DTEND;TZID=America/Chicago:20241208T120000
DTSTAMP:20260425T165634
CREATED:20231130T203634Z
LAST-MODIFIED:20250109T212334Z
UID:10003252-1733653800-1733659200@www.fccminneapolis.org
SUMMARY:Sunday Worship (Online and In-Person)
DESCRIPTION:Click on the link on the right to attend online.
URL:https://www.fccminneapolis.org/event/sunday-worship-online-and-in-person-4/2024-12-08/
LOCATION:FCC South Sanctuary & FCC LiveStream Channel
END:VEVENT
BEGIN:VEVENT
DTSTART;TZID=America/Chicago:20241201T103000
DTEND;TZID=America/Chicago:20241201T120000
DTSTAMP:20260425T165634
CREATED:20231130T203634Z
LAST-MODIFIED:20250109T212334Z
UID:10003251-1733049000-1733054400@www.fccminneapolis.org
SUMMARY:Sunday Worship (Online and In-Person)
DESCRIPTION:Click on the link on the right to attend online.
URL:https://www.fccminneapolis.org/event/sunday-worship-online-and-in-person-4/2024-12-01/
LOCATION:FCC South Sanctuary & FCC LiveStream Channel
END:VEVENT
END:VCALENDAR