BEGIN:VCALENDAR
VERSION:2.0
PRODID:-//First Christian Church (Disciples of Christ) - ECPv6.15.13//NONSGML v1.0//EN
CALSCALE:GREGORIAN
METHOD:PUBLISH
X-ORIGINAL-URL:https://www.fccminneapolis.org
X-WR-CALDESC:Events for First Christian Church (Disciples of Christ)
REFRESH-INTERVAL;VALUE=DURATION:PT1H
X-Robots-Tag:noindex
X-PUBLISHED-TTL:PT1H
BEGIN:VTIMEZONE
TZID:America/Chicago
BEGIN:DAYLIGHT
TZOFFSETFROM:-0600
TZOFFSETTO:-0500
TZNAME:CDT
DTSTART:20220313T080000
END:DAYLIGHT
BEGIN:STANDARD
TZOFFSETFROM:-0500
TZOFFSETTO:-0600
TZNAME:CST
DTSTART:20221106T070000
END:STANDARD
BEGIN:DAYLIGHT
TZOFFSETFROM:-0600
TZOFFSETTO:-0500
TZNAME:CDT
DTSTART:20230312T080000
END:DAYLIGHT
BEGIN:STANDARD
TZOFFSETFROM:-0500
TZOFFSETTO:-0600
TZNAME:CST
DTSTART:20231105T070000
END:STANDARD
BEGIN:DAYLIGHT
TZOFFSETFROM:-0600
TZOFFSETTO:-0500
TZNAME:CDT
DTSTART:20240310T080000
END:DAYLIGHT
BEGIN:STANDARD
TZOFFSETFROM:-0500
TZOFFSETTO:-0600
TZNAME:CST
DTSTART:20241103T070000
END:STANDARD
BEGIN:DAYLIGHT
TZOFFSETFROM:-0600
TZOFFSETTO:-0500
TZNAME:CDT
DTSTART:20250309T080000
END:DAYLIGHT
BEGIN:STANDARD
TZOFFSETFROM:-0500
TZOFFSETTO:-0600
TZNAME:CST
DTSTART:20251102T070000
END:STANDARD
BEGIN:DAYLIGHT
TZOFFSETFROM:-0600
TZOFFSETTO:-0500
TZNAME:CDT
DTSTART:20260308T080000
END:DAYLIGHT
BEGIN:STANDARD
TZOFFSETFROM:-0500
TZOFFSETTO:-0600
TZNAME:CST
DTSTART:20261101T070000
END:STANDARD
END:VTIMEZONE
BEGIN:VEVENT
DTSTART;TZID=America/Chicago:20251123T103000
DTEND;TZID=America/Chicago:20251123T120000
DTSTAMP:20260425T205854
CREATED:20250603T113427Z
LAST-MODIFIED:20250603T113434Z
UID:10005000-1763893800-1763899200@www.fccminneapolis.org
SUMMARY:Sunday Worship (Online and In-Person)
DESCRIPTION:Click on the link on the right to attend online.
URL:https://www.fccminneapolis.org/event/sunday-worship-online-and-in-person-4-2/2025-11-23/
LOCATION:FCC North Sanctuary & LiveStream Channel
END:VEVENT
BEGIN:VEVENT
DTSTART;TZID=America/Chicago:20251116T103000
DTEND;TZID=America/Chicago:20251116T120000
DTSTAMP:20260425T205854
CREATED:20250603T113427Z
LAST-MODIFIED:20250603T113434Z
UID:10004999-1763289000-1763294400@www.fccminneapolis.org
SUMMARY:Sunday Worship (Online and In-Person)
DESCRIPTION:Click on the link on the right to attend online.
URL:https://www.fccminneapolis.org/event/sunday-worship-online-and-in-person-4-2/2025-11-16/
LOCATION:FCC North Sanctuary & LiveStream Channel
END:VEVENT
BEGIN:VEVENT
DTSTART;TZID=America/Chicago:20251109T103000
DTEND;TZID=America/Chicago:20251109T120000
DTSTAMP:20260425T205854
CREATED:20250603T113427Z
LAST-MODIFIED:20250603T113434Z
UID:10004998-1762684200-1762689600@www.fccminneapolis.org
SUMMARY:Sunday Worship (Online and In-Person)
DESCRIPTION:Click on the link on the right to attend online.
URL:https://www.fccminneapolis.org/event/sunday-worship-online-and-in-person-4-2/2025-11-09/
LOCATION:FCC North Sanctuary & LiveStream Channel
END:VEVENT
BEGIN:VEVENT
DTSTART;TZID=America/Chicago:20251102T103000
DTEND;TZID=America/Chicago:20251102T120000
DTSTAMP:20260425T205854
CREATED:20250603T113427Z
LAST-MODIFIED:20250603T113434Z
UID:10004997-1762079400-1762084800@www.fccminneapolis.org
SUMMARY:Sunday Worship (Online and In-Person)
DESCRIPTION:Click on the link on the right to attend online.
URL:https://www.fccminneapolis.org/event/sunday-worship-online-and-in-person-4-2/2025-11-02/
LOCATION:FCC North Sanctuary & LiveStream Channel
END:VEVENT
BEGIN:VEVENT
DTSTART;TZID=America/Chicago:20251026T103000
DTEND;TZID=America/Chicago:20251026T120000
DTSTAMP:20260425T205854
CREATED:20250603T113427Z
LAST-MODIFIED:20250603T113434Z
UID:10004996-1761474600-1761480000@www.fccminneapolis.org
SUMMARY:Sunday Worship (Online and In-Person)
DESCRIPTION:Click on the link on the right to attend online.
URL:https://www.fccminneapolis.org/event/sunday-worship-online-and-in-person-4-2/2025-10-26/
LOCATION:FCC North Sanctuary & LiveStream Channel
END:VEVENT
BEGIN:VEVENT
DTSTART;TZID=America/Chicago:20251019T103000
DTEND;TZID=America/Chicago:20251019T120000
DTSTAMP:20260425T205854
CREATED:20250603T113427Z
LAST-MODIFIED:20250603T113434Z
UID:10004995-1760869800-1760875200@www.fccminneapolis.org
SUMMARY:Sunday Worship (Online and In-Person)
DESCRIPTION:Click on the link on the right to attend online.
URL:https://www.fccminneapolis.org/event/sunday-worship-online-and-in-person-4-2/2025-10-19/
LOCATION:FCC North Sanctuary & LiveStream Channel
END:VEVENT
BEGIN:VEVENT
DTSTART;TZID=America/Chicago:20251012T103000
DTEND;TZID=America/Chicago:20251012T120000
DTSTAMP:20260425T205854
CREATED:20250603T113427Z
LAST-MODIFIED:20250603T113434Z
UID:10004994-1760265000-1760270400@www.fccminneapolis.org
SUMMARY:Sunday Worship (Online and In-Person)
DESCRIPTION:Click on the link on the right to attend online.
URL:https://www.fccminneapolis.org/event/sunday-worship-online-and-in-person-4-2/2025-10-12/
LOCATION:FCC North Sanctuary & LiveStream Channel
END:VEVENT
BEGIN:VEVENT
DTSTART;TZID=America/Chicago:20251005T103000
DTEND;TZID=America/Chicago:20251005T120000
DTSTAMP:20260425T205854
CREATED:20250603T113427Z
LAST-MODIFIED:20250603T113434Z
UID:10004993-1759660200-1759665600@www.fccminneapolis.org
SUMMARY:Sunday Worship (Online and In-Person)
DESCRIPTION:Click on the link on the right to attend online.
URL:https://www.fccminneapolis.org/event/sunday-worship-online-and-in-person-4-2/2025-10-05/
LOCATION:FCC North Sanctuary & LiveStream Channel
END:VEVENT
BEGIN:VEVENT
DTSTART;TZID=America/Chicago:20250928T103000
DTEND;TZID=America/Chicago:20250928T120000
DTSTAMP:20260425T205854
CREATED:20250603T113427Z
LAST-MODIFIED:20250603T113434Z
UID:10004992-1759055400-1759060800@www.fccminneapolis.org
SUMMARY:Sunday Worship (Online and In-Person)
DESCRIPTION:Click on the link on the right to attend online.
URL:https://www.fccminneapolis.org/event/sunday-worship-online-and-in-person-4-2/2025-09-28/
LOCATION:FCC North Sanctuary & LiveStream Channel
END:VEVENT
BEGIN:VEVENT
DTSTART;TZID=America/Chicago:20250921T103000
DTEND;TZID=America/Chicago:20250921T120000
DTSTAMP:20260425T205854
CREATED:20250603T113427Z
LAST-MODIFIED:20250603T113434Z
UID:10004991-1758450600-1758456000@www.fccminneapolis.org
SUMMARY:Sunday Worship (Online and In-Person)
DESCRIPTION:Click on the link on the right to attend online.
URL:https://www.fccminneapolis.org/event/sunday-worship-online-and-in-person-4-2/2025-09-21/
LOCATION:FCC North Sanctuary & LiveStream Channel
END:VEVENT
BEGIN:VEVENT
DTSTART;TZID=America/Chicago:20250914T103000
DTEND;TZID=America/Chicago:20250914T120000
DTSTAMP:20260425T205854
CREATED:20250603T113427Z
LAST-MODIFIED:20250603T113434Z
UID:10004990-1757845800-1757851200@www.fccminneapolis.org
SUMMARY:Sunday Worship (Online and In-Person)
DESCRIPTION:Click on the link on the right to attend online.
URL:https://www.fccminneapolis.org/event/sunday-worship-online-and-in-person-4-2/2025-09-14/
LOCATION:FCC North Sanctuary & LiveStream Channel
END:VEVENT
BEGIN:VEVENT
DTSTART;TZID=America/Chicago:20250831T103000
DTEND;TZID=America/Chicago:20250831T120000
DTSTAMP:20260425T205854
CREATED:20250603T113427Z
LAST-MODIFIED:20250603T113434Z
UID:10004988-1756636200-1756641600@www.fccminneapolis.org
SUMMARY:Sunday Worship (Online and In-Person)
DESCRIPTION:Click on the link on the right to attend online.
URL:https://www.fccminneapolis.org/event/sunday-worship-online-and-in-person-4-2/2025-08-31/
LOCATION:FCC North Sanctuary & LiveStream Channel
END:VEVENT
BEGIN:VEVENT
DTSTART;TZID=America/Chicago:20250824T103000
DTEND;TZID=America/Chicago:20250824T120000
DTSTAMP:20260425T205854
CREATED:20250603T113427Z
LAST-MODIFIED:20250603T113434Z
UID:10004987-1756031400-1756036800@www.fccminneapolis.org
SUMMARY:Sunday Worship (Online and In-Person)
DESCRIPTION:Click on the link on the right to attend online.
URL:https://www.fccminneapolis.org/event/sunday-worship-online-and-in-person-4-2/2025-08-24/
LOCATION:FCC North Sanctuary & LiveStream Channel
END:VEVENT
BEGIN:VEVENT
DTSTART;TZID=America/Chicago:20250810T103000
DTEND;TZID=America/Chicago:20250810T120000
DTSTAMP:20260425T205854
CREATED:20250603T113427Z
LAST-MODIFIED:20250603T113434Z
UID:10004985-1754821800-1754827200@www.fccminneapolis.org
SUMMARY:Sunday Worship (Online and In-Person)
DESCRIPTION:Click on the link on the right to attend online.
URL:https://www.fccminneapolis.org/event/sunday-worship-online-and-in-person-4-2/2025-08-10/
LOCATION:FCC North Sanctuary & LiveStream Channel
END:VEVENT
BEGIN:VEVENT
DTSTART;TZID=America/Chicago:20250803T103000
DTEND;TZID=America/Chicago:20250803T120000
DTSTAMP:20260425T205854
CREATED:20250603T113427Z
LAST-MODIFIED:20250603T113434Z
UID:10004984-1754217000-1754222400@www.fccminneapolis.org
SUMMARY:Sunday Worship (Online and In-Person)
DESCRIPTION:Click on the link on the right to attend online.
URL:https://www.fccminneapolis.org/event/sunday-worship-online-and-in-person-4-2/2025-08-03/
LOCATION:FCC North Sanctuary & LiveStream Channel
END:VEVENT
BEGIN:VEVENT
DTSTART;TZID=America/Chicago:20250727T103000
DTEND;TZID=America/Chicago:20250727T120000
DTSTAMP:20260425T205854
CREATED:20250603T113427Z
LAST-MODIFIED:20250603T113434Z
UID:10004983-1753612200-1753617600@www.fccminneapolis.org
SUMMARY:Sunday Worship (Online and In-Person)
DESCRIPTION:Click on the link on the right to attend online.
URL:https://www.fccminneapolis.org/event/sunday-worship-online-and-in-person-4-2/2025-07-27/
LOCATION:FCC North Sanctuary & LiveStream Channel
END:VEVENT
BEGIN:VEVENT
DTSTART;TZID=America/Chicago:20250720T103000
DTEND;TZID=America/Chicago:20250720T120000
DTSTAMP:20260425T205854
CREATED:20250603T113427Z
LAST-MODIFIED:20250603T113434Z
UID:10004982-1753007400-1753012800@www.fccminneapolis.org
SUMMARY:Sunday Worship (Online and In-Person)
DESCRIPTION:Click on the link on the right to attend online.
URL:https://www.fccminneapolis.org/event/sunday-worship-online-and-in-person-4-2/2025-07-20/
LOCATION:FCC North Sanctuary & LiveStream Channel
END:VEVENT
BEGIN:VEVENT
DTSTART;TZID=America/Chicago:20250713T103000
DTEND;TZID=America/Chicago:20250713T120000
DTSTAMP:20260425T205854
CREATED:20250603T113427Z
LAST-MODIFIED:20250603T113434Z
UID:10004981-1752402600-1752408000@www.fccminneapolis.org
SUMMARY:Sunday Worship (Online and In-Person)
DESCRIPTION:Click on the link on the right to attend online.
URL:https://www.fccminneapolis.org/event/sunday-worship-online-and-in-person-4-2/2025-07-13/
LOCATION:FCC North Sanctuary & LiveStream Channel
END:VEVENT
BEGIN:VEVENT
DTSTART;TZID=America/Chicago:20250706T103000
DTEND;TZID=America/Chicago:20250706T120000
DTSTAMP:20260425T205854
CREATED:20250603T113427Z
LAST-MODIFIED:20250603T113434Z
UID:10004980-1751797800-1751803200@www.fccminneapolis.org
SUMMARY:Sunday Worship (Online and In-Person)
DESCRIPTION:Click on the link on the right to attend online.
URL:https://www.fccminneapolis.org/event/sunday-worship-online-and-in-person-4-2/2025-07-06/
LOCATION:FCC North Sanctuary & LiveStream Channel
END:VEVENT
BEGIN:VEVENT
DTSTART;TZID=America/Chicago:20250629T103000
DTEND;TZID=America/Chicago:20250629T120000
DTSTAMP:20260425T205854
CREATED:20250603T113427Z
LAST-MODIFIED:20250603T113434Z
UID:10004979-1751193000-1751198400@www.fccminneapolis.org
SUMMARY:Sunday Worship (Online and In-Person)
DESCRIPTION:Click on the link on the right to attend online.
URL:https://www.fccminneapolis.org/event/sunday-worship-online-and-in-person-4-2/2025-06-29/
LOCATION:FCC North Sanctuary & LiveStream Channel
END:VEVENT
BEGIN:VEVENT
DTSTART;TZID=America/Chicago:20250622T103000
DTEND;TZID=America/Chicago:20250622T120000
DTSTAMP:20260425T205854
CREATED:20250603T113427Z
LAST-MODIFIED:20250603T113434Z
UID:10004978-1750588200-1750593600@www.fccminneapolis.org
SUMMARY:Sunday Worship (Online and In-Person)
DESCRIPTION:Click on the link on the right to attend online.
URL:https://www.fccminneapolis.org/event/sunday-worship-online-and-in-person-4-2/2025-06-22/
LOCATION:FCC North Sanctuary & LiveStream Channel
END:VEVENT
BEGIN:VEVENT
DTSTART;TZID=America/Chicago:20250615T103000
DTEND;TZID=America/Chicago:20250615T120000
DTSTAMP:20260425T205854
CREATED:20250603T113427Z
LAST-MODIFIED:20250603T113434Z
UID:10004977-1749983400-1749988800@www.fccminneapolis.org
SUMMARY:Sunday Worship (Online and In-Person)
DESCRIPTION:Click on the link on the right to attend online.
URL:https://www.fccminneapolis.org/event/sunday-worship-online-and-in-person-4-2/2025-06-15/
LOCATION:FCC North Sanctuary & LiveStream Channel
END:VEVENT
BEGIN:VEVENT
DTSTART;TZID=America/Chicago:20250608T103000
DTEND;TZID=America/Chicago:20250608T120000
DTSTAMP:20260425T205854
CREATED:20250603T113427Z
LAST-MODIFIED:20250603T113434Z
UID:10004976-1749378600-1749384000@www.fccminneapolis.org
SUMMARY:Sunday Worship (Online and In-Person)
DESCRIPTION:Click on the link on the right to attend online.
URL:https://www.fccminneapolis.org/event/sunday-worship-online-and-in-person-4-2/2025-06-08/
LOCATION:FCC North Sanctuary & LiveStream Channel
END:VEVENT
BEGIN:VEVENT
DTSTART;TZID=America/Chicago:20240114T120000
DTEND;TZID=America/Chicago:20240114T123000
DTSTAMP:20260425T205854
CREATED:20231219T181320Z
LAST-MODIFIED:20240104T164633Z
UID:10003689-1705233600-1705235400@www.fccminneapolis.org
SUMMARY:Annual Congregational Meeting
DESCRIPTION:Trustees slate: \nAnna Bliss\nAndy Rennert \nElder and Deacon slate coming soon!
URL:https://www.fccminneapolis.org/event/annual-congregational-meeting-2/
LOCATION:FCC North Sanctuary & LiveStream Channel
END:VEVENT
BEGIN:VEVENT
DTSTART;TZID=America/Chicago:20240107T103000
DTEND;TZID=America/Chicago:20240107T114500
DTSTAMP:20260425T205854
CREATED:20221215T215206Z
LAST-MODIFIED:20231130T203109Z
UID:10003204-1704623400-1704627900@www.fccminneapolis.org
SUMMARY:Sunday Worship (Online and In-Person)
DESCRIPTION:Click on the link below to attend online through our YouTube Channel
URL:https://www.fccminneapolis.org/event/sunday-worship-online-and-in-person-2/2024-01-07/
LOCATION:FCC North Sanctuary & LiveStream Channel
CATEGORIES:Sunday Worship
END:VEVENT
BEGIN:VEVENT
DTSTART;TZID=America/Chicago:20231231T103000
DTEND;TZID=America/Chicago:20231231T114500
DTSTAMP:20260425T205854
CREATED:20221215T215206Z
LAST-MODIFIED:20231130T203109Z
UID:10002850-1704018600-1704023100@www.fccminneapolis.org
SUMMARY:Sunday Worship (Online and In-Person)
DESCRIPTION:Click on the link below to attend online through our YouTube Channel
URL:https://www.fccminneapolis.org/event/sunday-worship-online-and-in-person-2/2023-12-31/
LOCATION:FCC North Sanctuary & LiveStream Channel
CATEGORIES:Sunday Worship
END:VEVENT
BEGIN:VEVENT
DTSTART;TZID=America/Chicago:20231224T103000
DTEND;TZID=America/Chicago:20231224T114500
DTSTAMP:20260425T205854
CREATED:20221215T215206Z
LAST-MODIFIED:20231130T203109Z
UID:10002849-1703413800-1703418300@www.fccminneapolis.org
SUMMARY:Sunday Worship (Online and In-Person)
DESCRIPTION:Click on the link below to attend online through our YouTube Channel
URL:https://www.fccminneapolis.org/event/sunday-worship-online-and-in-person-2/2023-12-24/
LOCATION:FCC North Sanctuary & LiveStream Channel
CATEGORIES:Sunday Worship
END:VEVENT
BEGIN:VEVENT
DTSTART;TZID=America/Chicago:20231217T103000
DTEND;TZID=America/Chicago:20231217T114500
DTSTAMP:20260425T205854
CREATED:20221215T215206Z
LAST-MODIFIED:20231130T203109Z
UID:10002848-1702809000-1702813500@www.fccminneapolis.org
SUMMARY:Sunday Worship (Online and In-Person)
DESCRIPTION:Click on the link below to attend online through our YouTube Channel
URL:https://www.fccminneapolis.org/event/sunday-worship-online-and-in-person-2/2023-12-17/
LOCATION:FCC North Sanctuary & LiveStream Channel
CATEGORIES:Sunday Worship
END:VEVENT
BEGIN:VEVENT
DTSTART;TZID=America/Chicago:20231210T103000
DTEND;TZID=America/Chicago:20231210T114500
DTSTAMP:20260425T205854
CREATED:20221215T215206Z
LAST-MODIFIED:20231130T203109Z
UID:10002847-1702204200-1702208700@www.fccminneapolis.org
SUMMARY:Sunday Worship (Online and In-Person)
DESCRIPTION:Click on the link below to attend online through our YouTube Channel
URL:https://www.fccminneapolis.org/event/sunday-worship-online-and-in-person-2/2023-12-10/
LOCATION:FCC North Sanctuary & LiveStream Channel
CATEGORIES:Sunday Worship
END:VEVENT
BEGIN:VEVENT
DTSTART;TZID=America/Chicago:20231203T103000
DTEND;TZID=America/Chicago:20231203T114500
DTSTAMP:20260425T205854
CREATED:20221215T215206Z
LAST-MODIFIED:20231130T203109Z
UID:10002846-1701599400-1701603900@www.fccminneapolis.org
SUMMARY:Sunday Worship (Online and In-Person)
DESCRIPTION:Click on the link below to attend online through our YouTube Channel
URL:https://www.fccminneapolis.org/event/sunday-worship-online-and-in-person-2/2023-12-03/
LOCATION:FCC North Sanctuary & LiveStream Channel
CATEGORIES:Sunday Worship
END:VEVENT
END:VCALENDAR