BEGIN:VCALENDAR
VERSION:2.0
PRODID:-//First Christian Church (Disciples of Christ) - ECPv6.15.13//NONSGML v1.0//EN
CALSCALE:GREGORIAN
METHOD:PUBLISH
X-WR-CALNAME:First Christian Church (Disciples of Christ)
X-ORIGINAL-URL:https://www.fccminneapolis.org
X-WR-CALDESC:Events for First Christian Church (Disciples of Christ)
REFRESH-INTERVAL;VALUE=DURATION:PT1H
X-Robots-Tag:noindex
X-PUBLISHED-TTL:PT1H
BEGIN:VTIMEZONE
TZID:America/Chicago
BEGIN:DAYLIGHT
TZOFFSETFROM:-0600
TZOFFSETTO:-0500
TZNAME:CDT
DTSTART:20230312T080000
END:DAYLIGHT
BEGIN:STANDARD
TZOFFSETFROM:-0500
TZOFFSETTO:-0600
TZNAME:CST
DTSTART:20231105T070000
END:STANDARD
BEGIN:DAYLIGHT
TZOFFSETFROM:-0600
TZOFFSETTO:-0500
TZNAME:CDT
DTSTART:20240310T080000
END:DAYLIGHT
BEGIN:STANDARD
TZOFFSETFROM:-0500
TZOFFSETTO:-0600
TZNAME:CST
DTSTART:20241103T070000
END:STANDARD
BEGIN:DAYLIGHT
TZOFFSETFROM:-0600
TZOFFSETTO:-0500
TZNAME:CDT
DTSTART:20250309T080000
END:DAYLIGHT
BEGIN:STANDARD
TZOFFSETFROM:-0500
TZOFFSETTO:-0600
TZNAME:CST
DTSTART:20251102T070000
END:STANDARD
BEGIN:DAYLIGHT
TZOFFSETFROM:-0600
TZOFFSETTO:-0500
TZNAME:CDT
DTSTART:20260308T080000
END:DAYLIGHT
BEGIN:STANDARD
TZOFFSETFROM:-0500
TZOFFSETTO:-0600
TZNAME:CST
DTSTART:20261101T070000
END:STANDARD
END:VTIMEZONE
BEGIN:VEVENT
DTSTART;TZID=America/Chicago:20251224T170000
DTEND;TZID=America/Chicago:20251224T190000
DTSTAMP:20260425T232739
CREATED:20251216T185608Z
LAST-MODIFIED:20251216T185608Z
UID:10007261-1766595600-1766602800@www.fccminneapolis.org
SUMMARY:Christmas Eve Service
DESCRIPTION:Choir Call: 4:00 PM
URL:https://www.fccminneapolis.org/event/christmas-eve-service-3/
LOCATION:FCC Garden Sanctuary
END:VEVENT
BEGIN:VEVENT
DTSTART;TZID=America/Chicago:20240324T090000
DTEND;TZID=America/Chicago:20240324T100000
DTSTAMP:20260425T232739
CREATED:20240201T191142Z
LAST-MODIFIED:20240206T165557Z
UID:10003985-1711270800-1711274400@www.fccminneapolis.org
SUMMARY:Choir Rehearsal
DESCRIPTION:Starts at 9:15am and ends at 10:15am. \nMusic Director Caroline Povolny invites “any and all skill levels” to join the FCC choir to sing during Lent and Easter. Rehearsals begin Sunday\, February 4 and are 9:15 am on Sunday mornings. The choir will sing on Mardi Gras Sunday\, February 11\, and continue through Lent and Easter. \nCome and join!
URL:https://www.fccminneapolis.org/event/choir-rehearsals/2024-03-24/
LOCATION:FCC Garden Sanctuary
END:VEVENT
BEGIN:VEVENT
DTSTART;TZID=America/Chicago:20240317T090000
DTEND;TZID=America/Chicago:20240317T100000
DTSTAMP:20260425T232739
CREATED:20240201T191142Z
LAST-MODIFIED:20240206T165557Z
UID:10003984-1710666000-1710669600@www.fccminneapolis.org
SUMMARY:Choir Rehearsal
DESCRIPTION:Starts at 9:15am and ends at 10:15am. \nMusic Director Caroline Povolny invites “any and all skill levels” to join the FCC choir to sing during Lent and Easter. Rehearsals begin Sunday\, February 4 and are 9:15 am on Sunday mornings. The choir will sing on Mardi Gras Sunday\, February 11\, and continue through Lent and Easter. \nCome and join!
URL:https://www.fccminneapolis.org/event/choir-rehearsals/2024-03-17/
LOCATION:FCC Garden Sanctuary
END:VEVENT
BEGIN:VEVENT
DTSTART;TZID=America/Chicago:20240310T090000
DTEND;TZID=America/Chicago:20240310T100000
DTSTAMP:20260425T232739
CREATED:20240201T191142Z
LAST-MODIFIED:20240206T165557Z
UID:10003983-1710061200-1710064800@www.fccminneapolis.org
SUMMARY:Choir Rehearsal
DESCRIPTION:Starts at 9:15am and ends at 10:15am. \nMusic Director Caroline Povolny invites “any and all skill levels” to join the FCC choir to sing during Lent and Easter. Rehearsals begin Sunday\, February 4 and are 9:15 am on Sunday mornings. The choir will sing on Mardi Gras Sunday\, February 11\, and continue through Lent and Easter. \nCome and join!
URL:https://www.fccminneapolis.org/event/choir-rehearsals/2024-03-10/
LOCATION:FCC Garden Sanctuary
END:VEVENT
BEGIN:VEVENT
DTSTART;TZID=America/Chicago:20240303T090000
DTEND;TZID=America/Chicago:20240303T100000
DTSTAMP:20260425T232739
CREATED:20240201T191142Z
LAST-MODIFIED:20240206T165557Z
UID:10003982-1709456400-1709460000@www.fccminneapolis.org
SUMMARY:Choir Rehearsal
DESCRIPTION:Starts at 9:15am and ends at 10:15am. \nMusic Director Caroline Povolny invites “any and all skill levels” to join the FCC choir to sing during Lent and Easter. Rehearsals begin Sunday\, February 4 and are 9:15 am on Sunday mornings. The choir will sing on Mardi Gras Sunday\, February 11\, and continue through Lent and Easter. \nCome and join!
URL:https://www.fccminneapolis.org/event/choir-rehearsals/2024-03-03/
LOCATION:FCC Garden Sanctuary
END:VEVENT
BEGIN:VEVENT
DTSTART;TZID=America/Chicago:20240225T090000
DTEND;TZID=America/Chicago:20240225T100000
DTSTAMP:20260425T232739
CREATED:20240201T191142Z
LAST-MODIFIED:20240206T165557Z
UID:10003981-1708851600-1708855200@www.fccminneapolis.org
SUMMARY:Choir Rehearsal
DESCRIPTION:Starts at 9:15am and ends at 10:15am. \nMusic Director Caroline Povolny invites “any and all skill levels” to join the FCC choir to sing during Lent and Easter. Rehearsals begin Sunday\, February 4 and are 9:15 am on Sunday mornings. The choir will sing on Mardi Gras Sunday\, February 11\, and continue through Lent and Easter. \nCome and join!
URL:https://www.fccminneapolis.org/event/choir-rehearsals/2024-02-25/
LOCATION:FCC Garden Sanctuary
END:VEVENT
BEGIN:VEVENT
DTSTART;TZID=America/Chicago:20240218T090000
DTEND;TZID=America/Chicago:20240218T100000
DTSTAMP:20260425T232740
CREATED:20240201T191142Z
LAST-MODIFIED:20240206T165557Z
UID:10003980-1708246800-1708250400@www.fccminneapolis.org
SUMMARY:Choir Rehearsal
DESCRIPTION:Starts at 9:15am and ends at 10:15am. \nMusic Director Caroline Povolny invites “any and all skill levels” to join the FCC choir to sing during Lent and Easter. Rehearsals begin Sunday\, February 4 and are 9:15 am on Sunday mornings. The choir will sing on Mardi Gras Sunday\, February 11\, and continue through Lent and Easter. \nCome and join!
URL:https://www.fccminneapolis.org/event/choir-rehearsals/2024-02-18/
LOCATION:FCC Garden Sanctuary
END:VEVENT
BEGIN:VEVENT
DTSTART;TZID=America/Chicago:20240211T090000
DTEND;TZID=America/Chicago:20240211T100000
DTSTAMP:20260425T232740
CREATED:20240201T191142Z
LAST-MODIFIED:20240206T165557Z
UID:10003979-1707642000-1707645600@www.fccminneapolis.org
SUMMARY:Choir Rehearsal
DESCRIPTION:Starts at 9:15am and ends at 10:15am. \nMusic Director Caroline Povolny invites “any and all skill levels” to join the FCC choir to sing during Lent and Easter. Rehearsals begin Sunday\, February 4 and are 9:15 am on Sunday mornings. The choir will sing on Mardi Gras Sunday\, February 11\, and continue through Lent and Easter. \nCome and join!
URL:https://www.fccminneapolis.org/event/choir-rehearsals/2024-02-11/
LOCATION:FCC Garden Sanctuary
END:VEVENT
BEGIN:VEVENT
DTSTART;TZID=America/Chicago:20240204T090000
DTEND;TZID=America/Chicago:20240204T100000
DTSTAMP:20260425T232740
CREATED:20240201T191142Z
LAST-MODIFIED:20240206T165557Z
UID:10003978-1707037200-1707040800@www.fccminneapolis.org
SUMMARY:Choir Rehearsal
DESCRIPTION:Starts at 9:15am and ends at 10:15am. \nMusic Director Caroline Povolny invites “any and all skill levels” to join the FCC choir to sing during Lent and Easter. Rehearsals begin Sunday\, February 4 and are 9:15 am on Sunday mornings. The choir will sing on Mardi Gras Sunday\, February 11\, and continue through Lent and Easter. \nCome and join!
URL:https://www.fccminneapolis.org/event/choir-rehearsals/2024-02-04/
LOCATION:FCC Garden Sanctuary
END:VEVENT
BEGIN:VEVENT
DTSTART;TZID=America/Chicago:20240107T120000
DTEND;TZID=America/Chicago:20240107T133000
DTSTAMP:20260425T232740
CREATED:20231221T162816Z
LAST-MODIFIED:20231221T162816Z
UID:10003690-1704628800-1704634200@www.fccminneapolis.org
SUMMARY:Sanctuary Move
DESCRIPTION:It’s been almost a year\, but SpringHouse is looking to get back on a schedule for switching sanctuaries. While it will not be quite as often as it had been before Covid\, we are looking at likely 2-3 times a year for at least a couple of years. \nSo\, mark your calendars for Sunday January 7. We have decided to try and do sanctuary switching following worship & fellowship. We will begin moving our stuff downstairs to the Garden Sanctuary. More info coming soon!
URL:https://www.fccminneapolis.org/event/sanctuary-move/
LOCATION:FCC Garden Sanctuary
END:VEVENT
END:VCALENDAR