BEGIN:VCALENDAR
VERSION:2.0
PRODID:-//First Christian Church (Disciples of Christ) - ECPv6.15.13//NONSGML v1.0//EN
CALSCALE:GREGORIAN
METHOD:PUBLISH
X-ORIGINAL-URL:https://www.fccminneapolis.org
X-WR-CALDESC:Events for First Christian Church (Disciples of Christ)
REFRESH-INTERVAL;VALUE=DURATION:PT1H
X-Robots-Tag:noindex
X-PUBLISHED-TTL:PT1H
BEGIN:VTIMEZONE
TZID:America/Chicago
BEGIN:DAYLIGHT
TZOFFSETFROM:-0600
TZOFFSETTO:-0500
TZNAME:CDT
DTSTART:20220313T080000
END:DAYLIGHT
BEGIN:STANDARD
TZOFFSETFROM:-0500
TZOFFSETTO:-0600
TZNAME:CST
DTSTART:20221106T070000
END:STANDARD
BEGIN:DAYLIGHT
TZOFFSETFROM:-0600
TZOFFSETTO:-0500
TZNAME:CDT
DTSTART:20230312T080000
END:DAYLIGHT
BEGIN:STANDARD
TZOFFSETFROM:-0500
TZOFFSETTO:-0600
TZNAME:CST
DTSTART:20231105T070000
END:STANDARD
BEGIN:DAYLIGHT
TZOFFSETFROM:-0600
TZOFFSETTO:-0500
TZNAME:CDT
DTSTART:20240310T080000
END:DAYLIGHT
BEGIN:STANDARD
TZOFFSETFROM:-0500
TZOFFSETTO:-0600
TZNAME:CST
DTSTART:20241103T070000
END:STANDARD
BEGIN:DAYLIGHT
TZOFFSETFROM:-0600
TZOFFSETTO:-0500
TZNAME:CDT
DTSTART:20250309T080000
END:DAYLIGHT
BEGIN:STANDARD
TZOFFSETFROM:-0500
TZOFFSETTO:-0600
TZNAME:CST
DTSTART:20251102T070000
END:STANDARD
END:VTIMEZONE
BEGIN:VEVENT
DTSTART;TZID=America/Chicago:20240601T100000
DTEND;TZID=America/Chicago:20240601T113000
DTSTAMP:20260425T221814
CREATED:20230504T191622Z
LAST-MODIFIED:20241231T162940Z
UID:10003514-1717236000-1717241400@www.fccminneapolis.org
SUMMARY:Grief Support Group
DESCRIPTION:Grieving?\nShow up any Saturday at 10 am to 11:30 am to hear a speaker on various topics of grief and loss\, and then break into small discussion groups to talk to others experiencing a similar loss. \nNew attendees are always welcome!  We ask that you arrive by 9:45. \nUse our Contact Form or call 612-317-3454 for more information. \n\nThe Group currently meets at THE BASILICA OF ST. MARY\, at 1600 Hennepin Avenue\, Minneapolis\, 55403
URL:https://www.fccminneapolis.org/event/grief-support-group-2-2/2024-06-01/
LOCATION:Basilica of St. Mary\, 1600 Hennepin Ave\, Minneapolis
CATEGORIES:Ecumenical,Grief Support
END:VEVENT
BEGIN:VEVENT
DTSTART;TZID=America/Chicago:20240525T100000
DTEND;TZID=America/Chicago:20240525T113000
DTSTAMP:20260425T221814
CREATED:20230504T191622Z
LAST-MODIFIED:20241231T162940Z
UID:10003513-1716631200-1716636600@www.fccminneapolis.org
SUMMARY:Grief Support Group
DESCRIPTION:Grieving?\nShow up any Saturday at 10 am to 11:30 am to hear a speaker on various topics of grief and loss\, and then break into small discussion groups to talk to others experiencing a similar loss. \nNew attendees are always welcome!  We ask that you arrive by 9:45. \nUse our Contact Form or call 612-317-3454 for more information. \n\nThe Group currently meets at THE BASILICA OF ST. MARY\, at 1600 Hennepin Avenue\, Minneapolis\, 55403
URL:https://www.fccminneapolis.org/event/grief-support-group-2-2/2024-05-25/
LOCATION:Basilica of St. Mary\, 1600 Hennepin Ave\, Minneapolis
CATEGORIES:Ecumenical,Grief Support
END:VEVENT
BEGIN:VEVENT
DTSTART;TZID=America/Chicago:20240518T100000
DTEND;TZID=America/Chicago:20240518T113000
DTSTAMP:20260425T221814
CREATED:20230504T191622Z
LAST-MODIFIED:20241231T162940Z
UID:10003512-1716026400-1716031800@www.fccminneapolis.org
SUMMARY:Grief Support Group
DESCRIPTION:Grieving?\nShow up any Saturday at 10 am to 11:30 am to hear a speaker on various topics of grief and loss\, and then break into small discussion groups to talk to others experiencing a similar loss. \nNew attendees are always welcome!  We ask that you arrive by 9:45. \nUse our Contact Form or call 612-317-3454 for more information. \n\nThe Group currently meets at THE BASILICA OF ST. MARY\, at 1600 Hennepin Avenue\, Minneapolis\, 55403
URL:https://www.fccminneapolis.org/event/grief-support-group-2-2/2024-05-18/
LOCATION:Basilica of St. Mary\, 1600 Hennepin Ave\, Minneapolis
CATEGORIES:Ecumenical,Grief Support
END:VEVENT
BEGIN:VEVENT
DTSTART;TZID=America/Chicago:20240511T100000
DTEND;TZID=America/Chicago:20240511T113000
DTSTAMP:20260425T221814
CREATED:20230504T191622Z
LAST-MODIFIED:20241231T162940Z
UID:10003511-1715421600-1715427000@www.fccminneapolis.org
SUMMARY:Grief Support Group
DESCRIPTION:Grieving?\nShow up any Saturday at 10 am to 11:30 am to hear a speaker on various topics of grief and loss\, and then break into small discussion groups to talk to others experiencing a similar loss. \nNew attendees are always welcome!  We ask that you arrive by 9:45. \nUse our Contact Form or call 612-317-3454 for more information. \n\nThe Group currently meets at THE BASILICA OF ST. MARY\, at 1600 Hennepin Avenue\, Minneapolis\, 55403
URL:https://www.fccminneapolis.org/event/grief-support-group-2-2/2024-05-11/
LOCATION:Basilica of St. Mary\, 1600 Hennepin Ave\, Minneapolis
CATEGORIES:Ecumenical,Grief Support
END:VEVENT
BEGIN:VEVENT
DTSTART;TZID=America/Chicago:20240504T100000
DTEND;TZID=America/Chicago:20240504T113000
DTSTAMP:20260425T221814
CREATED:20230504T191622Z
LAST-MODIFIED:20241231T162940Z
UID:10003510-1714816800-1714822200@www.fccminneapolis.org
SUMMARY:Grief Support Group
DESCRIPTION:Grieving?\nShow up any Saturday at 10 am to 11:30 am to hear a speaker on various topics of grief and loss\, and then break into small discussion groups to talk to others experiencing a similar loss. \nNew attendees are always welcome!  We ask that you arrive by 9:45. \nUse our Contact Form or call 612-317-3454 for more information. \n\nThe Group currently meets at THE BASILICA OF ST. MARY\, at 1600 Hennepin Avenue\, Minneapolis\, 55403
URL:https://www.fccminneapolis.org/event/grief-support-group-2-2/2024-05-04/
LOCATION:Basilica of St. Mary\, 1600 Hennepin Ave\, Minneapolis
CATEGORIES:Ecumenical,Grief Support
END:VEVENT
BEGIN:VEVENT
DTSTART;TZID=America/Chicago:20240427T100000
DTEND;TZID=America/Chicago:20240427T113000
DTSTAMP:20260425T221814
CREATED:20230504T191622Z
LAST-MODIFIED:20241231T162940Z
UID:10003509-1714212000-1714217400@www.fccminneapolis.org
SUMMARY:Grief Support Group
DESCRIPTION:Grieving?\nShow up any Saturday at 10 am to 11:30 am to hear a speaker on various topics of grief and loss\, and then break into small discussion groups to talk to others experiencing a similar loss. \nNew attendees are always welcome!  We ask that you arrive by 9:45. \nUse our Contact Form or call 612-317-3454 for more information. \n\nThe Group currently meets at THE BASILICA OF ST. MARY\, at 1600 Hennepin Avenue\, Minneapolis\, 55403
URL:https://www.fccminneapolis.org/event/grief-support-group-2-2/2024-04-27/
LOCATION:Basilica of St. Mary\, 1600 Hennepin Ave\, Minneapolis
CATEGORIES:Ecumenical,Grief Support
END:VEVENT
BEGIN:VEVENT
DTSTART;TZID=America/Chicago:20240420T100000
DTEND;TZID=America/Chicago:20240420T113000
DTSTAMP:20260425T221814
CREATED:20230504T191622Z
LAST-MODIFIED:20241231T162940Z
UID:10003508-1713607200-1713612600@www.fccminneapolis.org
SUMMARY:Grief Support Group
DESCRIPTION:Grieving?\nShow up any Saturday at 10 am to 11:30 am to hear a speaker on various topics of grief and loss\, and then break into small discussion groups to talk to others experiencing a similar loss. \nNew attendees are always welcome!  We ask that you arrive by 9:45. \nUse our Contact Form or call 612-317-3454 for more information. \n\nThe Group currently meets at THE BASILICA OF ST. MARY\, at 1600 Hennepin Avenue\, Minneapolis\, 55403
URL:https://www.fccminneapolis.org/event/grief-support-group-2-2/2024-04-20/
LOCATION:Basilica of St. Mary\, 1600 Hennepin Ave\, Minneapolis
CATEGORIES:Ecumenical,Grief Support
END:VEVENT
BEGIN:VEVENT
DTSTART;TZID=America/Chicago:20240413T100000
DTEND;TZID=America/Chicago:20240413T113000
DTSTAMP:20260425T221814
CREATED:20230504T191622Z
LAST-MODIFIED:20241231T162940Z
UID:10003507-1713002400-1713007800@www.fccminneapolis.org
SUMMARY:Grief Support Group
DESCRIPTION:Grieving?\nShow up any Saturday at 10 am to 11:30 am to hear a speaker on various topics of grief and loss\, and then break into small discussion groups to talk to others experiencing a similar loss. \nNew attendees are always welcome!  We ask that you arrive by 9:45. \nUse our Contact Form or call 612-317-3454 for more information. \n\nThe Group currently meets at THE BASILICA OF ST. MARY\, at 1600 Hennepin Avenue\, Minneapolis\, 55403
URL:https://www.fccminneapolis.org/event/grief-support-group-2-2/2024-04-13/
LOCATION:Basilica of St. Mary\, 1600 Hennepin Ave\, Minneapolis
CATEGORIES:Ecumenical,Grief Support
END:VEVENT
BEGIN:VEVENT
DTSTART;TZID=America/Chicago:20240406T100000
DTEND;TZID=America/Chicago:20240406T113000
DTSTAMP:20260425T221814
CREATED:20230504T191622Z
LAST-MODIFIED:20241231T162940Z
UID:10003506-1712397600-1712403000@www.fccminneapolis.org
SUMMARY:Grief Support Group
DESCRIPTION:Grieving?\nShow up any Saturday at 10 am to 11:30 am to hear a speaker on various topics of grief and loss\, and then break into small discussion groups to talk to others experiencing a similar loss. \nNew attendees are always welcome!  We ask that you arrive by 9:45. \nUse our Contact Form or call 612-317-3454 for more information. \n\nThe Group currently meets at THE BASILICA OF ST. MARY\, at 1600 Hennepin Avenue\, Minneapolis\, 55403
URL:https://www.fccminneapolis.org/event/grief-support-group-2-2/2024-04-06/
LOCATION:Basilica of St. Mary\, 1600 Hennepin Ave\, Minneapolis
CATEGORIES:Ecumenical,Grief Support
END:VEVENT
BEGIN:VEVENT
DTSTART;TZID=America/Chicago:20240330T100000
DTEND;TZID=America/Chicago:20240330T113000
DTSTAMP:20260425T221814
CREATED:20230504T191622Z
LAST-MODIFIED:20241231T162940Z
UID:10003505-1711792800-1711798200@www.fccminneapolis.org
SUMMARY:Grief Support Group
DESCRIPTION:Grieving?\nShow up any Saturday at 10 am to 11:30 am to hear a speaker on various topics of grief and loss\, and then break into small discussion groups to talk to others experiencing a similar loss. \nNew attendees are always welcome!  We ask that you arrive by 9:45. \nUse our Contact Form or call 612-317-3454 for more information. \n\nThe Group currently meets at THE BASILICA OF ST. MARY\, at 1600 Hennepin Avenue\, Minneapolis\, 55403
URL:https://www.fccminneapolis.org/event/grief-support-group-2-2/2024-03-30/
LOCATION:Basilica of St. Mary\, 1600 Hennepin Ave\, Minneapolis
CATEGORIES:Ecumenical,Grief Support
END:VEVENT
BEGIN:VEVENT
DTSTART;TZID=America/Chicago:20240323T100000
DTEND;TZID=America/Chicago:20240323T113000
DTSTAMP:20260425T221814
CREATED:20230504T191622Z
LAST-MODIFIED:20241231T162940Z
UID:10003504-1711188000-1711193400@www.fccminneapolis.org
SUMMARY:Grief Support Group
DESCRIPTION:Grieving?\nShow up any Saturday at 10 am to 11:30 am to hear a speaker on various topics of grief and loss\, and then break into small discussion groups to talk to others experiencing a similar loss. \nNew attendees are always welcome!  We ask that you arrive by 9:45. \nUse our Contact Form or call 612-317-3454 for more information. \n\nThe Group currently meets at THE BASILICA OF ST. MARY\, at 1600 Hennepin Avenue\, Minneapolis\, 55403
URL:https://www.fccminneapolis.org/event/grief-support-group-2-2/2024-03-23/
LOCATION:Basilica of St. Mary\, 1600 Hennepin Ave\, Minneapolis
CATEGORIES:Ecumenical,Grief Support
END:VEVENT
BEGIN:VEVENT
DTSTART;TZID=America/Chicago:20240316T100000
DTEND;TZID=America/Chicago:20240316T113000
DTSTAMP:20260425T221814
CREATED:20230504T191622Z
LAST-MODIFIED:20241231T162940Z
UID:10003503-1710583200-1710588600@www.fccminneapolis.org
SUMMARY:Grief Support Group
DESCRIPTION:Grieving?\nShow up any Saturday at 10 am to 11:30 am to hear a speaker on various topics of grief and loss\, and then break into small discussion groups to talk to others experiencing a similar loss. \nNew attendees are always welcome!  We ask that you arrive by 9:45. \nUse our Contact Form or call 612-317-3454 for more information. \n\nThe Group currently meets at THE BASILICA OF ST. MARY\, at 1600 Hennepin Avenue\, Minneapolis\, 55403
URL:https://www.fccminneapolis.org/event/grief-support-group-2-2/2024-03-16/
LOCATION:Basilica of St. Mary\, 1600 Hennepin Ave\, Minneapolis
CATEGORIES:Ecumenical,Grief Support
END:VEVENT
BEGIN:VEVENT
DTSTART;TZID=America/Chicago:20240309T100000
DTEND;TZID=America/Chicago:20240309T113000
DTSTAMP:20260425T221814
CREATED:20230504T191622Z
LAST-MODIFIED:20241231T162940Z
UID:10003502-1709978400-1709983800@www.fccminneapolis.org
SUMMARY:Grief Support Group
DESCRIPTION:Grieving?\nShow up any Saturday at 10 am to 11:30 am to hear a speaker on various topics of grief and loss\, and then break into small discussion groups to talk to others experiencing a similar loss. \nNew attendees are always welcome!  We ask that you arrive by 9:45. \nUse our Contact Form or call 612-317-3454 for more information. \n\nThe Group currently meets at THE BASILICA OF ST. MARY\, at 1600 Hennepin Avenue\, Minneapolis\, 55403
URL:https://www.fccminneapolis.org/event/grief-support-group-2-2/2024-03-09/
LOCATION:Basilica of St. Mary\, 1600 Hennepin Ave\, Minneapolis
CATEGORIES:Ecumenical,Grief Support
END:VEVENT
BEGIN:VEVENT
DTSTART;TZID=America/Chicago:20240302T100000
DTEND;TZID=America/Chicago:20240302T113000
DTSTAMP:20260425T221814
CREATED:20230504T191622Z
LAST-MODIFIED:20241231T162940Z
UID:10003501-1709373600-1709379000@www.fccminneapolis.org
SUMMARY:Grief Support Group
DESCRIPTION:Grieving?\nShow up any Saturday at 10 am to 11:30 am to hear a speaker on various topics of grief and loss\, and then break into small discussion groups to talk to others experiencing a similar loss. \nNew attendees are always welcome!  We ask that you arrive by 9:45. \nUse our Contact Form or call 612-317-3454 for more information. \n\nThe Group currently meets at THE BASILICA OF ST. MARY\, at 1600 Hennepin Avenue\, Minneapolis\, 55403
URL:https://www.fccminneapolis.org/event/grief-support-group-2-2/2024-03-02/
LOCATION:Basilica of St. Mary\, 1600 Hennepin Ave\, Minneapolis
CATEGORIES:Ecumenical,Grief Support
END:VEVENT
BEGIN:VEVENT
DTSTART;TZID=America/Chicago:20240224T100000
DTEND;TZID=America/Chicago:20240224T113000
DTSTAMP:20260425T221814
CREATED:20230504T191622Z
LAST-MODIFIED:20241231T162940Z
UID:10003500-1708768800-1708774200@www.fccminneapolis.org
SUMMARY:Grief Support Group
DESCRIPTION:Grieving?\nShow up any Saturday at 10 am to 11:30 am to hear a speaker on various topics of grief and loss\, and then break into small discussion groups to talk to others experiencing a similar loss. \nNew attendees are always welcome!  We ask that you arrive by 9:45. \nUse our Contact Form or call 612-317-3454 for more information. \n\nThe Group currently meets at THE BASILICA OF ST. MARY\, at 1600 Hennepin Avenue\, Minneapolis\, 55403
URL:https://www.fccminneapolis.org/event/grief-support-group-2-2/2024-02-24/
LOCATION:Basilica of St. Mary\, 1600 Hennepin Ave\, Minneapolis
CATEGORIES:Ecumenical,Grief Support
END:VEVENT
BEGIN:VEVENT
DTSTART;TZID=America/Chicago:20240217T100000
DTEND;TZID=America/Chicago:20240217T113000
DTSTAMP:20260425T221814
CREATED:20230504T191622Z
LAST-MODIFIED:20241231T162940Z
UID:10003499-1708164000-1708169400@www.fccminneapolis.org
SUMMARY:Grief Support Group
DESCRIPTION:Grieving?\nShow up any Saturday at 10 am to 11:30 am to hear a speaker on various topics of grief and loss\, and then break into small discussion groups to talk to others experiencing a similar loss. \nNew attendees are always welcome!  We ask that you arrive by 9:45. \nUse our Contact Form or call 612-317-3454 for more information. \n\nThe Group currently meets at THE BASILICA OF ST. MARY\, at 1600 Hennepin Avenue\, Minneapolis\, 55403
URL:https://www.fccminneapolis.org/event/grief-support-group-2-2/2024-02-17/
LOCATION:Basilica of St. Mary\, 1600 Hennepin Ave\, Minneapolis
CATEGORIES:Ecumenical,Grief Support
END:VEVENT
BEGIN:VEVENT
DTSTART;TZID=America/Chicago:20240210T100000
DTEND;TZID=America/Chicago:20240210T113000
DTSTAMP:20260425T221814
CREATED:20230504T191622Z
LAST-MODIFIED:20241231T162940Z
UID:10003498-1707559200-1707564600@www.fccminneapolis.org
SUMMARY:Grief Support Group
DESCRIPTION:Grieving?\nShow up any Saturday at 10 am to 11:30 am to hear a speaker on various topics of grief and loss\, and then break into small discussion groups to talk to others experiencing a similar loss. \nNew attendees are always welcome!  We ask that you arrive by 9:45. \nUse our Contact Form or call 612-317-3454 for more information. \n\nThe Group currently meets at THE BASILICA OF ST. MARY\, at 1600 Hennepin Avenue\, Minneapolis\, 55403
URL:https://www.fccminneapolis.org/event/grief-support-group-2-2/2024-02-10/
LOCATION:Basilica of St. Mary\, 1600 Hennepin Ave\, Minneapolis
CATEGORIES:Ecumenical,Grief Support
END:VEVENT
BEGIN:VEVENT
DTSTART;TZID=America/Chicago:20240203T100000
DTEND;TZID=America/Chicago:20240203T113000
DTSTAMP:20260425T221814
CREATED:20230504T191622Z
LAST-MODIFIED:20241231T162940Z
UID:10003497-1706954400-1706959800@www.fccminneapolis.org
SUMMARY:Grief Support Group
DESCRIPTION:Grieving?\nShow up any Saturday at 10 am to 11:30 am to hear a speaker on various topics of grief and loss\, and then break into small discussion groups to talk to others experiencing a similar loss. \nNew attendees are always welcome!  We ask that you arrive by 9:45. \nUse our Contact Form or call 612-317-3454 for more information. \n\nThe Group currently meets at THE BASILICA OF ST. MARY\, at 1600 Hennepin Avenue\, Minneapolis\, 55403
URL:https://www.fccminneapolis.org/event/grief-support-group-2-2/2024-02-03/
LOCATION:Basilica of St. Mary\, 1600 Hennepin Ave\, Minneapolis
CATEGORIES:Ecumenical,Grief Support
END:VEVENT
BEGIN:VEVENT
DTSTART;TZID=America/Chicago:20240127T100000
DTEND;TZID=America/Chicago:20240127T113000
DTSTAMP:20260425T221814
CREATED:20230504T191622Z
LAST-MODIFIED:20241231T162940Z
UID:10003496-1706349600-1706355000@www.fccminneapolis.org
SUMMARY:Grief Support Group
DESCRIPTION:Grieving?\nShow up any Saturday at 10 am to 11:30 am to hear a speaker on various topics of grief and loss\, and then break into small discussion groups to talk to others experiencing a similar loss. \nNew attendees are always welcome!  We ask that you arrive by 9:45. \nUse our Contact Form or call 612-317-3454 for more information. \n\nThe Group currently meets at THE BASILICA OF ST. MARY\, at 1600 Hennepin Avenue\, Minneapolis\, 55403
URL:https://www.fccminneapolis.org/event/grief-support-group-2-2/2024-01-27/
LOCATION:Basilica of St. Mary\, 1600 Hennepin Ave\, Minneapolis
CATEGORIES:Ecumenical,Grief Support
END:VEVENT
BEGIN:VEVENT
DTSTART;TZID=America/Chicago:20240120T100000
DTEND;TZID=America/Chicago:20240120T113000
DTSTAMP:20260425T221814
CREATED:20230504T191622Z
LAST-MODIFIED:20241231T162940Z
UID:10003495-1705744800-1705750200@www.fccminneapolis.org
SUMMARY:Grief Support Group
DESCRIPTION:Grieving?\nShow up any Saturday at 10 am to 11:30 am to hear a speaker on various topics of grief and loss\, and then break into small discussion groups to talk to others experiencing a similar loss. \nNew attendees are always welcome!  We ask that you arrive by 9:45. \nUse our Contact Form or call 612-317-3454 for more information. \n\nThe Group currently meets at THE BASILICA OF ST. MARY\, at 1600 Hennepin Avenue\, Minneapolis\, 55403
URL:https://www.fccminneapolis.org/event/grief-support-group-2-2/2024-01-20/
LOCATION:Basilica of St. Mary\, 1600 Hennepin Ave\, Minneapolis
CATEGORIES:Ecumenical,Grief Support
END:VEVENT
BEGIN:VEVENT
DTSTART;TZID=America/Chicago:20240113T100000
DTEND;TZID=America/Chicago:20240113T113000
DTSTAMP:20260425T221814
CREATED:20230504T191622Z
LAST-MODIFIED:20241231T162940Z
UID:10003494-1705140000-1705145400@www.fccminneapolis.org
SUMMARY:Grief Support Group
DESCRIPTION:Grieving?\nShow up any Saturday at 10 am to 11:30 am to hear a speaker on various topics of grief and loss\, and then break into small discussion groups to talk to others experiencing a similar loss. \nNew attendees are always welcome!  We ask that you arrive by 9:45. \nUse our Contact Form or call 612-317-3454 for more information. \n\nThe Group currently meets at THE BASILICA OF ST. MARY\, at 1600 Hennepin Avenue\, Minneapolis\, 55403
URL:https://www.fccminneapolis.org/event/grief-support-group-2-2/2024-01-13/
LOCATION:Basilica of St. Mary\, 1600 Hennepin Ave\, Minneapolis
CATEGORIES:Ecumenical,Grief Support
END:VEVENT
BEGIN:VEVENT
DTSTART;TZID=America/Chicago:20240106T100000
DTEND;TZID=America/Chicago:20240106T113000
DTSTAMP:20260425T221814
CREATED:20230504T191622Z
LAST-MODIFIED:20241231T162940Z
UID:10003493-1704535200-1704540600@www.fccminneapolis.org
SUMMARY:Grief Support Group
DESCRIPTION:Grieving?\nShow up any Saturday at 10 am to 11:30 am to hear a speaker on various topics of grief and loss\, and then break into small discussion groups to talk to others experiencing a similar loss. \nNew attendees are always welcome!  We ask that you arrive by 9:45. \nUse our Contact Form or call 612-317-3454 for more information. \n\nThe Group currently meets at THE BASILICA OF ST. MARY\, at 1600 Hennepin Avenue\, Minneapolis\, 55403
URL:https://www.fccminneapolis.org/event/grief-support-group-2-2/2024-01-06/
LOCATION:Basilica of St. Mary\, 1600 Hennepin Ave\, Minneapolis
CATEGORIES:Ecumenical,Grief Support
END:VEVENT
BEGIN:VEVENT
DTSTART;TZID=America/Chicago:20231230T100000
DTEND;TZID=America/Chicago:20231230T113000
DTSTAMP:20260425T221814
CREATED:20230504T191622Z
LAST-MODIFIED:20241231T162940Z
UID:10002328-1703930400-1703935800@www.fccminneapolis.org
SUMMARY:Grief Support Group
DESCRIPTION:Grieving?\nShow up any Saturday at 10 am to 11:30 am to hear a speaker on various topics of grief and loss\, and then break into small discussion groups to talk to others experiencing a similar loss. \nNew attendees are always welcome!  We ask that you arrive by 9:45. \nUse our Contact Form or call 612-317-3454 for more information. \n\nThe Group currently meets at THE BASILICA OF ST. MARY\, at 1600 Hennepin Avenue\, Minneapolis\, 55403
URL:https://www.fccminneapolis.org/event/grief-support-group-2-2/2023-12-30/
LOCATION:Basilica of St. Mary\, 1600 Hennepin Ave\, Minneapolis
CATEGORIES:Ecumenical,Grief Support
END:VEVENT
BEGIN:VEVENT
DTSTART;TZID=America/Chicago:20231223T100000
DTEND;TZID=America/Chicago:20231223T113000
DTSTAMP:20260425T221814
CREATED:20230504T191622Z
LAST-MODIFIED:20241231T162940Z
UID:10002327-1703325600-1703331000@www.fccminneapolis.org
SUMMARY:Grief Support Group
DESCRIPTION:Grieving?\nShow up any Saturday at 10 am to 11:30 am to hear a speaker on various topics of grief and loss\, and then break into small discussion groups to talk to others experiencing a similar loss. \nNew attendees are always welcome!  We ask that you arrive by 9:45. \nUse our Contact Form or call 612-317-3454 for more information. \n\nThe Group currently meets at THE BASILICA OF ST. MARY\, at 1600 Hennepin Avenue\, Minneapolis\, 55403
URL:https://www.fccminneapolis.org/event/grief-support-group-2-2/2023-12-23/
LOCATION:Basilica of St. Mary\, 1600 Hennepin Ave\, Minneapolis
CATEGORIES:Ecumenical,Grief Support
END:VEVENT
BEGIN:VEVENT
DTSTART;TZID=America/Chicago:20231216T100000
DTEND;TZID=America/Chicago:20231216T113000
DTSTAMP:20260425T221814
CREATED:20230504T191622Z
LAST-MODIFIED:20241231T162940Z
UID:10002326-1702720800-1702726200@www.fccminneapolis.org
SUMMARY:Grief Support Group
DESCRIPTION:Grieving?\nShow up any Saturday at 10 am to 11:30 am to hear a speaker on various topics of grief and loss\, and then break into small discussion groups to talk to others experiencing a similar loss. \nNew attendees are always welcome!  We ask that you arrive by 9:45. \nUse our Contact Form or call 612-317-3454 for more information. \n\nThe Group currently meets at THE BASILICA OF ST. MARY\, at 1600 Hennepin Avenue\, Minneapolis\, 55403
URL:https://www.fccminneapolis.org/event/grief-support-group-2-2/2023-12-16/
LOCATION:Basilica of St. Mary\, 1600 Hennepin Ave\, Minneapolis
CATEGORIES:Ecumenical,Grief Support
END:VEVENT
BEGIN:VEVENT
DTSTART;TZID=America/Chicago:20231209T100000
DTEND;TZID=America/Chicago:20231209T113000
DTSTAMP:20260425T221814
CREATED:20230504T191622Z
LAST-MODIFIED:20241231T162940Z
UID:10002325-1702116000-1702121400@www.fccminneapolis.org
SUMMARY:Grief Support Group
DESCRIPTION:Grieving?\nShow up any Saturday at 10 am to 11:30 am to hear a speaker on various topics of grief and loss\, and then break into small discussion groups to talk to others experiencing a similar loss. \nNew attendees are always welcome!  We ask that you arrive by 9:45. \nUse our Contact Form or call 612-317-3454 for more information. \n\nThe Group currently meets at THE BASILICA OF ST. MARY\, at 1600 Hennepin Avenue\, Minneapolis\, 55403
URL:https://www.fccminneapolis.org/event/grief-support-group-2-2/2023-12-09/
LOCATION:Basilica of St. Mary\, 1600 Hennepin Ave\, Minneapolis
CATEGORIES:Ecumenical,Grief Support
END:VEVENT
BEGIN:VEVENT
DTSTART;TZID=America/Chicago:20231202T100000
DTEND;TZID=America/Chicago:20231202T113000
DTSTAMP:20260425T221814
CREATED:20230504T191622Z
LAST-MODIFIED:20241231T162940Z
UID:10002324-1701511200-1701516600@www.fccminneapolis.org
SUMMARY:Grief Support Group
DESCRIPTION:Grieving?\nShow up any Saturday at 10 am to 11:30 am to hear a speaker on various topics of grief and loss\, and then break into small discussion groups to talk to others experiencing a similar loss. \nNew attendees are always welcome!  We ask that you arrive by 9:45. \nUse our Contact Form or call 612-317-3454 for more information. \n\nThe Group currently meets at THE BASILICA OF ST. MARY\, at 1600 Hennepin Avenue\, Minneapolis\, 55403
URL:https://www.fccminneapolis.org/event/grief-support-group-2-2/2023-12-02/
LOCATION:Basilica of St. Mary\, 1600 Hennepin Ave\, Minneapolis
CATEGORIES:Ecumenical,Grief Support
END:VEVENT
BEGIN:VEVENT
DTSTART;TZID=America/Chicago:20231125T100000
DTEND;TZID=America/Chicago:20231125T113000
DTSTAMP:20260425T221814
CREATED:20230504T191622Z
LAST-MODIFIED:20241231T162940Z
UID:10002323-1700906400-1700911800@www.fccminneapolis.org
SUMMARY:Grief Support Group
DESCRIPTION:Grieving?\nShow up any Saturday at 10 am to 11:30 am to hear a speaker on various topics of grief and loss\, and then break into small discussion groups to talk to others experiencing a similar loss. \nNew attendees are always welcome!  We ask that you arrive by 9:45. \nUse our Contact Form or call 612-317-3454 for more information. \n\nThe Group currently meets at THE BASILICA OF ST. MARY\, at 1600 Hennepin Avenue\, Minneapolis\, 55403
URL:https://www.fccminneapolis.org/event/grief-support-group-2-2/2023-11-25/
LOCATION:Basilica of St. Mary\, 1600 Hennepin Ave\, Minneapolis
CATEGORIES:Ecumenical,Grief Support
END:VEVENT
BEGIN:VEVENT
DTSTART;TZID=America/Chicago:20231118T100000
DTEND;TZID=America/Chicago:20231118T113000
DTSTAMP:20260425T221814
CREATED:20230504T191622Z
LAST-MODIFIED:20241231T162940Z
UID:10002322-1700301600-1700307000@www.fccminneapolis.org
SUMMARY:Grief Support Group
DESCRIPTION:Grieving?\nShow up any Saturday at 10 am to 11:30 am to hear a speaker on various topics of grief and loss\, and then break into small discussion groups to talk to others experiencing a similar loss. \nNew attendees are always welcome!  We ask that you arrive by 9:45. \nUse our Contact Form or call 612-317-3454 for more information. \n\nThe Group currently meets at THE BASILICA OF ST. MARY\, at 1600 Hennepin Avenue\, Minneapolis\, 55403
URL:https://www.fccminneapolis.org/event/grief-support-group-2-2/2023-11-18/
LOCATION:Basilica of St. Mary\, 1600 Hennepin Ave\, Minneapolis
CATEGORIES:Ecumenical,Grief Support
END:VEVENT
BEGIN:VEVENT
DTSTART;TZID=America/Chicago:20231111T100000
DTEND;TZID=America/Chicago:20231111T113000
DTSTAMP:20260425T221814
CREATED:20230504T191622Z
LAST-MODIFIED:20241231T162940Z
UID:10002321-1699696800-1699702200@www.fccminneapolis.org
SUMMARY:Grief Support Group
DESCRIPTION:Grieving?\nShow up any Saturday at 10 am to 11:30 am to hear a speaker on various topics of grief and loss\, and then break into small discussion groups to talk to others experiencing a similar loss. \nNew attendees are always welcome!  We ask that you arrive by 9:45. \nUse our Contact Form or call 612-317-3454 for more information. \n\nThe Group currently meets at THE BASILICA OF ST. MARY\, at 1600 Hennepin Avenue\, Minneapolis\, 55403
URL:https://www.fccminneapolis.org/event/grief-support-group-2-2/2023-11-11/
LOCATION:Basilica of St. Mary\, 1600 Hennepin Ave\, Minneapolis
CATEGORIES:Ecumenical,Grief Support
END:VEVENT
END:VCALENDAR