BEGIN:VCALENDAR
VERSION:2.0
PRODID:-//First Christian Church (Disciples of Christ) - ECPv6.15.13//NONSGML v1.0//EN
CALSCALE:GREGORIAN
METHOD:PUBLISH
X-WR-CALNAME:First Christian Church (Disciples of Christ)
X-ORIGINAL-URL:https://www.fccminneapolis.org
X-WR-CALDESC:Events for First Christian Church (Disciples of Christ)
REFRESH-INTERVAL;VALUE=DURATION:PT1H
X-Robots-Tag:noindex
X-PUBLISHED-TTL:PT1H
BEGIN:VTIMEZONE
TZID:America/Chicago
BEGIN:DAYLIGHT
TZOFFSETFROM:-0600
TZOFFSETTO:-0500
TZNAME:CDT
DTSTART:20250309T080000
END:DAYLIGHT
BEGIN:STANDARD
TZOFFSETFROM:-0500
TZOFFSETTO:-0600
TZNAME:CST
DTSTART:20251102T070000
END:STANDARD
BEGIN:DAYLIGHT
TZOFFSETFROM:-0600
TZOFFSETTO:-0500
TZNAME:CDT
DTSTART:20260308T080000
END:DAYLIGHT
BEGIN:STANDARD
TZOFFSETFROM:-0500
TZOFFSETTO:-0600
TZNAME:CST
DTSTART:20261101T070000
END:STANDARD
BEGIN:DAYLIGHT
TZOFFSETFROM:-0600
TZOFFSETTO:-0500
TZNAME:CDT
DTSTART:20270314T080000
END:DAYLIGHT
BEGIN:STANDARD
TZOFFSETFROM:-0500
TZOFFSETTO:-0600
TZNAME:CST
DTSTART:20271107T070000
END:STANDARD
END:VTIMEZONE
BEGIN:VEVENT
DTSTART;TZID=America/Chicago:20260208T140000
DTEND;TZID=America/Chicago:20260208T153000
DTSTAMP:20260425T104158
CREATED:20260208T211721Z
LAST-MODIFIED:20260208T211721Z
UID:10008023-1770559200-1770564600@www.fccminneapolis.org
SUMMARY:SpringHouse Board Meeting
DESCRIPTION:
URL:https://www.fccminneapolis.org/event/springhouse-board-meeting-4/2026-02-08/
CATEGORIES:SpringHouse Joint Ministries
END:VEVENT
BEGIN:VEVENT
DTSTART;TZID=America/Chicago:20260209T170000
DTEND;TZID=America/Chicago:20260209T183000
DTSTAMP:20260425T104158
CREATED:20251230T183152Z
LAST-MODIFIED:20251230T183152Z
UID:10007575-1770656400-1770661800@www.fccminneapolis.org
SUMMARY:SHMC Building Committee
DESCRIPTION:
URL:https://www.fccminneapolis.org/event/shmc-building-committee-5-2/2026-02-09/
LOCATION:Online
CATEGORIES:SpringHouse Joint Ministries
END:VEVENT
BEGIN:VEVENT
DTSTART;TZID=America/Chicago:20260209T190000
DTEND;TZID=America/Chicago:20260209T210000
DTSTAMP:20260425T104158
CREATED:20251230T183339Z
LAST-MODIFIED:20251230T183441Z
UID:10007635-1770663600-1770670800@www.fccminneapolis.org
SUMMARY:SHMC Finance Committee
DESCRIPTION:
URL:https://www.fccminneapolis.org/event/shmc-finance-committee-4-2/2026-02-09/
LOCATION:Online
CATEGORIES:SpringHouse Joint Ministries
END:VEVENT
BEGIN:VEVENT
DTSTART;TZID=America/Chicago:20260210T120000
DTEND;TZID=America/Chicago:20260210T123000
DTSTAMP:20260425T104158
CREATED:20260203T201232Z
LAST-MODIFIED:20260203T201232Z
UID:10007963-1770724800-1770726600@www.fccminneapolis.org
SUMMARY:Holding Sacred Space for Justice - sponsored by Disciples Public Presence and the CCUM Anti-Racism Team
DESCRIPTION:https://us02web.zoom.us/j/87558728717?pwd=UxNJgbZtMneB6ULHZrZmSUa6m8Rbjn.1 \nMeeting ID: 875 5872 8717\nPasscode: 801581
URL:https://www.fccminneapolis.org/event/holding-sacred-space-for-justice-sponsored-by-disciples-public-presence-and-the-ccum-anti-racism-team/2026-02-10/
END:VEVENT
BEGIN:VEVENT
DTSTART;TZID=America/Chicago:20260211T090000
DTEND;TZID=America/Chicago:20260211T100000
DTSTAMP:20260425T104158
CREATED:20250930T182954Z
LAST-MODIFIED:20250930T182954Z
UID:10005952-1770800400-1770804000@www.fccminneapolis.org
SUMMARY:Coffee Hour with Community
DESCRIPTION:https://us02web.zoom.us/j/81318971740 \nMEETING ID: 813 1897 1740
URL:https://www.fccminneapolis.org/event/coffee-hour-with-community-3-2/2026-02-11/
LOCATION:FCC Zoom Channel
CATEGORIES:FCC Meetings
END:VEVENT
BEGIN:VEVENT
DTSTART;TZID=America/Chicago:20260211T123000
DTEND;TZID=America/Chicago:20260211T133000
DTSTAMP:20260425T104158
CREATED:20260121T011547Z
LAST-MODIFIED:20260121T011547Z
UID:10007764-1770813000-1770816600@www.fccminneapolis.org
SUMMARY:Finance Committee
DESCRIPTION:
URL:https://www.fccminneapolis.org/event/finance-committee-4-2/2026-02-11/
LOCATION:FCC Zoom Channel
CATEGORIES:FCC Meetings
END:VEVENT
BEGIN:VEVENT
DTSTART;TZID=America/Chicago:20260214T090000
DTEND;TZID=America/Chicago:20260214T100000
DTSTAMP:20260425T104158
CREATED:20250930T181740Z
LAST-MODIFIED:20250930T182917Z
UID:10006212-1771059600-1771063200@www.fccminneapolis.org
SUMMARY:The Breakfast Club
DESCRIPTION:https://us02web.zoom.us/j/81318971740 \nMEETING ID: 813 1897 1740
URL:https://www.fccminneapolis.org/event/coffee-hour-with-community-2-2/2026-02-14/
LOCATION:FCC LiveStream Channel
END:VEVENT
BEGIN:VEVENT
DTSTART;TZID=America/Chicago:20260214T100000
DTEND;TZID=America/Chicago:20260214T110000
DTSTAMP:20260425T104158
CREATED:20260212T165547Z
LAST-MODIFIED:20260212T165547Z
UID:10008027-1771063200-1771066800@www.fccminneapolis.org
SUMMARY:Grief Support Group
DESCRIPTION:
URL:https://www.fccminneapolis.org/event/grief-support-group-3/2026-02-14/
LOCATION:Westminster Presbyterian Church\, 1200 S Marquette Ave\, Minnneapolis\, MN\, 55403\, United States
END:VEVENT
END:VCALENDAR