BEGIN:VCALENDAR
VERSION:2.0
PRODID:-//First Christian Church (Disciples of Christ) - ECPv6.15.13//NONSGML v1.0//EN
CALSCALE:GREGORIAN
METHOD:PUBLISH
X-ORIGINAL-URL:https://www.fccminneapolis.org
X-WR-CALDESC:Events for First Christian Church (Disciples of Christ)
REFRESH-INTERVAL;VALUE=DURATION:PT1H
X-Robots-Tag:noindex
X-PUBLISHED-TTL:PT1H
BEGIN:VTIMEZONE
TZID:America/Chicago
BEGIN:DAYLIGHT
TZOFFSETFROM:-0600
TZOFFSETTO:-0500
TZNAME:CDT
DTSTART:20240310T080000
END:DAYLIGHT
BEGIN:STANDARD
TZOFFSETFROM:-0500
TZOFFSETTO:-0600
TZNAME:CST
DTSTART:20241103T070000
END:STANDARD
BEGIN:DAYLIGHT
TZOFFSETFROM:-0600
TZOFFSETTO:-0500
TZNAME:CDT
DTSTART:20250309T080000
END:DAYLIGHT
BEGIN:STANDARD
TZOFFSETFROM:-0500
TZOFFSETTO:-0600
TZNAME:CST
DTSTART:20251102T070000
END:STANDARD
BEGIN:DAYLIGHT
TZOFFSETFROM:-0600
TZOFFSETTO:-0500
TZNAME:CDT
DTSTART:20260308T080000
END:DAYLIGHT
BEGIN:STANDARD
TZOFFSETFROM:-0500
TZOFFSETTO:-0600
TZNAME:CST
DTSTART:20261101T070000
END:STANDARD
END:VTIMEZONE
BEGIN:VEVENT
DTSTART;TZID=America/Chicago:20251221T090000
DTEND;TZID=America/Chicago:20251221T123000
DTSTAMP:20260425T161438
CREATED:20230408T120318Z
LAST-MODIFIED:20250125T161636Z
UID:10004902-1766307600-1766320200@www.fccminneapolis.org
SUMMARY:SpringHouse Youth Room Open Hours
DESCRIPTION:
URL:https://www.fccminneapolis.org/event/springhouse-youth-room-open-hours/2025-12-21/
LOCATION:SHMC Youth Room
CATEGORIES:SpringHouse Joint Ministries,Youth
END:VEVENT
BEGIN:VEVENT
DTSTART;TZID=America/Chicago:20251221T100000
DTEND;TZID=America/Chicago:20251221T103000
DTSTAMP:20260425T161438
CREATED:20231130T201418Z
LAST-MODIFIED:20241224T200746Z
UID:10004954-1766311200-1766313000@www.fccminneapolis.org
SUMMARY:SpringHouse Youth Group Activities
DESCRIPTION:Youth group is starting up again! Please join Chelsea and other SpringHouse youth for games\, snacks\, fellowship\, and exploring faith starting THIS Sunday\, December 3rd from 10:00am-10:25am in the youth room (behind the squiggle room). All youth ages 10-18 are invited to participate! If you have any questions\, please reach out to Chelsea at springhouseyouth@fccmpls.org.
URL:https://www.fccminneapolis.org/event/springhouse-youth-group-activities/2025-12-21/
LOCATION:SHMC Youth Room
END:VEVENT
BEGIN:VEVENT
DTSTART;TZID=America/Chicago:20251221T103000
DTEND;TZID=America/Chicago:20251221T120000
DTSTAMP:20260425T161438
CREATED:20251113T211343Z
LAST-MODIFIED:20251113T211343Z
UID:10005004-1766313000-1766318400@www.fccminneapolis.org
SUMMARY:Sunday Worship (Online and In-Person)
DESCRIPTION:Click on the link on the right to attend online.
URL:https://www.fccminneapolis.org/event/sunday-worship-online-and-in-person-4-2-3/2025-12-21/
LOCATION:FCC Garden Sanctuary & LiveStream Channel\, 610 West 28th Street\, Minneapolis\, MN\, 55408\, United States
END:VEVENT
BEGIN:VEVENT
DTSTART;TZID=America/Chicago:20251221T170000
DTEND;TZID=America/Chicago:20251221T180000
DTSTAMP:20260425T161438
CREATED:20251216T185514Z
LAST-MODIFIED:20251216T185514Z
UID:10007260-1766336400-1766340000@www.fccminneapolis.org
SUMMARY:Blue Christmas Service
DESCRIPTION:
URL:https://www.fccminneapolis.org/event/blue-christmas-service-5/
LOCATION:SHMC South Sanctuary (Upper Level)
END:VEVENT
BEGIN:VEVENT
DTSTART;TZID=America/Chicago:20251222T180000
DTEND;TZID=America/Chicago:20251222T200000
DTSTAMP:20260425T161438
CREATED:20251014T162800Z
LAST-MODIFIED:20251014T162800Z
UID:10006492-1766426400-1766433600@www.fccminneapolis.org
SUMMARY:Every Meal Packing
DESCRIPTION:Sign up here: https://www.springhousemn.org/every-meal-packing-sign-up/
URL:https://www.fccminneapolis.org/event/every-meal-packing-3/
LOCATION:Every Meal\, 2723 Patton Road\, Roseville\, MN
END:VEVENT
BEGIN:VEVENT
DTSTART;TZID=America/Chicago:20251222T190000
DTEND;TZID=America/Chicago:20251222T193000
DTSTAMP:20260425T161438
CREATED:20250529T151052Z
LAST-MODIFIED:20251230T182345Z
UID:10005818-1766430000-1766431800@www.fccminneapolis.org
SUMMARY:Worship Committee
DESCRIPTION:
URL:https://www.fccminneapolis.org/event/worship-committee-3/2025-12-22/
LOCATION:FCC Zoom Channel
END:VEVENT
BEGIN:VEVENT
DTSTART;TZID=America/Chicago:20251224T170000
DTEND;TZID=America/Chicago:20251224T190000
DTSTAMP:20260425T161438
CREATED:20251216T185608Z
LAST-MODIFIED:20251216T185608Z
UID:10007261-1766595600-1766602800@www.fccminneapolis.org
SUMMARY:Christmas Eve Service
DESCRIPTION:Choir Call: 4:00 PM
URL:https://www.fccminneapolis.org/event/christmas-eve-service-3/
LOCATION:FCC Garden Sanctuary
END:VEVENT
BEGIN:VEVENT
DTSTART;TZID=America/Chicago:20251225T103000
DTEND;TZID=America/Chicago:20251225T120000
DTSTAMP:20260425T161438
CREATED:20251216T185845Z
LAST-MODIFIED:20251216T185845Z
UID:10007262-1766658600-1766664000@www.fccminneapolis.org
SUMMARY:Christmas Day Service
DESCRIPTION:Hosted by Lyndale UCC
URL:https://www.fccminneapolis.org/event/christmas-day-service/
LOCATION:SHMC South Sanctuary (Upper Level)
END:VEVENT
BEGIN:VEVENT
DTSTART;TZID=America/Chicago:20251227T100000
DTEND;TZID=America/Chicago:20251227T113000
DTSTAMP:20260425T161438
CREATED:20250501T182635Z
LAST-MODIFIED:20250501T182636Z
UID:10005301-1766829600-1766835000@www.fccminneapolis.org
SUMMARY:Grief Support Group
DESCRIPTION:Grieving?\nShow up any Saturday at 10 am to 11:30 am to hear a speaker on various topics of grief and loss\, and then break into small discussion groups to talk to others experiencing a similar loss. \nNew attendees are always welcome!  We ask that you arrive by 9:45. \nUse our Contact Form or call 612-317-3454 for more information. \n\nThe Group currently meets at THE BASILICA OF ST. MARY\, at 1600 Hennepin Avenue\, Minneapolis\, 55403
URL:https://www.fccminneapolis.org/event/grief-support-group-2-2-2/2025-12-27/
LOCATION:St. Mark’s Episcopal Cathedral\, 519 Oak Grove St\, Minneapolis\, MN\, 55403\, United States
CATEGORIES:Ecumenical,Grief Support
END:VEVENT
END:VCALENDAR