BEGIN:VCALENDAR
VERSION:2.0
PRODID:-//First Christian Church (Disciples of Christ) - ECPv6.15.13//NONSGML v1.0//EN
CALSCALE:GREGORIAN
METHOD:PUBLISH
X-ORIGINAL-URL:https://www.fccminneapolis.org
X-WR-CALDESC:Events for First Christian Church (Disciples of Christ)
REFRESH-INTERVAL;VALUE=DURATION:PT1H
X-Robots-Tag:noindex
X-PUBLISHED-TTL:PT1H
BEGIN:VTIMEZONE
TZID:America/Chicago
BEGIN:DAYLIGHT
TZOFFSETFROM:-0600
TZOFFSETTO:-0500
TZNAME:CDT
DTSTART:20240310T080000
END:DAYLIGHT
BEGIN:STANDARD
TZOFFSETFROM:-0500
TZOFFSETTO:-0600
TZNAME:CST
DTSTART:20241103T070000
END:STANDARD
BEGIN:DAYLIGHT
TZOFFSETFROM:-0600
TZOFFSETTO:-0500
TZNAME:CDT
DTSTART:20250309T080000
END:DAYLIGHT
BEGIN:STANDARD
TZOFFSETFROM:-0500
TZOFFSETTO:-0600
TZNAME:CST
DTSTART:20251102T070000
END:STANDARD
BEGIN:DAYLIGHT
TZOFFSETFROM:-0600
TZOFFSETTO:-0500
TZNAME:CDT
DTSTART:20260308T080000
END:DAYLIGHT
BEGIN:STANDARD
TZOFFSETFROM:-0500
TZOFFSETTO:-0600
TZNAME:CST
DTSTART:20261101T070000
END:STANDARD
END:VTIMEZONE
BEGIN:VEVENT
DTSTART;TZID=America/Chicago:20250928T090000
DTEND;TZID=America/Chicago:20250928T123000
DTSTAMP:20260425T205124
CREATED:20230408T120318Z
LAST-MODIFIED:20250125T161636Z
UID:10004890-1759050000-1759062600@www.fccminneapolis.org
SUMMARY:SpringHouse Youth Room Open Hours
DESCRIPTION:
URL:https://www.fccminneapolis.org/event/springhouse-youth-room-open-hours/2025-09-28/
LOCATION:SHMC Youth Room
CATEGORIES:SpringHouse Joint Ministries,Youth
END:VEVENT
BEGIN:VEVENT
DTSTART;TZID=America/Chicago:20250928T100000
DTEND;TZID=America/Chicago:20250928T103000
DTSTAMP:20260425T205124
CREATED:20231130T201418Z
LAST-MODIFIED:20241224T200746Z
UID:10004942-1759053600-1759055400@www.fccminneapolis.org
SUMMARY:SpringHouse Youth Group Activities
DESCRIPTION:Youth group is starting up again! Please join Chelsea and other SpringHouse youth for games\, snacks\, fellowship\, and exploring faith starting THIS Sunday\, December 3rd from 10:00am-10:25am in the youth room (behind the squiggle room). All youth ages 10-18 are invited to participate! If you have any questions\, please reach out to Chelsea at springhouseyouth@fccmpls.org.
URL:https://www.fccminneapolis.org/event/springhouse-youth-group-activities/2025-09-28/
LOCATION:SHMC Youth Room
END:VEVENT
BEGIN:VEVENT
DTSTART;TZID=America/Chicago:20250928T103000
DTEND;TZID=America/Chicago:20250928T120000
DTSTAMP:20260425T205124
CREATED:20250603T113427Z
LAST-MODIFIED:20250603T113434Z
UID:10004992-1759055400-1759060800@www.fccminneapolis.org
SUMMARY:Sunday Worship (Online and In-Person)
DESCRIPTION:Click on the link on the right to attend online.
URL:https://www.fccminneapolis.org/event/sunday-worship-online-and-in-person-4-2/2025-09-28/
LOCATION:FCC North Sanctuary & LiveStream Channel
END:VEVENT
BEGIN:VEVENT
DTSTART;TZID=America/Chicago:20250930T170000
DTEND;TZID=America/Chicago:20250930T180000
DTSTAMP:20260425T205124
CREATED:20250522T153607Z
LAST-MODIFIED:20250617T135051Z
UID:10005095-1759251600-1759255200@www.fccminneapolis.org
SUMMARY:Happy Hour With Community
DESCRIPTION:https://us02web.zoom.us/j/87366209539 \nMeeting ID: 873 6620 9539
URL:https://www.fccminneapolis.org/event/happy-hour-with-the-pastors-17-2-3-3-2-2-2-2-3-6-2-2-2-2-2-2-2-2-2-2-2-2-2-2/2025-09-30/
LOCATION:FCC Zoom Channel
CATEGORIES:Fellowship,Online Community Gatherings
END:VEVENT
BEGIN:VEVENT
DTSTART;TZID=America/Chicago:20251001T090000
DTEND;TZID=America/Chicago:20251001T100000
DTSTAMP:20260425T205124
CREATED:20250930T182752Z
LAST-MODIFIED:20250930T182753Z
UID:10005933-1759309200-1759312800@www.fccminneapolis.org
SUMMARY:Coffee Hour with Community
DESCRIPTION:https://us02web.zoom.us/j/86907354362 \nMEETING ID: 869 0735 4362
URL:https://www.fccminneapolis.org/event/coffee-hour-with-community-3/
LOCATION:FCC Zoom Channel
CATEGORIES:FCC Meetings
END:VEVENT
BEGIN:VEVENT
DTSTART;TZID=America/Chicago:20251001T190000
DTEND;TZID=America/Chicago:20251001T200000
DTSTAMP:20260425T205124
CREATED:20250225T171232Z
LAST-MODIFIED:20250225T171958Z
UID:10005510-1759345200-1759348800@www.fccminneapolis.org
SUMMARY:Elders
DESCRIPTION:
URL:https://www.fccminneapolis.org/event/elders-3-2/2025-10-01/
LOCATION:FCC Zoom Channel
CATEGORIES:FCC Meetings
END:VEVENT
BEGIN:VEVENT
DTSTART;TZID=America/Chicago:20251002T120000
DTEND;TZID=America/Chicago:20251002T130000
DTSTAMP:20260425T205124
CREATED:20231212T171041Z
LAST-MODIFIED:20250103T155810Z
UID:10005247-1759406400-1759410000@www.fccminneapolis.org
SUMMARY:Mission & Outreach
DESCRIPTION:
URL:https://www.fccminneapolis.org/event/mission-outreach-4-2/2025-10-02/
LOCATION:FCC Zoom Channel
CATEGORIES:FCC Meetings,Mission & Outreach
END:VEVENT
BEGIN:VEVENT
DTSTART;TZID=America/Chicago:20251002T133000
DTEND;TZID=America/Chicago:20251002T153000
DTSTAMP:20260425T205124
CREATED:20250708T162601Z
LAST-MODIFIED:20250708T162601Z
UID:10005835-1759411800-1759419000@www.fccminneapolis.org
SUMMARY:SHMC Clergy Meeting
DESCRIPTION:
URL:https://www.fccminneapolis.org/event/shmc-clergy-meeting/2025-10-02/
LOCATION:SHMC Esther Meeting Space (Lower Level)
END:VEVENT
BEGIN:VEVENT
DTSTART;TZID=America/Chicago:20251002T170000
DTEND;TZID=America/Chicago:20251002T180000
DTSTAMP:20260425T205124
CREATED:20250522T154356Z
LAST-MODIFIED:20250522T154358Z
UID:10005565-1759424400-1759428000@www.fccminneapolis.org
SUMMARY:Happy Hour With Community
DESCRIPTION:https://us02web.zoom.us/j/87366209539 \nMeeting ID: 873 6620 9539
URL:https://www.fccminneapolis.org/event/happy-hour-with-the-pastors-20-2-2/2025-10-02/
LOCATION:FCC Zoom Channel
CATEGORIES:Fellowship,Online Community Gatherings
END:VEVENT
BEGIN:VEVENT
DTSTART;TZID=America/Chicago:20251004T090000
DTEND;TZID=America/Chicago:20251004T100000
DTSTAMP:20260425T205124
CREATED:20250909T174708Z
LAST-MODIFIED:20250909T174708Z
UID:10006193-1759568400-1759572000@www.fccminneapolis.org
SUMMARY:Coffee Hour with Community
DESCRIPTION:
URL:https://www.fccminneapolis.org/event/coffee-hour-with-community-2/2025-10-04/
LOCATION:FCC LiveStream Channel
END:VEVENT
BEGIN:VEVENT
DTSTART;TZID=America/Chicago:20251004T100000
DTEND;TZID=America/Chicago:20251004T113000
DTSTAMP:20260425T205124
CREATED:20250501T182635Z
LAST-MODIFIED:20250501T182636Z
UID:10005289-1759572000-1759577400@www.fccminneapolis.org
SUMMARY:Grief Support Group
DESCRIPTION:Grieving?\nShow up any Saturday at 10 am to 11:30 am to hear a speaker on various topics of grief and loss\, and then break into small discussion groups to talk to others experiencing a similar loss. \nNew attendees are always welcome!  We ask that you arrive by 9:45. \nUse our Contact Form or call 612-317-3454 for more information. \n\nThe Group currently meets at THE BASILICA OF ST. MARY\, at 1600 Hennepin Avenue\, Minneapolis\, 55403
URL:https://www.fccminneapolis.org/event/grief-support-group-2-2-2/2025-10-04/
LOCATION:St. Mark’s Episcopal Cathedral\, 519 Oak Grove St\, Minneapolis\, MN\, 55403\, United States
CATEGORIES:Ecumenical,Grief Support
END:VEVENT
END:VCALENDAR