BEGIN:VCALENDAR
VERSION:2.0
PRODID:-//First Christian Church (Disciples of Christ) - ECPv6.15.13//NONSGML v1.0//EN
CALSCALE:GREGORIAN
METHOD:PUBLISH
X-WR-CALNAME:First Christian Church (Disciples of Christ)
X-ORIGINAL-URL:https://www.fccminneapolis.org
X-WR-CALDESC:Events for First Christian Church (Disciples of Christ)
REFRESH-INTERVAL;VALUE=DURATION:PT1H
X-Robots-Tag:noindex
X-PUBLISHED-TTL:PT1H
BEGIN:VTIMEZONE
TZID:America/Chicago
BEGIN:DAYLIGHT
TZOFFSETFROM:-0600
TZOFFSETTO:-0500
TZNAME:CDT
DTSTART:20240310T080000
END:DAYLIGHT
BEGIN:STANDARD
TZOFFSETFROM:-0500
TZOFFSETTO:-0600
TZNAME:CST
DTSTART:20241103T070000
END:STANDARD
BEGIN:DAYLIGHT
TZOFFSETFROM:-0600
TZOFFSETTO:-0500
TZNAME:CDT
DTSTART:20250309T080000
END:DAYLIGHT
BEGIN:STANDARD
TZOFFSETFROM:-0500
TZOFFSETTO:-0600
TZNAME:CST
DTSTART:20251102T070000
END:STANDARD
BEGIN:DAYLIGHT
TZOFFSETFROM:-0600
TZOFFSETTO:-0500
TZNAME:CDT
DTSTART:20260308T080000
END:DAYLIGHT
BEGIN:STANDARD
TZOFFSETFROM:-0500
TZOFFSETTO:-0600
TZNAME:CST
DTSTART:20261101T070000
END:STANDARD
END:VTIMEZONE
BEGIN:VEVENT
DTSTART;TZID=America/Chicago:20250914T090000
DTEND;TZID=America/Chicago:20250914T123000
DTSTAMP:20260425T221955
CREATED:20230408T120318Z
LAST-MODIFIED:20250125T161636Z
UID:10004888-1757840400-1757853000@www.fccminneapolis.org
SUMMARY:SpringHouse Youth Room Open Hours
DESCRIPTION:
URL:https://www.fccminneapolis.org/event/springhouse-youth-room-open-hours/2025-09-14/
LOCATION:SHMC Youth Room
CATEGORIES:SpringHouse Joint Ministries,Youth
END:VEVENT
BEGIN:VEVENT
DTSTART;TZID=America/Chicago:20250914T100000
DTEND;TZID=America/Chicago:20250914T103000
DTSTAMP:20260425T221955
CREATED:20231130T201418Z
LAST-MODIFIED:20241224T200746Z
UID:10004940-1757844000-1757845800@www.fccminneapolis.org
SUMMARY:SpringHouse Youth Group Activities
DESCRIPTION:Youth group is starting up again! Please join Chelsea and other SpringHouse youth for games\, snacks\, fellowship\, and exploring faith starting THIS Sunday\, December 3rd from 10:00am-10:25am in the youth room (behind the squiggle room). All youth ages 10-18 are invited to participate! If you have any questions\, please reach out to Chelsea at springhouseyouth@fccmpls.org.
URL:https://www.fccminneapolis.org/event/springhouse-youth-group-activities/2025-09-14/
LOCATION:SHMC Youth Room
END:VEVENT
BEGIN:VEVENT
DTSTART;TZID=America/Chicago:20250914T103000
DTEND;TZID=America/Chicago:20250914T120000
DTSTAMP:20260425T221955
CREATED:20250603T113427Z
LAST-MODIFIED:20250603T113434Z
UID:10004990-1757845800-1757851200@www.fccminneapolis.org
SUMMARY:Sunday Worship (Online and In-Person)
DESCRIPTION:Click on the link on the right to attend online.
URL:https://www.fccminneapolis.org/event/sunday-worship-online-and-in-person-4-2/2025-09-14/
LOCATION:FCC North Sanctuary & LiveStream Channel
END:VEVENT
BEGIN:VEVENT
DTSTART;TZID=America/Chicago:20250916T190000
DTEND;TZID=America/Chicago:20250916T210000
DTSTAMP:20260425T221955
CREATED:20221215T223506Z
LAST-MODIFIED:20250102T144333Z
UID:10005384-1758049200-1758056400@www.fccminneapolis.org
SUMMARY:FCC Board - Online
DESCRIPTION:
URL:https://www.fccminneapolis.org/event/fcc-board-online/2025-09-16/
LOCATION:FCC Zoom Channel
CATEGORIES:FCC Meetings
END:VEVENT
BEGIN:VEVENT
DTSTART;TZID=America/Chicago:20250917T090000
DTEND;TZID=America/Chicago:20250917T100000
DTSTAMP:20260425T221955
CREATED:20250821T163905Z
LAST-MODIFIED:20250821T163905Z
UID:10005931-1758099600-1758103200@www.fccminneapolis.org
SUMMARY:Coffee Hour with Community
DESCRIPTION:
URL:https://www.fccminneapolis.org/event/coffee-hour-with-community/2025-09-17/
LOCATION:FCC Zoom Channel
CATEGORIES:FCC Meetings
END:VEVENT
BEGIN:VEVENT
DTSTART;TZID=America/Chicago:20250917T123000
DTEND;TZID=America/Chicago:20250917T133000
DTSTAMP:20260425T221955
CREATED:20250110T170033Z
LAST-MODIFIED:20251230T183030Z
UID:10007511-1758112200-1758115800@www.fccminneapolis.org
SUMMARY:Finance Committee
DESCRIPTION:
URL:https://www.fccminneapolis.org/event/finance-committee-4/2025-09-17/
LOCATION:FCC Zoom Channel
CATEGORIES:FCC Meetings
END:VEVENT
BEGIN:VEVENT
DTSTART;TZID=America/Chicago:20250918T170000
DTEND;TZID=America/Chicago:20250918T180000
DTSTAMP:20260425T221955
CREATED:20250522T154356Z
LAST-MODIFIED:20250522T154358Z
UID:10005563-1758214800-1758218400@www.fccminneapolis.org
SUMMARY:Happy Hour With Community
DESCRIPTION:https://us02web.zoom.us/j/87366209539 \nMeeting ID: 873 6620 9539
URL:https://www.fccminneapolis.org/event/happy-hour-with-the-pastors-20-2-2/2025-09-18/
LOCATION:FCC Zoom Channel
CATEGORIES:Fellowship,Online Community Gatherings
END:VEVENT
BEGIN:VEVENT
DTSTART;TZID=America/Chicago:20250918T190000
DTEND;TZID=America/Chicago:20250918T200000
DTSTAMP:20260425T221955
CREATED:20250807T174550Z
LAST-MODIFIED:20250807T174550Z
UID:10005905-1758222000-1758225600@www.fccminneapolis.org
SUMMARY:FCC and Friends Book Club
DESCRIPTION:The Violin Conspiracy by Brendan Slocumb
URL:https://www.fccminneapolis.org/event/fcc-and-friends-book-club/
LOCATION:FCC Zoom Channel
END:VEVENT
BEGIN:VEVENT
DTSTART;TZID=America/Chicago:20250920T090000
DTEND;TZID=America/Chicago:20250920T100000
DTSTAMP:20260425T221955
CREATED:20250909T174708Z
LAST-MODIFIED:20250909T174708Z
UID:10006191-1758358800-1758362400@www.fccminneapolis.org
SUMMARY:Coffee Hour with Community
DESCRIPTION:
URL:https://www.fccminneapolis.org/event/coffee-hour-with-community-2/2025-09-20/
LOCATION:FCC LiveStream Channel
END:VEVENT
BEGIN:VEVENT
DTSTART;TZID=America/Chicago:20250920T100000
DTEND;TZID=America/Chicago:20250920T113000
DTSTAMP:20260425T221955
CREATED:20250501T182635Z
LAST-MODIFIED:20250501T182636Z
UID:10005287-1758362400-1758367800@www.fccminneapolis.org
SUMMARY:Grief Support Group
DESCRIPTION:Grieving?\nShow up any Saturday at 10 am to 11:30 am to hear a speaker on various topics of grief and loss\, and then break into small discussion groups to talk to others experiencing a similar loss. \nNew attendees are always welcome!  We ask that you arrive by 9:45. \nUse our Contact Form or call 612-317-3454 for more information. \n\nThe Group currently meets at THE BASILICA OF ST. MARY\, at 1600 Hennepin Avenue\, Minneapolis\, 55403
URL:https://www.fccminneapolis.org/event/grief-support-group-2-2-2/2025-09-20/
LOCATION:St. Mark’s Episcopal Cathedral\, 519 Oak Grove St\, Minneapolis\, MN\, 55403\, United States
CATEGORIES:Ecumenical,Grief Support
END:VEVENT
END:VCALENDAR