BEGIN:VCALENDAR
VERSION:2.0
PRODID:-//First Christian Church (Disciples of Christ) - ECPv6.15.13//NONSGML v1.0//EN
CALSCALE:GREGORIAN
METHOD:PUBLISH
X-WR-CALNAME:First Christian Church (Disciples of Christ)
X-ORIGINAL-URL:https://www.fccminneapolis.org
X-WR-CALDESC:Events for First Christian Church (Disciples of Christ)
REFRESH-INTERVAL;VALUE=DURATION:PT1H
X-Robots-Tag:noindex
X-PUBLISHED-TTL:PT1H
BEGIN:VTIMEZONE
TZID:America/Chicago
BEGIN:DAYLIGHT
TZOFFSETFROM:-0600
TZOFFSETTO:-0500
TZNAME:CDT
DTSTART:20250309T080000
END:DAYLIGHT
BEGIN:STANDARD
TZOFFSETFROM:-0500
TZOFFSETTO:-0600
TZNAME:CST
DTSTART:20251102T070000
END:STANDARD
BEGIN:DAYLIGHT
TZOFFSETFROM:-0600
TZOFFSETTO:-0500
TZNAME:CDT
DTSTART:20260308T080000
END:DAYLIGHT
BEGIN:STANDARD
TZOFFSETFROM:-0500
TZOFFSETTO:-0600
TZNAME:CST
DTSTART:20261101T070000
END:STANDARD
BEGIN:DAYLIGHT
TZOFFSETFROM:-0600
TZOFFSETTO:-0500
TZNAME:CDT
DTSTART:20270314T080000
END:DAYLIGHT
BEGIN:STANDARD
TZOFFSETFROM:-0500
TZOFFSETTO:-0600
TZNAME:CST
DTSTART:20271107T070000
END:STANDARD
BEGIN:DAYLIGHT
TZOFFSETFROM:-0600
TZOFFSETTO:-0500
TZNAME:CDT
DTSTART:20280312T080000
END:DAYLIGHT
BEGIN:STANDARD
TZOFFSETFROM:-0500
TZOFFSETTO:-0600
TZNAME:CST
DTSTART:20281105T070000
END:STANDARD
BEGIN:DAYLIGHT
TZOFFSETFROM:-0600
TZOFFSETTO:-0500
TZNAME:CDT
DTSTART:20290311T080000
END:DAYLIGHT
BEGIN:STANDARD
TZOFFSETFROM:-0500
TZOFFSETTO:-0600
TZNAME:CST
DTSTART:20291104T070000
END:STANDARD
END:VTIMEZONE
BEGIN:VEVENT
DTSTART;TZID=America/Chicago:20260513T123000
DTEND;TZID=America/Chicago:20260513T133000
DTSTAMP:20260425T061336
CREATED:20260121T011547Z
LAST-MODIFIED:20260121T011547Z
UID:10007767-1778675400-1778679000@www.fccminneapolis.org
SUMMARY:Finance Committee
DESCRIPTION:
URL:https://www.fccminneapolis.org/event/finance-committee-4-2/2026-05-13/
LOCATION:FCC Zoom Channel
CATEGORIES:FCC Meetings
END:VEVENT
BEGIN:VEVENT
DTSTART;TZID=America/Chicago:20260610T123000
DTEND;TZID=America/Chicago:20260610T133000
DTSTAMP:20260425T061336
CREATED:20260121T011547Z
LAST-MODIFIED:20260121T011547Z
UID:10007768-1781094600-1781098200@www.fccminneapolis.org
SUMMARY:Finance Committee
DESCRIPTION:
URL:https://www.fccminneapolis.org/event/finance-committee-4-2/2026-06-10/
LOCATION:FCC Zoom Channel
CATEGORIES:FCC Meetings
END:VEVENT
BEGIN:VEVENT
DTSTART;TZID=America/Chicago:20260708T123000
DTEND;TZID=America/Chicago:20260708T133000
DTSTAMP:20260425T061336
CREATED:20260121T011547Z
LAST-MODIFIED:20260121T011547Z
UID:10007769-1783513800-1783517400@www.fccminneapolis.org
SUMMARY:Finance Committee
DESCRIPTION:
URL:https://www.fccminneapolis.org/event/finance-committee-4-2/2026-07-08/
LOCATION:FCC Zoom Channel
CATEGORIES:FCC Meetings
END:VEVENT
BEGIN:VEVENT
DTSTART;TZID=America/Chicago:20260812T123000
DTEND;TZID=America/Chicago:20260812T133000
DTSTAMP:20260425T061336
CREATED:20260121T011547Z
LAST-MODIFIED:20260121T011547Z
UID:10007770-1786537800-1786541400@www.fccminneapolis.org
SUMMARY:Finance Committee
DESCRIPTION:
URL:https://www.fccminneapolis.org/event/finance-committee-4-2/2026-08-12/
LOCATION:FCC Zoom Channel
CATEGORIES:FCC Meetings
END:VEVENT
BEGIN:VEVENT
DTSTART;TZID=America/Chicago:20260909T123000
DTEND;TZID=America/Chicago:20260909T133000
DTSTAMP:20260425T061336
CREATED:20260121T011547Z
LAST-MODIFIED:20260121T011547Z
UID:10007771-1788957000-1788960600@www.fccminneapolis.org
SUMMARY:Finance Committee
DESCRIPTION:
URL:https://www.fccminneapolis.org/event/finance-committee-4-2/2026-09-09/
LOCATION:FCC Zoom Channel
CATEGORIES:FCC Meetings
END:VEVENT
BEGIN:VEVENT
DTSTART;TZID=America/Chicago:20261014T123000
DTEND;TZID=America/Chicago:20261014T133000
DTSTAMP:20260425T061336
CREATED:20260121T011547Z
LAST-MODIFIED:20260121T011547Z
UID:10007772-1791981000-1791984600@www.fccminneapolis.org
SUMMARY:Finance Committee
DESCRIPTION:
URL:https://www.fccminneapolis.org/event/finance-committee-4-2/2026-10-14/
LOCATION:FCC Zoom Channel
CATEGORIES:FCC Meetings
END:VEVENT
BEGIN:VEVENT
DTSTART;TZID=America/Chicago:20261111T123000
DTEND;TZID=America/Chicago:20261111T133000
DTSTAMP:20260425T061336
CREATED:20260121T011547Z
LAST-MODIFIED:20260121T011547Z
UID:10007773-1794400200-1794403800@www.fccminneapolis.org
SUMMARY:Finance Committee
DESCRIPTION:
URL:https://www.fccminneapolis.org/event/finance-committee-4-2/2026-11-11/
LOCATION:FCC Zoom Channel
CATEGORIES:FCC Meetings
END:VEVENT
BEGIN:VEVENT
DTSTART;TZID=America/Chicago:20261209T123000
DTEND;TZID=America/Chicago:20261209T133000
DTSTAMP:20260425T061336
CREATED:20260121T011547Z
LAST-MODIFIED:20260121T011547Z
UID:10007774-1796819400-1796823000@www.fccminneapolis.org
SUMMARY:Finance Committee
DESCRIPTION:
URL:https://www.fccminneapolis.org/event/finance-committee-4-2/2026-12-09/
LOCATION:FCC Zoom Channel
CATEGORIES:FCC Meetings
END:VEVENT
BEGIN:VEVENT
DTSTART;TZID=America/Chicago:20270113T123000
DTEND;TZID=America/Chicago:20270113T133000
DTSTAMP:20260425T061336
CREATED:20260121T011547Z
LAST-MODIFIED:20260121T011547Z
UID:10007775-1799843400-1799847000@www.fccminneapolis.org
SUMMARY:Finance Committee
DESCRIPTION:
URL:https://www.fccminneapolis.org/event/finance-committee-4-2/2027-01-13/
LOCATION:FCC Zoom Channel
CATEGORIES:FCC Meetings
END:VEVENT
BEGIN:VEVENT
DTSTART;TZID=America/Chicago:20270210T123000
DTEND;TZID=America/Chicago:20270210T133000
DTSTAMP:20260425T061336
CREATED:20260121T011547Z
LAST-MODIFIED:20260121T011547Z
UID:10007776-1802262600-1802266200@www.fccminneapolis.org
SUMMARY:Finance Committee
DESCRIPTION:
URL:https://www.fccminneapolis.org/event/finance-committee-4-2/2027-02-10/
LOCATION:FCC Zoom Channel
CATEGORIES:FCC Meetings
END:VEVENT
BEGIN:VEVENT
DTSTART;TZID=America/Chicago:20270310T123000
DTEND;TZID=America/Chicago:20270310T133000
DTSTAMP:20260425T061336
CREATED:20260121T011547Z
LAST-MODIFIED:20260121T011547Z
UID:10007777-1804681800-1804685400@www.fccminneapolis.org
SUMMARY:Finance Committee
DESCRIPTION:
URL:https://www.fccminneapolis.org/event/finance-committee-4-2/2027-03-10/
LOCATION:FCC Zoom Channel
CATEGORIES:FCC Meetings
END:VEVENT
BEGIN:VEVENT
DTSTART;TZID=America/Chicago:20270414T123000
DTEND;TZID=America/Chicago:20270414T133000
DTSTAMP:20260425T061336
CREATED:20260121T011547Z
LAST-MODIFIED:20260121T011547Z
UID:10007778-1807705800-1807709400@www.fccminneapolis.org
SUMMARY:Finance Committee
DESCRIPTION:
URL:https://www.fccminneapolis.org/event/finance-committee-4-2/2027-04-14/
LOCATION:FCC Zoom Channel
CATEGORIES:FCC Meetings
END:VEVENT
BEGIN:VEVENT
DTSTART;TZID=America/Chicago:20270512T123000
DTEND;TZID=America/Chicago:20270512T133000
DTSTAMP:20260425T061336
CREATED:20260121T011547Z
LAST-MODIFIED:20260121T011547Z
UID:10007779-1810125000-1810128600@www.fccminneapolis.org
SUMMARY:Finance Committee
DESCRIPTION:
URL:https://www.fccminneapolis.org/event/finance-committee-4-2/2027-05-12/
LOCATION:FCC Zoom Channel
CATEGORIES:FCC Meetings
END:VEVENT
BEGIN:VEVENT
DTSTART;TZID=America/Chicago:20270609T123000
DTEND;TZID=America/Chicago:20270609T133000
DTSTAMP:20260425T061336
CREATED:20260121T011547Z
LAST-MODIFIED:20260121T011547Z
UID:10007780-1812544200-1812547800@www.fccminneapolis.org
SUMMARY:Finance Committee
DESCRIPTION:
URL:https://www.fccminneapolis.org/event/finance-committee-4-2/2027-06-09/
LOCATION:FCC Zoom Channel
CATEGORIES:FCC Meetings
END:VEVENT
BEGIN:VEVENT
DTSTART;TZID=America/Chicago:20270714T123000
DTEND;TZID=America/Chicago:20270714T133000
DTSTAMP:20260425T061336
CREATED:20260121T011547Z
LAST-MODIFIED:20260121T011547Z
UID:10007781-1815568200-1815571800@www.fccminneapolis.org
SUMMARY:Finance Committee
DESCRIPTION:
URL:https://www.fccminneapolis.org/event/finance-committee-4-2/2027-07-14/
LOCATION:FCC Zoom Channel
CATEGORIES:FCC Meetings
END:VEVENT
BEGIN:VEVENT
DTSTART;TZID=America/Chicago:20270811T123000
DTEND;TZID=America/Chicago:20270811T133000
DTSTAMP:20260425T061336
CREATED:20260121T011547Z
LAST-MODIFIED:20260121T011547Z
UID:10007782-1817987400-1817991000@www.fccminneapolis.org
SUMMARY:Finance Committee
DESCRIPTION:
URL:https://www.fccminneapolis.org/event/finance-committee-4-2/2027-08-11/
LOCATION:FCC Zoom Channel
CATEGORIES:FCC Meetings
END:VEVENT
BEGIN:VEVENT
DTSTART;TZID=America/Chicago:20270908T123000
DTEND;TZID=America/Chicago:20270908T133000
DTSTAMP:20260425T061336
CREATED:20260121T011547Z
LAST-MODIFIED:20260121T011547Z
UID:10007783-1820406600-1820410200@www.fccminneapolis.org
SUMMARY:Finance Committee
DESCRIPTION:
URL:https://www.fccminneapolis.org/event/finance-committee-4-2/2027-09-08/
LOCATION:FCC Zoom Channel
CATEGORIES:FCC Meetings
END:VEVENT
BEGIN:VEVENT
DTSTART;TZID=America/Chicago:20271013T123000
DTEND;TZID=America/Chicago:20271013T133000
DTSTAMP:20260425T061336
CREATED:20260121T011547Z
LAST-MODIFIED:20260121T011547Z
UID:10007784-1823430600-1823434200@www.fccminneapolis.org
SUMMARY:Finance Committee
DESCRIPTION:
URL:https://www.fccminneapolis.org/event/finance-committee-4-2/2027-10-13/
LOCATION:FCC Zoom Channel
CATEGORIES:FCC Meetings
END:VEVENT
BEGIN:VEVENT
DTSTART;TZID=America/Chicago:20271110T123000
DTEND;TZID=America/Chicago:20271110T133000
DTSTAMP:20260425T061336
CREATED:20260121T011547Z
LAST-MODIFIED:20260121T011547Z
UID:10007785-1825849800-1825853400@www.fccminneapolis.org
SUMMARY:Finance Committee
DESCRIPTION:
URL:https://www.fccminneapolis.org/event/finance-committee-4-2/2027-11-10/
LOCATION:FCC Zoom Channel
CATEGORIES:FCC Meetings
END:VEVENT
BEGIN:VEVENT
DTSTART;TZID=America/Chicago:20271208T123000
DTEND;TZID=America/Chicago:20271208T133000
DTSTAMP:20260425T061336
CREATED:20260121T011547Z
LAST-MODIFIED:20260121T011547Z
UID:10007786-1828269000-1828272600@www.fccminneapolis.org
SUMMARY:Finance Committee
DESCRIPTION:
URL:https://www.fccminneapolis.org/event/finance-committee-4-2/2027-12-08/
LOCATION:FCC Zoom Channel
CATEGORIES:FCC Meetings
END:VEVENT
BEGIN:VEVENT
DTSTART;TZID=America/Chicago:20280112T123000
DTEND;TZID=America/Chicago:20280112T133000
DTSTAMP:20260425T061336
CREATED:20260121T011547Z
LAST-MODIFIED:20260121T011547Z
UID:10007787-1831293000-1831296600@www.fccminneapolis.org
SUMMARY:Finance Committee
DESCRIPTION:
URL:https://www.fccminneapolis.org/event/finance-committee-4-2/2028-01-12/
LOCATION:FCC Zoom Channel
CATEGORIES:FCC Meetings
END:VEVENT
BEGIN:VEVENT
DTSTART;TZID=America/Chicago:20280209T123000
DTEND;TZID=America/Chicago:20280209T133000
DTSTAMP:20260425T061336
CREATED:20260121T011547Z
LAST-MODIFIED:20260121T011547Z
UID:10007788-1833712200-1833715800@www.fccminneapolis.org
SUMMARY:Finance Committee
DESCRIPTION:
URL:https://www.fccminneapolis.org/event/finance-committee-4-2/2028-02-09/
LOCATION:FCC Zoom Channel
CATEGORIES:FCC Meetings
END:VEVENT
BEGIN:VEVENT
DTSTART;TZID=America/Chicago:20280308T123000
DTEND;TZID=America/Chicago:20280308T133000
DTSTAMP:20260425T061336
CREATED:20260121T011547Z
LAST-MODIFIED:20260121T011547Z
UID:10007789-1836131400-1836135000@www.fccminneapolis.org
SUMMARY:Finance Committee
DESCRIPTION:
URL:https://www.fccminneapolis.org/event/finance-committee-4-2/2028-03-08/
LOCATION:FCC Zoom Channel
CATEGORIES:FCC Meetings
END:VEVENT
BEGIN:VEVENT
DTSTART;TZID=America/Chicago:20280412T123000
DTEND;TZID=America/Chicago:20280412T133000
DTSTAMP:20260425T061336
CREATED:20260121T011547Z
LAST-MODIFIED:20260121T011547Z
UID:10007790-1839155400-1839159000@www.fccminneapolis.org
SUMMARY:Finance Committee
DESCRIPTION:
URL:https://www.fccminneapolis.org/event/finance-committee-4-2/2028-04-12/
LOCATION:FCC Zoom Channel
CATEGORIES:FCC Meetings
END:VEVENT
BEGIN:VEVENT
DTSTART;TZID=America/Chicago:20280510T123000
DTEND;TZID=America/Chicago:20280510T133000
DTSTAMP:20260425T061336
CREATED:20260121T011547Z
LAST-MODIFIED:20260121T011547Z
UID:10007791-1841574600-1841578200@www.fccminneapolis.org
SUMMARY:Finance Committee
DESCRIPTION:
URL:https://www.fccminneapolis.org/event/finance-committee-4-2/2028-05-10/
LOCATION:FCC Zoom Channel
CATEGORIES:FCC Meetings
END:VEVENT
BEGIN:VEVENT
DTSTART;TZID=America/Chicago:20280614T123000
DTEND;TZID=America/Chicago:20280614T133000
DTSTAMP:20260425T061336
CREATED:20260121T011547Z
LAST-MODIFIED:20260121T011547Z
UID:10007792-1844598600-1844602200@www.fccminneapolis.org
SUMMARY:Finance Committee
DESCRIPTION:
URL:https://www.fccminneapolis.org/event/finance-committee-4-2/2028-06-14/
LOCATION:FCC Zoom Channel
CATEGORIES:FCC Meetings
END:VEVENT
BEGIN:VEVENT
DTSTART;TZID=America/Chicago:20280712T123000
DTEND;TZID=America/Chicago:20280712T133000
DTSTAMP:20260425T061336
CREATED:20260121T011547Z
LAST-MODIFIED:20260121T011547Z
UID:10007793-1847017800-1847021400@www.fccminneapolis.org
SUMMARY:Finance Committee
DESCRIPTION:
URL:https://www.fccminneapolis.org/event/finance-committee-4-2/2028-07-12/
LOCATION:FCC Zoom Channel
CATEGORIES:FCC Meetings
END:VEVENT
BEGIN:VEVENT
DTSTART;TZID=America/Chicago:20280809T123000
DTEND;TZID=America/Chicago:20280809T133000
DTSTAMP:20260425T061336
CREATED:20260121T011547Z
LAST-MODIFIED:20260121T011547Z
UID:10007794-1849437000-1849440600@www.fccminneapolis.org
SUMMARY:Finance Committee
DESCRIPTION:
URL:https://www.fccminneapolis.org/event/finance-committee-4-2/2028-08-09/
LOCATION:FCC Zoom Channel
CATEGORIES:FCC Meetings
END:VEVENT
BEGIN:VEVENT
DTSTART;TZID=America/Chicago:20280913T123000
DTEND;TZID=America/Chicago:20280913T133000
DTSTAMP:20260425T061336
CREATED:20260121T011547Z
LAST-MODIFIED:20260121T011547Z
UID:10007795-1852461000-1852464600@www.fccminneapolis.org
SUMMARY:Finance Committee
DESCRIPTION:
URL:https://www.fccminneapolis.org/event/finance-committee-4-2/2028-09-13/
LOCATION:FCC Zoom Channel
CATEGORIES:FCC Meetings
END:VEVENT
BEGIN:VEVENT
DTSTART;TZID=America/Chicago:20281011T123000
DTEND;TZID=America/Chicago:20281011T133000
DTSTAMP:20260425T061336
CREATED:20260121T011547Z
LAST-MODIFIED:20260121T011547Z
UID:10007796-1854880200-1854883800@www.fccminneapolis.org
SUMMARY:Finance Committee
DESCRIPTION:
URL:https://www.fccminneapolis.org/event/finance-committee-4-2/2028-10-11/
LOCATION:FCC Zoom Channel
CATEGORIES:FCC Meetings
END:VEVENT
END:VCALENDAR