BEGIN:VCALENDAR
VERSION:2.0
PRODID:-//First Christian Church (Disciples of Christ) - ECPv6.15.13//NONSGML v1.0//EN
CALSCALE:GREGORIAN
METHOD:PUBLISH
X-ORIGINAL-URL:https://www.fccminneapolis.org
X-WR-CALDESC:Events for First Christian Church (Disciples of Christ)
REFRESH-INTERVAL;VALUE=DURATION:PT1H
X-Robots-Tag:noindex
X-PUBLISHED-TTL:PT1H
BEGIN:VTIMEZONE
TZID:America/Chicago
BEGIN:DAYLIGHT
TZOFFSETFROM:-0600
TZOFFSETTO:-0500
TZNAME:CDT
DTSTART:20250309T080000
END:DAYLIGHT
BEGIN:STANDARD
TZOFFSETFROM:-0500
TZOFFSETTO:-0600
TZNAME:CST
DTSTART:20251102T070000
END:STANDARD
BEGIN:DAYLIGHT
TZOFFSETFROM:-0600
TZOFFSETTO:-0500
TZNAME:CDT
DTSTART:20260308T080000
END:DAYLIGHT
BEGIN:STANDARD
TZOFFSETFROM:-0500
TZOFFSETTO:-0600
TZNAME:CST
DTSTART:20261101T070000
END:STANDARD
BEGIN:DAYLIGHT
TZOFFSETFROM:-0600
TZOFFSETTO:-0500
TZNAME:CDT
DTSTART:20270314T080000
END:DAYLIGHT
BEGIN:STANDARD
TZOFFSETFROM:-0500
TZOFFSETTO:-0600
TZNAME:CST
DTSTART:20271107T070000
END:STANDARD
END:VTIMEZONE
BEGIN:VEVENT
DTSTART;TZID=America/Chicago:20260919T090000
DTEND;TZID=America/Chicago:20260919T100000
DTSTAMP:20260425T221706
CREATED:20250930T181740Z
LAST-MODIFIED:20250930T182917Z
UID:10006243-1789808400-1789812000@www.fccminneapolis.org
SUMMARY:The Breakfast Club
DESCRIPTION:https://us02web.zoom.us/j/81318971740 \nMEETING ID: 813 1897 1740
URL:https://www.fccminneapolis.org/event/coffee-hour-with-community-2-2/2026-09-19/
LOCATION:FCC LiveStream Channel
END:VEVENT
BEGIN:VEVENT
DTSTART;TZID=America/Chicago:20260919T100000
DTEND;TZID=America/Chicago:20260919T110000
DTSTAMP:20260425T221706
CREATED:20260226T165001Z
LAST-MODIFIED:20260226T165001Z
UID:10008058-1789812000-1789815600@www.fccminneapolis.org
SUMMARY:Grief Support Group
DESCRIPTION:
URL:https://www.fccminneapolis.org/event/grief-support-group-3-2/2026-09-19/
LOCATION:SHMC Lower Level
END:VEVENT
BEGIN:VEVENT
DTSTART;TZID=America/Chicago:20260920T090000
DTEND;TZID=America/Chicago:20260920T100000
DTSTAMP:20260425T221706
CREATED:20260303T172003Z
LAST-MODIFIED:20260303T172003Z
UID:10008643-1789894800-1789898400@www.fccminneapolis.org
SUMMARY:SpringHouse Youth Group Activities
DESCRIPTION:Please join Chelsea and other SpringHouse youth for games\, snacks\, fellowship\, and exploring faith in the youth room (behind the squiggle room). All youth ages 10-18 are invited to participate! If you have any questions\, please reach out to Chelsea at springhouseyouth@fccmpls.org.
URL:https://www.fccminneapolis.org/event/springhouse-youth-group-activities-2/2026-09-20/
LOCATION:SHMC Youth Room
END:VEVENT
BEGIN:VEVENT
DTSTART;TZID=America/Chicago:20260920T090000
DTEND;TZID=America/Chicago:20260920T123000
DTSTAMP:20260425T221706
CREATED:20260303T172214Z
LAST-MODIFIED:20260303T172244Z
UID:10008905-1789894800-1789907400@www.fccminneapolis.org
SUMMARY:SpringHouse Youth Room Open Hours
DESCRIPTION:
URL:https://www.fccminneapolis.org/event/springhouse-youth-room-open-hours-2/2026-09-20/
LOCATION:SHMC Youth Room
END:VEVENT
BEGIN:VEVENT
DTSTART;TZID=America/Chicago:20260920T100000
DTEND;TZID=America/Chicago:20260920T120000
DTSTAMP:20260425T221706
CREATED:20260303T171333Z
LAST-MODIFIED:20260303T171644Z
UID:10008381-1789898400-1789905600@www.fccminneapolis.org
SUMMARY:Sunday Worship Service (Online and In-Person)
DESCRIPTION:FCC LIVESTREAM CHANNEL:\nTo access our LiveStream channel: https://www.youtube.com/channel/UCPVqQ57szyEh8JCtF_8lhiw \nONLINE WORSHIP MATERIALS:\nUnder the sliding picture at the top of the website\, you will see a series of icons that have the various items you will need for Sunday worship. \nONLINE GIVING:\nThrough our FCC website\, you can access online giving and Sunday bulletin materials. In the upper right-hand corner of the site\, you will see a button that says “Give”. Click on this button to access the online giving portal. 💞
URL:https://www.fccminneapolis.org/event/sunday-worship-service/2026-09-20/
LOCATION:SHMC Garden Sanctuary (lower level)
END:VEVENT
BEGIN:VEVENT
DTSTART;TZID=America/Chicago:20260922T130000
DTEND;TZID=America/Chicago:20260922T140000
DTSTAMP:20260425T221706
CREATED:20260127T201219Z
LAST-MODIFIED:20260127T201220Z
UID:10007852-1790082000-1790085600@www.fccminneapolis.org
SUMMARY:Mission & Outreach
DESCRIPTION:
URL:https://www.fccminneapolis.org/event/mission-outreach-4-2-2-2-2/2026-09-22/
LOCATION:FCC Zoom Channel
CATEGORIES:FCC Meetings,Mission & Outreach
END:VEVENT
BEGIN:VEVENT
DTSTART;TZID=America/Chicago:20260923T090000
DTEND;TZID=America/Chicago:20260923T100000
DTSTAMP:20260425T221706
CREATED:20250930T182954Z
LAST-MODIFIED:20250930T182954Z
UID:10005984-1790154000-1790157600@www.fccminneapolis.org
SUMMARY:Coffee Hour with Community
DESCRIPTION:https://us02web.zoom.us/j/81318971740 \nMEETING ID: 813 1897 1740
URL:https://www.fccminneapolis.org/event/coffee-hour-with-community-3-2/2026-09-23/
LOCATION:FCC Zoom Channel
CATEGORIES:FCC Meetings
END:VEVENT
BEGIN:VEVENT
DTSTART;TZID=America/Chicago:20260926T090000
DTEND;TZID=America/Chicago:20260926T100000
DTSTAMP:20260425T221706
CREATED:20250930T181740Z
LAST-MODIFIED:20250930T182917Z
UID:10006244-1790413200-1790416800@www.fccminneapolis.org
SUMMARY:The Breakfast Club
DESCRIPTION:https://us02web.zoom.us/j/81318971740 \nMEETING ID: 813 1897 1740
URL:https://www.fccminneapolis.org/event/coffee-hour-with-community-2-2/2026-09-26/
LOCATION:FCC LiveStream Channel
END:VEVENT
BEGIN:VEVENT
DTSTART;TZID=America/Chicago:20260926T100000
DTEND;TZID=America/Chicago:20260926T110000
DTSTAMP:20260425T221706
CREATED:20260226T165001Z
LAST-MODIFIED:20260226T165001Z
UID:10008059-1790416800-1790420400@www.fccminneapolis.org
SUMMARY:Grief Support Group
DESCRIPTION:
URL:https://www.fccminneapolis.org/event/grief-support-group-3-2/2026-09-26/
LOCATION:SHMC Lower Level
END:VEVENT
BEGIN:VEVENT
DTSTART;TZID=America/Chicago:20260927T090000
DTEND;TZID=America/Chicago:20260927T100000
DTSTAMP:20260425T221706
CREATED:20260303T172003Z
LAST-MODIFIED:20260303T172003Z
UID:10008644-1790499600-1790503200@www.fccminneapolis.org
SUMMARY:SpringHouse Youth Group Activities
DESCRIPTION:Please join Chelsea and other SpringHouse youth for games\, snacks\, fellowship\, and exploring faith in the youth room (behind the squiggle room). All youth ages 10-18 are invited to participate! If you have any questions\, please reach out to Chelsea at springhouseyouth@fccmpls.org.
URL:https://www.fccminneapolis.org/event/springhouse-youth-group-activities-2/2026-09-27/
LOCATION:SHMC Youth Room
END:VEVENT
BEGIN:VEVENT
DTSTART;TZID=America/Chicago:20260927T090000
DTEND;TZID=America/Chicago:20260927T123000
DTSTAMP:20260425T221706
CREATED:20260303T172214Z
LAST-MODIFIED:20260303T172244Z
UID:10008906-1790499600-1790512200@www.fccminneapolis.org
SUMMARY:SpringHouse Youth Room Open Hours
DESCRIPTION:
URL:https://www.fccminneapolis.org/event/springhouse-youth-room-open-hours-2/2026-09-27/
LOCATION:SHMC Youth Room
END:VEVENT
BEGIN:VEVENT
DTSTART;TZID=America/Chicago:20260927T100000
DTEND;TZID=America/Chicago:20260927T120000
DTSTAMP:20260425T221706
CREATED:20260303T171333Z
LAST-MODIFIED:20260303T171644Z
UID:10008382-1790503200-1790510400@www.fccminneapolis.org
SUMMARY:Sunday Worship Service (Online and In-Person)
DESCRIPTION:FCC LIVESTREAM CHANNEL:\nTo access our LiveStream channel: https://www.youtube.com/channel/UCPVqQ57szyEh8JCtF_8lhiw \nONLINE WORSHIP MATERIALS:\nUnder the sliding picture at the top of the website\, you will see a series of icons that have the various items you will need for Sunday worship. \nONLINE GIVING:\nThrough our FCC website\, you can access online giving and Sunday bulletin materials. In the upper right-hand corner of the site\, you will see a button that says “Give”. Click on this button to access the online giving portal. 💞
URL:https://www.fccminneapolis.org/event/sunday-worship-service/2026-09-27/
LOCATION:SHMC Garden Sanctuary (lower level)
END:VEVENT
BEGIN:VEVENT
DTSTART;TZID=America/Chicago:20260928T190000
DTEND;TZID=America/Chicago:20260928T193000
DTSTAMP:20260425T221706
CREATED:20250529T151052Z
LAST-MODIFIED:20251230T182345Z
UID:10007392-1790622000-1790623800@www.fccminneapolis.org
SUMMARY:Worship Committee
DESCRIPTION:
URL:https://www.fccminneapolis.org/event/worship-committee-3/2026-09-28/
LOCATION:FCC Zoom Channel
END:VEVENT
BEGIN:VEVENT
DTSTART;TZID=America/Chicago:20260930T090000
DTEND;TZID=America/Chicago:20260930T100000
DTSTAMP:20260425T221706
CREATED:20250930T182954Z
LAST-MODIFIED:20250930T182954Z
UID:10005985-1790758800-1790762400@www.fccminneapolis.org
SUMMARY:Coffee Hour with Community
DESCRIPTION:https://us02web.zoom.us/j/81318971740 \nMEETING ID: 813 1897 1740
URL:https://www.fccminneapolis.org/event/coffee-hour-with-community-3-2/2026-09-30/
LOCATION:FCC Zoom Channel
CATEGORIES:FCC Meetings
END:VEVENT
BEGIN:VEVENT
DTSTART;TZID=America/Chicago:20261003T090000
DTEND;TZID=America/Chicago:20261003T100000
DTSTAMP:20260425T221706
CREATED:20250930T181740Z
LAST-MODIFIED:20250930T182917Z
UID:10006245-1791018000-1791021600@www.fccminneapolis.org
SUMMARY:The Breakfast Club
DESCRIPTION:https://us02web.zoom.us/j/81318971740 \nMEETING ID: 813 1897 1740
URL:https://www.fccminneapolis.org/event/coffee-hour-with-community-2-2/2026-10-03/
LOCATION:FCC LiveStream Channel
END:VEVENT
BEGIN:VEVENT
DTSTART;TZID=America/Chicago:20261003T100000
DTEND;TZID=America/Chicago:20261003T110000
DTSTAMP:20260425T221706
CREATED:20260226T165001Z
LAST-MODIFIED:20260226T165001Z
UID:10008060-1791021600-1791025200@www.fccminneapolis.org
SUMMARY:Grief Support Group
DESCRIPTION:
URL:https://www.fccminneapolis.org/event/grief-support-group-3-2/2026-10-03/
LOCATION:SHMC Lower Level
END:VEVENT
BEGIN:VEVENT
DTSTART;TZID=America/Chicago:20261004T090000
DTEND;TZID=America/Chicago:20261004T100000
DTSTAMP:20260425T221706
CREATED:20260303T172003Z
LAST-MODIFIED:20260303T172003Z
UID:10008645-1791104400-1791108000@www.fccminneapolis.org
SUMMARY:SpringHouse Youth Group Activities
DESCRIPTION:Please join Chelsea and other SpringHouse youth for games\, snacks\, fellowship\, and exploring faith in the youth room (behind the squiggle room). All youth ages 10-18 are invited to participate! If you have any questions\, please reach out to Chelsea at springhouseyouth@fccmpls.org.
URL:https://www.fccminneapolis.org/event/springhouse-youth-group-activities-2/2026-10-04/
LOCATION:SHMC Youth Room
END:VEVENT
BEGIN:VEVENT
DTSTART;TZID=America/Chicago:20261004T090000
DTEND;TZID=America/Chicago:20261004T123000
DTSTAMP:20260425T221706
CREATED:20260303T172214Z
LAST-MODIFIED:20260303T172244Z
UID:10008907-1791104400-1791117000@www.fccminneapolis.org
SUMMARY:SpringHouse Youth Room Open Hours
DESCRIPTION:
URL:https://www.fccminneapolis.org/event/springhouse-youth-room-open-hours-2/2026-10-04/
LOCATION:SHMC Youth Room
END:VEVENT
BEGIN:VEVENT
DTSTART;TZID=America/Chicago:20261004T100000
DTEND;TZID=America/Chicago:20261004T120000
DTSTAMP:20260425T221706
CREATED:20260303T171333Z
LAST-MODIFIED:20260303T171644Z
UID:10008383-1791108000-1791115200@www.fccminneapolis.org
SUMMARY:Sunday Worship Service (Online and In-Person)
DESCRIPTION:FCC LIVESTREAM CHANNEL:\nTo access our LiveStream channel: https://www.youtube.com/channel/UCPVqQ57szyEh8JCtF_8lhiw \nONLINE WORSHIP MATERIALS:\nUnder the sliding picture at the top of the website\, you will see a series of icons that have the various items you will need for Sunday worship. \nONLINE GIVING:\nThrough our FCC website\, you can access online giving and Sunday bulletin materials. In the upper right-hand corner of the site\, you will see a button that says “Give”. Click on this button to access the online giving portal. 💞
URL:https://www.fccminneapolis.org/event/sunday-worship-service/2026-10-04/
LOCATION:SHMC Garden Sanctuary (lower level)
END:VEVENT
BEGIN:VEVENT
DTSTART;TZID=America/Chicago:20261005T190000
DTEND;TZID=America/Chicago:20261005T200000
DTSTAMP:20260425T221706
CREATED:20251230T182526Z
LAST-MODIFIED:20251230T183554Z
UID:10007703-1791226800-1791230400@www.fccminneapolis.org
SUMMARY:Women's Fellowship
DESCRIPTION:FCC’s Women’s Fellowship meets on Zoom the first Monday of each month. All members and friends of FCC are welcome to join us. Contact Kathy H. for a Zoom link.
URL:https://www.fccminneapolis.org/event/womens-fellowship-8-2-2-2-2-2/2026-10-05/
CATEGORIES:Fellowship,Women's Fellowship
END:VEVENT
BEGIN:VEVENT
DTSTART;TZID=America/Chicago:20261007T090000
DTEND;TZID=America/Chicago:20261007T100000
DTSTAMP:20260425T221706
CREATED:20250930T182954Z
LAST-MODIFIED:20250930T182954Z
UID:10005986-1791363600-1791367200@www.fccminneapolis.org
SUMMARY:Coffee Hour with Community
DESCRIPTION:https://us02web.zoom.us/j/81318971740 \nMEETING ID: 813 1897 1740
URL:https://www.fccminneapolis.org/event/coffee-hour-with-community-3-2/2026-10-07/
LOCATION:FCC Zoom Channel
CATEGORIES:FCC Meetings
END:VEVENT
BEGIN:VEVENT
DTSTART;TZID=America/Chicago:20261007T190000
DTEND;TZID=America/Chicago:20261007T200000
DTSTAMP:20260425T221706
CREATED:20251230T182814Z
LAST-MODIFIED:20260301T232414Z
UID:10007453-1791399600-1791403200@www.fccminneapolis.org
SUMMARY:Elders
DESCRIPTION:
URL:https://www.fccminneapolis.org/event/elders-3-2-2/2026-10-07/
LOCATION:FCC Zoom Channel
CATEGORIES:FCC Meetings
END:VEVENT
BEGIN:VEVENT
DTSTART;TZID=America/Chicago:20261010T090000
DTEND;TZID=America/Chicago:20261010T100000
DTSTAMP:20260425T221706
CREATED:20250930T181740Z
LAST-MODIFIED:20250930T182917Z
UID:10006246-1791622800-1791626400@www.fccminneapolis.org
SUMMARY:The Breakfast Club
DESCRIPTION:https://us02web.zoom.us/j/81318971740 \nMEETING ID: 813 1897 1740
URL:https://www.fccminneapolis.org/event/coffee-hour-with-community-2-2/2026-10-10/
LOCATION:FCC LiveStream Channel
END:VEVENT
BEGIN:VEVENT
DTSTART;TZID=America/Chicago:20261010T100000
DTEND;TZID=America/Chicago:20261010T110000
DTSTAMP:20260425T221706
CREATED:20260226T165001Z
LAST-MODIFIED:20260226T165001Z
UID:10008061-1791626400-1791630000@www.fccminneapolis.org
SUMMARY:Grief Support Group
DESCRIPTION:
URL:https://www.fccminneapolis.org/event/grief-support-group-3-2/2026-10-10/
LOCATION:SHMC Lower Level
END:VEVENT
BEGIN:VEVENT
DTSTART;TZID=America/Chicago:20261011T090000
DTEND;TZID=America/Chicago:20261011T100000
DTSTAMP:20260425T221706
CREATED:20260303T172003Z
LAST-MODIFIED:20260303T172003Z
UID:10008646-1791709200-1791712800@www.fccminneapolis.org
SUMMARY:SpringHouse Youth Group Activities
DESCRIPTION:Please join Chelsea and other SpringHouse youth for games\, snacks\, fellowship\, and exploring faith in the youth room (behind the squiggle room). All youth ages 10-18 are invited to participate! If you have any questions\, please reach out to Chelsea at springhouseyouth@fccmpls.org.
URL:https://www.fccminneapolis.org/event/springhouse-youth-group-activities-2/2026-10-11/
LOCATION:SHMC Youth Room
END:VEVENT
BEGIN:VEVENT
DTSTART;TZID=America/Chicago:20261011T090000
DTEND;TZID=America/Chicago:20261011T123000
DTSTAMP:20260425T221706
CREATED:20260303T172214Z
LAST-MODIFIED:20260303T172244Z
UID:10008908-1791709200-1791721800@www.fccminneapolis.org
SUMMARY:SpringHouse Youth Room Open Hours
DESCRIPTION:
URL:https://www.fccminneapolis.org/event/springhouse-youth-room-open-hours-2/2026-10-11/
LOCATION:SHMC Youth Room
END:VEVENT
BEGIN:VEVENT
DTSTART;TZID=America/Chicago:20261011T100000
DTEND;TZID=America/Chicago:20261011T120000
DTSTAMP:20260425T221706
CREATED:20260303T171333Z
LAST-MODIFIED:20260303T171644Z
UID:10008384-1791712800-1791720000@www.fccminneapolis.org
SUMMARY:Sunday Worship Service (Online and In-Person)
DESCRIPTION:FCC LIVESTREAM CHANNEL:\nTo access our LiveStream channel: https://www.youtube.com/channel/UCPVqQ57szyEh8JCtF_8lhiw \nONLINE WORSHIP MATERIALS:\nUnder the sliding picture at the top of the website\, you will see a series of icons that have the various items you will need for Sunday worship. \nONLINE GIVING:\nThrough our FCC website\, you can access online giving and Sunday bulletin materials. In the upper right-hand corner of the site\, you will see a button that says “Give”. Click on this button to access the online giving portal. 💞
URL:https://www.fccminneapolis.org/event/sunday-worship-service/2026-10-11/
LOCATION:SHMC Garden Sanctuary (lower level)
END:VEVENT
BEGIN:VEVENT
DTSTART;TZID=America/Chicago:20261012T170000
DTEND;TZID=America/Chicago:20261012T183000
DTSTAMP:20260425T221706
CREATED:20251230T183152Z
LAST-MODIFIED:20251230T183152Z
UID:10007583-1791824400-1791829800@www.fccminneapolis.org
SUMMARY:SHMC Building Committee
DESCRIPTION:
URL:https://www.fccminneapolis.org/event/shmc-building-committee-5-2/2026-10-12/
LOCATION:Online
CATEGORIES:SpringHouse Joint Ministries
END:VEVENT
BEGIN:VEVENT
DTSTART;TZID=America/Chicago:20261012T190000
DTEND;TZID=America/Chicago:20261012T210000
DTSTAMP:20260425T221706
CREATED:20251230T183339Z
LAST-MODIFIED:20251230T183441Z
UID:10007643-1791831600-1791838800@www.fccminneapolis.org
SUMMARY:SHMC Finance Committee
DESCRIPTION:
URL:https://www.fccminneapolis.org/event/shmc-finance-committee-4-2/2026-10-12/
LOCATION:Online
CATEGORIES:SpringHouse Joint Ministries
END:VEVENT
BEGIN:VEVENT
DTSTART;TZID=America/Chicago:20261013T120000
DTEND;TZID=America/Chicago:20261013T123000
DTSTAMP:20260425T221706
CREATED:20260203T201232Z
LAST-MODIFIED:20260203T201232Z
UID:10007971-1791892800-1791894600@www.fccminneapolis.org
SUMMARY:Holding Sacred Space for Justice - sponsored by Disciples Public Presence and the CCUM Anti-Racism Team
DESCRIPTION:https://us02web.zoom.us/j/87558728717?pwd=UxNJgbZtMneB6ULHZrZmSUa6m8Rbjn.1 \nMeeting ID: 875 5872 8717\nPasscode: 801581
URL:https://www.fccminneapolis.org/event/holding-sacred-space-for-justice-sponsored-by-disciples-public-presence-and-the-ccum-anti-racism-team/2026-10-13/
END:VEVENT
END:VCALENDAR