BEGIN:VCALENDAR
VERSION:2.0
PRODID:-//First Christian Church (Disciples of Christ) - ECPv6.15.13//NONSGML v1.0//EN
CALSCALE:GREGORIAN
METHOD:PUBLISH
X-ORIGINAL-URL:https://www.fccminneapolis.org
X-WR-CALDESC:Events for First Christian Church (Disciples of Christ)
REFRESH-INTERVAL;VALUE=DURATION:PT1H
X-Robots-Tag:noindex
X-PUBLISHED-TTL:PT1H
BEGIN:VTIMEZONE
TZID:America/Chicago
BEGIN:DAYLIGHT
TZOFFSETFROM:-0600
TZOFFSETTO:-0500
TZNAME:CDT
DTSTART:20250309T080000
END:DAYLIGHT
BEGIN:STANDARD
TZOFFSETFROM:-0500
TZOFFSETTO:-0600
TZNAME:CST
DTSTART:20251102T070000
END:STANDARD
BEGIN:DAYLIGHT
TZOFFSETFROM:-0600
TZOFFSETTO:-0500
TZNAME:CDT
DTSTART:20260308T080000
END:DAYLIGHT
BEGIN:STANDARD
TZOFFSETFROM:-0500
TZOFFSETTO:-0600
TZNAME:CST
DTSTART:20261101T070000
END:STANDARD
BEGIN:DAYLIGHT
TZOFFSETFROM:-0600
TZOFFSETTO:-0500
TZNAME:CDT
DTSTART:20270314T080000
END:DAYLIGHT
BEGIN:STANDARD
TZOFFSETFROM:-0500
TZOFFSETTO:-0600
TZNAME:CST
DTSTART:20271107T070000
END:STANDARD
END:VTIMEZONE
BEGIN:VEVENT
DTSTART;TZID=America/Chicago:20260810T170000
DTEND;TZID=America/Chicago:20260810T183000
DTSTAMP:20260425T172813
CREATED:20251230T183152Z
LAST-MODIFIED:20251230T183152Z
UID:10007581-1786381200-1786386600@www.fccminneapolis.org
SUMMARY:SHMC Building Committee
DESCRIPTION:
URL:https://www.fccminneapolis.org/event/shmc-building-committee-5-2/2026-08-10/
LOCATION:Online
CATEGORIES:SpringHouse Joint Ministries
END:VEVENT
BEGIN:VEVENT
DTSTART;TZID=America/Chicago:20260810T190000
DTEND;TZID=America/Chicago:20260810T210000
DTSTAMP:20260425T172813
CREATED:20251230T183339Z
LAST-MODIFIED:20251230T183441Z
UID:10007641-1786388400-1786395600@www.fccminneapolis.org
SUMMARY:SHMC Finance Committee
DESCRIPTION:
URL:https://www.fccminneapolis.org/event/shmc-finance-committee-4-2/2026-08-10/
LOCATION:Online
CATEGORIES:SpringHouse Joint Ministries
END:VEVENT
BEGIN:VEVENT
DTSTART;TZID=America/Chicago:20260811T120000
DTEND;TZID=America/Chicago:20260811T123000
DTSTAMP:20260425T172813
CREATED:20260203T201232Z
LAST-MODIFIED:20260203T201232Z
UID:10007969-1786449600-1786451400@www.fccminneapolis.org
SUMMARY:Holding Sacred Space for Justice - sponsored by Disciples Public Presence and the CCUM Anti-Racism Team
DESCRIPTION:https://us02web.zoom.us/j/87558728717?pwd=UxNJgbZtMneB6ULHZrZmSUa6m8Rbjn.1 \nMeeting ID: 875 5872 8717\nPasscode: 801581
URL:https://www.fccminneapolis.org/event/holding-sacred-space-for-justice-sponsored-by-disciples-public-presence-and-the-ccum-anti-racism-team/2026-08-11/
END:VEVENT
BEGIN:VEVENT
DTSTART;TZID=America/Chicago:20260811T133000
DTEND;TZID=America/Chicago:20260811T153000
DTSTAMP:20260425T172813
CREATED:20260301T232328Z
LAST-MODIFIED:20260301T232328Z
UID:10008295-1786455000-1786462200@www.fccminneapolis.org
SUMMARY:SHMC Clergy Meeting
DESCRIPTION:
URL:https://www.fccminneapolis.org/event/shmc-clergy-meeting-2-2-2/2026-08-11/
LOCATION:SHMC Esther Meeting Space (Lower Level)
END:VEVENT
BEGIN:VEVENT
DTSTART;TZID=America/Chicago:20260812T090000
DTEND;TZID=America/Chicago:20260812T100000
DTSTAMP:20260425T172813
CREATED:20250930T182954Z
LAST-MODIFIED:20250930T182954Z
UID:10005978-1786525200-1786528800@www.fccminneapolis.org
SUMMARY:Coffee Hour with Community
DESCRIPTION:https://us02web.zoom.us/j/81318971740 \nMEETING ID: 813 1897 1740
URL:https://www.fccminneapolis.org/event/coffee-hour-with-community-3-2/2026-08-12/
LOCATION:FCC Zoom Channel
CATEGORIES:FCC Meetings
END:VEVENT
BEGIN:VEVENT
DTSTART;TZID=America/Chicago:20260812T123000
DTEND;TZID=America/Chicago:20260812T133000
DTSTAMP:20260425T172813
CREATED:20260121T011547Z
LAST-MODIFIED:20260121T011547Z
UID:10007770-1786537800-1786541400@www.fccminneapolis.org
SUMMARY:Finance Committee
DESCRIPTION:
URL:https://www.fccminneapolis.org/event/finance-committee-4-2/2026-08-12/
LOCATION:FCC Zoom Channel
CATEGORIES:FCC Meetings
END:VEVENT
BEGIN:VEVENT
DTSTART;TZID=America/Chicago:20260815T090000
DTEND;TZID=America/Chicago:20260815T100000
DTSTAMP:20260425T172813
CREATED:20250930T181740Z
LAST-MODIFIED:20250930T182917Z
UID:10006238-1786784400-1786788000@www.fccminneapolis.org
SUMMARY:The Breakfast Club
DESCRIPTION:https://us02web.zoom.us/j/81318971740 \nMEETING ID: 813 1897 1740
URL:https://www.fccminneapolis.org/event/coffee-hour-with-community-2-2/2026-08-15/
LOCATION:FCC LiveStream Channel
END:VEVENT
BEGIN:VEVENT
DTSTART;TZID=America/Chicago:20260815T100000
DTEND;TZID=America/Chicago:20260815T110000
DTSTAMP:20260425T172813
CREATED:20260226T165001Z
LAST-MODIFIED:20260226T165001Z
UID:10008053-1786788000-1786791600@www.fccminneapolis.org
SUMMARY:Grief Support Group
DESCRIPTION:
URL:https://www.fccminneapolis.org/event/grief-support-group-3-2/2026-08-15/
LOCATION:SHMC Lower Level
END:VEVENT
BEGIN:VEVENT
DTSTART;TZID=America/Chicago:20260816T090000
DTEND;TZID=America/Chicago:20260816T100000
DTSTAMP:20260425T172813
CREATED:20260303T172003Z
LAST-MODIFIED:20260303T172003Z
UID:10008638-1786870800-1786874400@www.fccminneapolis.org
SUMMARY:SpringHouse Youth Group Activities
DESCRIPTION:Please join Chelsea and other SpringHouse youth for games\, snacks\, fellowship\, and exploring faith in the youth room (behind the squiggle room). All youth ages 10-18 are invited to participate! If you have any questions\, please reach out to Chelsea at springhouseyouth@fccmpls.org.
URL:https://www.fccminneapolis.org/event/springhouse-youth-group-activities-2/2026-08-16/
LOCATION:SHMC Youth Room
END:VEVENT
BEGIN:VEVENT
DTSTART;TZID=America/Chicago:20260816T090000
DTEND;TZID=America/Chicago:20260816T123000
DTSTAMP:20260425T172813
CREATED:20260303T172214Z
LAST-MODIFIED:20260303T172244Z
UID:10008900-1786870800-1786883400@www.fccminneapolis.org
SUMMARY:SpringHouse Youth Room Open Hours
DESCRIPTION:
URL:https://www.fccminneapolis.org/event/springhouse-youth-room-open-hours-2/2026-08-16/
LOCATION:SHMC Youth Room
END:VEVENT
BEGIN:VEVENT
DTSTART;TZID=America/Chicago:20260816T100000
DTEND;TZID=America/Chicago:20260816T120000
DTSTAMP:20260425T172813
CREATED:20260303T171333Z
LAST-MODIFIED:20260303T171644Z
UID:10008376-1786874400-1786881600@www.fccminneapolis.org
SUMMARY:Sunday Worship Service (Online and In-Person)
DESCRIPTION:FCC LIVESTREAM CHANNEL:\nTo access our LiveStream channel: https://www.youtube.com/channel/UCPVqQ57szyEh8JCtF_8lhiw \nONLINE WORSHIP MATERIALS:\nUnder the sliding picture at the top of the website\, you will see a series of icons that have the various items you will need for Sunday worship. \nONLINE GIVING:\nThrough our FCC website\, you can access online giving and Sunday bulletin materials. In the upper right-hand corner of the site\, you will see a button that says “Give”. Click on this button to access the online giving portal. 💞
URL:https://www.fccminneapolis.org/event/sunday-worship-service/2026-08-16/
LOCATION:SHMC Garden Sanctuary (lower level)
END:VEVENT
BEGIN:VEVENT
DTSTART;TZID=America/Chicago:20260816T120000
DTEND;TZID=America/Chicago:20260816T133000
DTSTAMP:20260425T172813
CREATED:20260208T211721Z
LAST-MODIFIED:20260208T211721Z
UID:10008024-1786881600-1786887000@www.fccminneapolis.org
SUMMARY:SpringHouse Board Meeting
DESCRIPTION:
URL:https://www.fccminneapolis.org/event/springhouse-board-meeting-4/2026-08-16/
CATEGORIES:SpringHouse Joint Ministries
END:VEVENT
BEGIN:VEVENT
DTSTART;TZID=America/Chicago:20260818T190000
DTEND;TZID=America/Chicago:20260818T210000
DTSTAMP:20260425T172813
CREATED:20260121T023138Z
LAST-MODIFIED:20260121T023138Z
UID:10007838-1787079600-1787086800@www.fccminneapolis.org
SUMMARY:FCC Cabinet Meeting
DESCRIPTION:
URL:https://www.fccminneapolis.org/event/fcc-cabinet-meeting/2026-08-18/
LOCATION:FCC Zoom Channel
CATEGORIES:FCC Meetings
END:VEVENT
BEGIN:VEVENT
DTSTART;TZID=America/Chicago:20260819T090000
DTEND;TZID=America/Chicago:20260819T100000
DTSTAMP:20260425T172813
CREATED:20250930T182954Z
LAST-MODIFIED:20250930T182954Z
UID:10005979-1787130000-1787133600@www.fccminneapolis.org
SUMMARY:Coffee Hour with Community
DESCRIPTION:https://us02web.zoom.us/j/81318971740 \nMEETING ID: 813 1897 1740
URL:https://www.fccminneapolis.org/event/coffee-hour-with-community-3-2/2026-08-19/
LOCATION:FCC Zoom Channel
CATEGORIES:FCC Meetings
END:VEVENT
BEGIN:VEVENT
DTSTART;TZID=America/Chicago:20260822T090000
DTEND;TZID=America/Chicago:20260822T100000
DTSTAMP:20260425T172813
CREATED:20250930T181740Z
LAST-MODIFIED:20250930T182917Z
UID:10006239-1787389200-1787392800@www.fccminneapolis.org
SUMMARY:The Breakfast Club
DESCRIPTION:https://us02web.zoom.us/j/81318971740 \nMEETING ID: 813 1897 1740
URL:https://www.fccminneapolis.org/event/coffee-hour-with-community-2-2/2026-08-22/
LOCATION:FCC LiveStream Channel
END:VEVENT
BEGIN:VEVENT
DTSTART;TZID=America/Chicago:20260822T100000
DTEND;TZID=America/Chicago:20260822T110000
DTSTAMP:20260425T172813
CREATED:20260226T165001Z
LAST-MODIFIED:20260226T165001Z
UID:10008054-1787392800-1787396400@www.fccminneapolis.org
SUMMARY:Grief Support Group
DESCRIPTION:
URL:https://www.fccminneapolis.org/event/grief-support-group-3-2/2026-08-22/
LOCATION:SHMC Lower Level
END:VEVENT
BEGIN:VEVENT
DTSTART;TZID=America/Chicago:20260823T090000
DTEND;TZID=America/Chicago:20260823T100000
DTSTAMP:20260425T172813
CREATED:20260303T172003Z
LAST-MODIFIED:20260303T172003Z
UID:10008639-1787475600-1787479200@www.fccminneapolis.org
SUMMARY:SpringHouse Youth Group Activities
DESCRIPTION:Please join Chelsea and other SpringHouse youth for games\, snacks\, fellowship\, and exploring faith in the youth room (behind the squiggle room). All youth ages 10-18 are invited to participate! If you have any questions\, please reach out to Chelsea at springhouseyouth@fccmpls.org.
URL:https://www.fccminneapolis.org/event/springhouse-youth-group-activities-2/2026-08-23/
LOCATION:SHMC Youth Room
END:VEVENT
BEGIN:VEVENT
DTSTART;TZID=America/Chicago:20260823T090000
DTEND;TZID=America/Chicago:20260823T123000
DTSTAMP:20260425T172813
CREATED:20260303T172214Z
LAST-MODIFIED:20260303T172244Z
UID:10008901-1787475600-1787488200@www.fccminneapolis.org
SUMMARY:SpringHouse Youth Room Open Hours
DESCRIPTION:
URL:https://www.fccminneapolis.org/event/springhouse-youth-room-open-hours-2/2026-08-23/
LOCATION:SHMC Youth Room
END:VEVENT
BEGIN:VEVENT
DTSTART;TZID=America/Chicago:20260823T100000
DTEND;TZID=America/Chicago:20260823T120000
DTSTAMP:20260425T172813
CREATED:20260303T171333Z
LAST-MODIFIED:20260303T171644Z
UID:10008377-1787479200-1787486400@www.fccminneapolis.org
SUMMARY:Sunday Worship Service (Online and In-Person)
DESCRIPTION:FCC LIVESTREAM CHANNEL:\nTo access our LiveStream channel: https://www.youtube.com/channel/UCPVqQ57szyEh8JCtF_8lhiw \nONLINE WORSHIP MATERIALS:\nUnder the sliding picture at the top of the website\, you will see a series of icons that have the various items you will need for Sunday worship. \nONLINE GIVING:\nThrough our FCC website\, you can access online giving and Sunday bulletin materials. In the upper right-hand corner of the site\, you will see a button that says “Give”. Click on this button to access the online giving portal. 💞
URL:https://www.fccminneapolis.org/event/sunday-worship-service/2026-08-23/
LOCATION:SHMC Garden Sanctuary (lower level)
END:VEVENT
BEGIN:VEVENT
DTSTART;TZID=America/Chicago:20260824T190000
DTEND;TZID=America/Chicago:20260824T193000
DTSTAMP:20260425T172813
CREATED:20250529T151052Z
LAST-MODIFIED:20251230T182345Z
UID:10007391-1787598000-1787599800@www.fccminneapolis.org
SUMMARY:Worship Committee
DESCRIPTION:
URL:https://www.fccminneapolis.org/event/worship-committee-3/2026-08-24/
LOCATION:FCC Zoom Channel
END:VEVENT
BEGIN:VEVENT
DTSTART;TZID=America/Chicago:20260825T130000
DTEND;TZID=America/Chicago:20260825T140000
DTSTAMP:20260425T172813
CREATED:20260127T201219Z
LAST-MODIFIED:20260127T201220Z
UID:10007851-1787662800-1787666400@www.fccminneapolis.org
SUMMARY:Mission & Outreach
DESCRIPTION:
URL:https://www.fccminneapolis.org/event/mission-outreach-4-2-2-2-2/2026-08-25/
LOCATION:FCC Zoom Channel
CATEGORIES:FCC Meetings,Mission & Outreach
END:VEVENT
BEGIN:VEVENT
DTSTART;TZID=America/Chicago:20260826T090000
DTEND;TZID=America/Chicago:20260826T100000
DTSTAMP:20260425T172813
CREATED:20250930T182954Z
LAST-MODIFIED:20250930T182954Z
UID:10005980-1787734800-1787738400@www.fccminneapolis.org
SUMMARY:Coffee Hour with Community
DESCRIPTION:https://us02web.zoom.us/j/81318971740 \nMEETING ID: 813 1897 1740
URL:https://www.fccminneapolis.org/event/coffee-hour-with-community-3-2/2026-08-26/
LOCATION:FCC Zoom Channel
CATEGORIES:FCC Meetings
END:VEVENT
BEGIN:VEVENT
DTSTART;TZID=America/Chicago:20260829T090000
DTEND;TZID=America/Chicago:20260829T100000
DTSTAMP:20260425T172813
CREATED:20250930T181740Z
LAST-MODIFIED:20250930T182917Z
UID:10006240-1787994000-1787997600@www.fccminneapolis.org
SUMMARY:The Breakfast Club
DESCRIPTION:https://us02web.zoom.us/j/81318971740 \nMEETING ID: 813 1897 1740
URL:https://www.fccminneapolis.org/event/coffee-hour-with-community-2-2/2026-08-29/
LOCATION:FCC LiveStream Channel
END:VEVENT
BEGIN:VEVENT
DTSTART;TZID=America/Chicago:20260829T100000
DTEND;TZID=America/Chicago:20260829T110000
DTSTAMP:20260425T172813
CREATED:20260226T165001Z
LAST-MODIFIED:20260226T165001Z
UID:10008055-1787997600-1788001200@www.fccminneapolis.org
SUMMARY:Grief Support Group
DESCRIPTION:
URL:https://www.fccminneapolis.org/event/grief-support-group-3-2/2026-08-29/
LOCATION:SHMC Lower Level
END:VEVENT
BEGIN:VEVENT
DTSTART;TZID=America/Chicago:20260830T090000
DTEND;TZID=America/Chicago:20260830T100000
DTSTAMP:20260425T172813
CREATED:20260303T172003Z
LAST-MODIFIED:20260303T172003Z
UID:10008640-1788080400-1788084000@www.fccminneapolis.org
SUMMARY:SpringHouse Youth Group Activities
DESCRIPTION:Please join Chelsea and other SpringHouse youth for games\, snacks\, fellowship\, and exploring faith in the youth room (behind the squiggle room). All youth ages 10-18 are invited to participate! If you have any questions\, please reach out to Chelsea at springhouseyouth@fccmpls.org.
URL:https://www.fccminneapolis.org/event/springhouse-youth-group-activities-2/2026-08-30/
LOCATION:SHMC Youth Room
END:VEVENT
BEGIN:VEVENT
DTSTART;TZID=America/Chicago:20260830T090000
DTEND;TZID=America/Chicago:20260830T123000
DTSTAMP:20260425T172813
CREATED:20260303T172214Z
LAST-MODIFIED:20260303T172244Z
UID:10008902-1788080400-1788093000@www.fccminneapolis.org
SUMMARY:SpringHouse Youth Room Open Hours
DESCRIPTION:
URL:https://www.fccminneapolis.org/event/springhouse-youth-room-open-hours-2/2026-08-30/
LOCATION:SHMC Youth Room
END:VEVENT
BEGIN:VEVENT
DTSTART;TZID=America/Chicago:20260830T100000
DTEND;TZID=America/Chicago:20260830T120000
DTSTAMP:20260425T172813
CREATED:20260303T171333Z
LAST-MODIFIED:20260303T171644Z
UID:10008378-1788084000-1788091200@www.fccminneapolis.org
SUMMARY:Sunday Worship Service (Online and In-Person)
DESCRIPTION:FCC LIVESTREAM CHANNEL:\nTo access our LiveStream channel: https://www.youtube.com/channel/UCPVqQ57szyEh8JCtF_8lhiw \nONLINE WORSHIP MATERIALS:\nUnder the sliding picture at the top of the website\, you will see a series of icons that have the various items you will need for Sunday worship. \nONLINE GIVING:\nThrough our FCC website\, you can access online giving and Sunday bulletin materials. In the upper right-hand corner of the site\, you will see a button that says “Give”. Click on this button to access the online giving portal. 💞
URL:https://www.fccminneapolis.org/event/sunday-worship-service/2026-08-30/
LOCATION:SHMC Garden Sanctuary (lower level)
END:VEVENT
BEGIN:VEVENT
DTSTART;TZID=America/Chicago:20260902T090000
DTEND;TZID=America/Chicago:20260902T100000
DTSTAMP:20260425T172813
CREATED:20250930T182954Z
LAST-MODIFIED:20250930T182954Z
UID:10005981-1788339600-1788343200@www.fccminneapolis.org
SUMMARY:Coffee Hour with Community
DESCRIPTION:https://us02web.zoom.us/j/81318971740 \nMEETING ID: 813 1897 1740
URL:https://www.fccminneapolis.org/event/coffee-hour-with-community-3-2/2026-09-02/
LOCATION:FCC Zoom Channel
CATEGORIES:FCC Meetings
END:VEVENT
BEGIN:VEVENT
DTSTART;TZID=America/Chicago:20260902T190000
DTEND;TZID=America/Chicago:20260902T200000
DTSTAMP:20260425T172813
CREATED:20251230T182814Z
LAST-MODIFIED:20260301T232414Z
UID:10007452-1788375600-1788379200@www.fccminneapolis.org
SUMMARY:Elders
DESCRIPTION:
URL:https://www.fccminneapolis.org/event/elders-3-2-2/2026-09-02/
LOCATION:FCC Zoom Channel
CATEGORIES:FCC Meetings
END:VEVENT
BEGIN:VEVENT
DTSTART;TZID=America/Chicago:20260905T090000
DTEND;TZID=America/Chicago:20260905T100000
DTSTAMP:20260425T172813
CREATED:20250930T181740Z
LAST-MODIFIED:20250930T182917Z
UID:10006241-1788598800-1788602400@www.fccminneapolis.org
SUMMARY:The Breakfast Club
DESCRIPTION:https://us02web.zoom.us/j/81318971740 \nMEETING ID: 813 1897 1740
URL:https://www.fccminneapolis.org/event/coffee-hour-with-community-2-2/2026-09-05/
LOCATION:FCC LiveStream Channel
END:VEVENT
END:VCALENDAR