BEGIN:VCALENDAR
VERSION:2.0
PRODID:-//First Christian Church (Disciples of Christ) - ECPv6.15.13//NONSGML v1.0//EN
CALSCALE:GREGORIAN
METHOD:PUBLISH
X-ORIGINAL-URL:https://www.fccminneapolis.org
X-WR-CALDESC:Events for First Christian Church (Disciples of Christ)
REFRESH-INTERVAL;VALUE=DURATION:PT1H
X-Robots-Tag:noindex
X-PUBLISHED-TTL:PT1H
BEGIN:VTIMEZONE
TZID:America/Chicago
BEGIN:DAYLIGHT
TZOFFSETFROM:-0600
TZOFFSETTO:-0500
TZNAME:CDT
DTSTART:20240310T080000
END:DAYLIGHT
BEGIN:STANDARD
TZOFFSETFROM:-0500
TZOFFSETTO:-0600
TZNAME:CST
DTSTART:20241103T070000
END:STANDARD
BEGIN:DAYLIGHT
TZOFFSETFROM:-0600
TZOFFSETTO:-0500
TZNAME:CDT
DTSTART:20250309T080000
END:DAYLIGHT
BEGIN:STANDARD
TZOFFSETFROM:-0500
TZOFFSETTO:-0600
TZNAME:CST
DTSTART:20251102T070000
END:STANDARD
BEGIN:DAYLIGHT
TZOFFSETFROM:-0600
TZOFFSETTO:-0500
TZNAME:CDT
DTSTART:20260308T080000
END:DAYLIGHT
BEGIN:STANDARD
TZOFFSETFROM:-0500
TZOFFSETTO:-0600
TZNAME:CST
DTSTART:20261101T070000
END:STANDARD
END:VTIMEZONE
BEGIN:VEVENT
DTSTART;TZID=America/Chicago:20251027T190000
DTEND;TZID=America/Chicago:20251027T193000
DTSTAMP:20260425T222433
CREATED:20250529T151052Z
LAST-MODIFIED:20251230T182345Z
UID:10005816-1761591600-1761593400@www.fccminneapolis.org
SUMMARY:Worship Committee
DESCRIPTION:
URL:https://www.fccminneapolis.org/event/worship-committee-3/2025-10-27/
LOCATION:FCC Zoom Channel
END:VEVENT
BEGIN:VEVENT
DTSTART;TZID=America/Chicago:20251029T090000
DTEND;TZID=America/Chicago:20251029T100000
DTSTAMP:20260425T222433
CREATED:20250930T182954Z
LAST-MODIFIED:20250930T182954Z
UID:10005937-1761728400-1761732000@www.fccminneapolis.org
SUMMARY:Coffee Hour with Community
DESCRIPTION:https://us02web.zoom.us/j/81318971740 \nMEETING ID: 813 1897 1740
URL:https://www.fccminneapolis.org/event/coffee-hour-with-community-3-2/2025-10-29/
LOCATION:FCC Zoom Channel
CATEGORIES:FCC Meetings
END:VEVENT
BEGIN:VEVENT
DTSTART;TZID=America/Chicago:20251029T183000
DTEND;TZID=America/Chicago:20251029T191500
DTSTAMP:20260425T222433
CREATED:20251014T164438Z
LAST-MODIFIED:20251014T164438Z
UID:10006756-1761762600-1761765300@www.fccminneapolis.org
SUMMARY:Pray Without Ceasing
DESCRIPTION:Join us on Zoom: https://us02web.zoom.us/j/85258655766?pwd=HGeYxzEU4bggJjSDkpudrsZ0Lw9dk4.1
URL:https://www.fccminneapolis.org/event/pray-without-ceasing-2/2025-10-29/
LOCATION:FCC Zoom Channel
END:VEVENT
BEGIN:VEVENT
DTSTART;TZID=America/Chicago:20251030T170000
DTEND;TZID=America/Chicago:20251030T180000
DTSTAMP:20260425T222433
CREATED:20250930T183401Z
LAST-MODIFIED:20250930T183401Z
UID:10005569-1761843600-1761847200@www.fccminneapolis.org
SUMMARY:Happy Hour With Community
DESCRIPTION:https://us02web.zoom.us/j/86907354362 \nMEETING ID: 869 0735 4362
URL:https://www.fccminneapolis.org/event/happy-hour-with-the-pastors-20-2-2-2/2025-10-30/
LOCATION:FCC Zoom Channel
CATEGORIES:Fellowship,Online Community Gatherings
END:VEVENT
BEGIN:VEVENT
DTSTART;TZID=America/Chicago:20251101T100000
DTEND;TZID=America/Chicago:20251101T113000
DTSTAMP:20260425T222433
CREATED:20250501T182635Z
LAST-MODIFIED:20250501T182636Z
UID:10005293-1761991200-1761996600@www.fccminneapolis.org
SUMMARY:Grief Support Group
DESCRIPTION:Grieving?\nShow up any Saturday at 10 am to 11:30 am to hear a speaker on various topics of grief and loss\, and then break into small discussion groups to talk to others experiencing a similar loss. \nNew attendees are always welcome!  We ask that you arrive by 9:45. \nUse our Contact Form or call 612-317-3454 for more information. \n\nThe Group currently meets at THE BASILICA OF ST. MARY\, at 1600 Hennepin Avenue\, Minneapolis\, 55403
URL:https://www.fccminneapolis.org/event/grief-support-group-2-2-2/2025-11-01/
LOCATION:St. Mark’s Episcopal Cathedral\, 519 Oak Grove St\, Minneapolis\, MN\, 55403\, United States
CATEGORIES:Ecumenical,Grief Support
END:VEVENT
BEGIN:VEVENT
DTSTART;TZID=America/Chicago:20251102T090000
DTEND;TZID=America/Chicago:20251102T123000
DTSTAMP:20260425T222433
CREATED:20230408T120318Z
LAST-MODIFIED:20250125T161636Z
UID:10004895-1762074000-1762086600@www.fccminneapolis.org
SUMMARY:SpringHouse Youth Room Open Hours
DESCRIPTION:
URL:https://www.fccminneapolis.org/event/springhouse-youth-room-open-hours/2025-11-02/
LOCATION:SHMC Youth Room
CATEGORIES:SpringHouse Joint Ministries,Youth
END:VEVENT
BEGIN:VEVENT
DTSTART;TZID=America/Chicago:20251102T100000
DTEND;TZID=America/Chicago:20251102T103000
DTSTAMP:20260425T222433
CREATED:20231130T201418Z
LAST-MODIFIED:20241224T200746Z
UID:10004947-1762077600-1762079400@www.fccminneapolis.org
SUMMARY:SpringHouse Youth Group Activities
DESCRIPTION:Youth group is starting up again! Please join Chelsea and other SpringHouse youth for games\, snacks\, fellowship\, and exploring faith starting THIS Sunday\, December 3rd from 10:00am-10:25am in the youth room (behind the squiggle room). All youth ages 10-18 are invited to participate! If you have any questions\, please reach out to Chelsea at springhouseyouth@fccmpls.org.
URL:https://www.fccminneapolis.org/event/springhouse-youth-group-activities/2025-11-02/
LOCATION:SHMC Youth Room
END:VEVENT
BEGIN:VEVENT
DTSTART;TZID=America/Chicago:20251102T103000
DTEND;TZID=America/Chicago:20251102T120000
DTSTAMP:20260425T222433
CREATED:20250603T113427Z
LAST-MODIFIED:20250603T113434Z
UID:10004997-1762079400-1762084800@www.fccminneapolis.org
SUMMARY:Sunday Worship (Online and In-Person)
DESCRIPTION:Click on the link on the right to attend online.
URL:https://www.fccminneapolis.org/event/sunday-worship-online-and-in-person-4-2/2025-11-02/
LOCATION:FCC North Sanctuary & LiveStream Channel
END:VEVENT
BEGIN:VEVENT
DTSTART;TZID=America/Chicago:20251102T113000
DTEND;TZID=America/Chicago:20251102T130000
DTSTAMP:20260425T222433
CREATED:20251014T165053Z
LAST-MODIFIED:20251014T174428Z
UID:10007015-1762083000-1762088400@www.fccminneapolis.org
SUMMARY:Installation of Rev. T. Michael Rock at Lyndale UCC & SpringHouse
DESCRIPTION:Catered lunch noon\, Gathering Space\nInstallation Service\, 1 PM\, Gathering Space
URL:https://www.fccminneapolis.org/event/installation-of-rev-t-michael-rock-at-lyndale-ucc-springhouse/
LOCATION:SHMC Gathering Space & Kitchen (Upper Level)
END:VEVENT
BEGIN:VEVENT
DTSTART;TZID=America/Chicago:20251102T160000
DTEND;TZID=America/Chicago:20251102T170000
DTSTAMP:20260425T222433
CREATED:20250930T181347Z
LAST-MODIFIED:20250930T181347Z
UID:10006467-1762099200-1762102800@www.fccminneapolis.org
SUMMARY:SHMC Book Study: American Idolatry by Andrew Whitehead
DESCRIPTION:https://us02web.zoom.us/j/86972670709
URL:https://www.fccminneapolis.org/event/shmc-book-study-american-idolatry-by-andrew-whitehead/2025-11-02/
END:VEVENT
BEGIN:VEVENT
DTSTART;TZID=America/Chicago:20251103T190000
DTEND;TZID=America/Chicago:20251103T200000
DTSTAMP:20260425T222433
CREATED:20250701T154954Z
LAST-MODIFIED:20250701T154956Z
UID:10005829-1762196400-1762200000@www.fccminneapolis.org
SUMMARY:Women's Fellowship
DESCRIPTION:FCC’s Women’s Fellowship meets on Zoom the first Monday of each month. The group is currently reading and discussing the book Learning to Walk in the Dark by Barbara Brown Taylor. The fall meeting dates are September 9 (later due to Labor Day)\, October 7\, November 4\, and December 2. All members and friends of FCC are welcome to join us. Contact Kathy H. for a Zoom link.
URL:https://www.fccminneapolis.org/event/womens-fellowship-8-2-2-2-2/2025-11-03/
CATEGORIES:Fellowship,Women's Fellowship
END:VEVENT
BEGIN:VEVENT
DTSTART;TZID=America/Chicago:20251104T143000
DTEND;TZID=America/Chicago:20251104T153000
DTSTAMP:20260425T222433
CREATED:20251014T162023Z
LAST-MODIFIED:20251014T162024Z
UID:10005248-1762266600-1762270200@www.fccminneapolis.org
SUMMARY:Mission & Outreach
DESCRIPTION:
URL:https://www.fccminneapolis.org/event/mission-outreach-4-2-2/2025-11-04/
LOCATION:FCC Zoom Channel
CATEGORIES:FCC Meetings,Mission & Outreach
END:VEVENT
BEGIN:VEVENT
DTSTART;TZID=America/Chicago:20251105T083000
DTEND;TZID=America/Chicago:20251105T141500
DTSTAMP:20260425T222433
CREATED:20251014T171812Z
LAST-MODIFIED:20251014T171847Z
UID:10007016-1762331400-1762352100@www.fccminneapolis.org
SUMMARY:Q-Quest
DESCRIPTION:Click here for more details: https://www.mnschooloutreach.org/q-quest
URL:https://www.fccminneapolis.org/event/q-quest/2025-11-05/
END:VEVENT
BEGIN:VEVENT
DTSTART;TZID=America/Chicago:20251105T090000
DTEND;TZID=America/Chicago:20251105T100000
DTSTAMP:20260425T222433
CREATED:20250930T182954Z
LAST-MODIFIED:20250930T182954Z
UID:10005938-1762333200-1762336800@www.fccminneapolis.org
SUMMARY:Coffee Hour with Community
DESCRIPTION:https://us02web.zoom.us/j/81318971740 \nMEETING ID: 813 1897 1740
URL:https://www.fccminneapolis.org/event/coffee-hour-with-community-3-2/2025-11-05/
LOCATION:FCC Zoom Channel
CATEGORIES:FCC Meetings
END:VEVENT
BEGIN:VEVENT
DTSTART;TZID=America/Chicago:20251105T183000
DTEND;TZID=America/Chicago:20251105T191500
DTSTAMP:20260425T222433
CREATED:20251014T164438Z
LAST-MODIFIED:20251014T164438Z
UID:10006757-1762367400-1762370100@www.fccminneapolis.org
SUMMARY:Pray Without Ceasing
DESCRIPTION:Join us on Zoom: https://us02web.zoom.us/j/85258655766?pwd=HGeYxzEU4bggJjSDkpudrsZ0Lw9dk4.1
URL:https://www.fccminneapolis.org/event/pray-without-ceasing-2/2025-11-05/
LOCATION:FCC Zoom Channel
END:VEVENT
BEGIN:VEVENT
DTSTART;TZID=America/Chicago:20251105T190000
DTEND;TZID=America/Chicago:20251105T200000
DTSTAMP:20260425T222433
CREATED:20250225T171232Z
LAST-MODIFIED:20250225T171958Z
UID:10005236-1762369200-1762372800@www.fccminneapolis.org
SUMMARY:Elders
DESCRIPTION:
URL:https://www.fccminneapolis.org/event/elders-3-2/2025-11-05/
LOCATION:FCC Zoom Channel
CATEGORIES:FCC Meetings
END:VEVENT
BEGIN:VEVENT
DTSTART;TZID=America/Chicago:20251106T083000
DTEND;TZID=America/Chicago:20251106T141500
DTSTAMP:20260425T222433
CREATED:20251014T171812Z
LAST-MODIFIED:20251014T171847Z
UID:10007017-1762417800-1762438500@www.fccminneapolis.org
SUMMARY:Q-Quest
DESCRIPTION:Click here for more details: https://www.mnschooloutreach.org/q-quest
URL:https://www.fccminneapolis.org/event/q-quest/2025-11-06/
END:VEVENT
BEGIN:VEVENT
DTSTART;TZID=America/Chicago:20251106T133000
DTEND;TZID=America/Chicago:20251106T153000
DTSTAMP:20260425T222433
CREATED:20250708T162601Z
LAST-MODIFIED:20250708T162601Z
UID:10005836-1762435800-1762443000@www.fccminneapolis.org
SUMMARY:SHMC Clergy Meeting
DESCRIPTION:
URL:https://www.fccminneapolis.org/event/shmc-clergy-meeting/2025-11-06/
LOCATION:SHMC Esther Meeting Space (Lower Level)
END:VEVENT
BEGIN:VEVENT
DTSTART;TZID=America/Chicago:20251106T170000
DTEND;TZID=America/Chicago:20251106T180000
DTSTAMP:20260425T222433
CREATED:20250930T183401Z
LAST-MODIFIED:20250930T183401Z
UID:10005570-1762448400-1762452000@www.fccminneapolis.org
SUMMARY:Happy Hour With Community
DESCRIPTION:https://us02web.zoom.us/j/86907354362 \nMEETING ID: 869 0735 4362
URL:https://www.fccminneapolis.org/event/happy-hour-with-the-pastors-20-2-2-2/2025-11-06/
LOCATION:FCC Zoom Channel
CATEGORIES:Fellowship,Online Community Gatherings
END:VEVENT
BEGIN:VEVENT
DTSTART;TZID=America/Chicago:20251107T080000
DTEND;TZID=America/Chicago:20251107T084500
DTSTAMP:20260425T222433
CREATED:20251014T164306Z
LAST-MODIFIED:20251014T164306Z
UID:10006496-1762502400-1762505100@www.fccminneapolis.org
SUMMARY:Pray Without Ceasing
DESCRIPTION:Join us on Zoom: https://us02web.zoom.us/j/85258655766?pwd=HGeYxzEU4bggJjSDkpudrsZ0Lw9dk4.1
URL:https://www.fccminneapolis.org/event/pray-without-ceasing/2025-11-07/
LOCATION:FCC Zoom Channel
END:VEVENT
BEGIN:VEVENT
DTSTART;TZID=America/Chicago:20251108T090000
DTEND;TZID=America/Chicago:20251108T100000
DTSTAMP:20260425T222433
CREATED:20250930T181740Z
LAST-MODIFIED:20250930T182917Z
UID:10006198-1762592400-1762596000@www.fccminneapolis.org
SUMMARY:The Breakfast Club
DESCRIPTION:https://us02web.zoom.us/j/81318971740 \nMEETING ID: 813 1897 1740
URL:https://www.fccminneapolis.org/event/coffee-hour-with-community-2-2/2025-11-08/
LOCATION:FCC LiveStream Channel
END:VEVENT
BEGIN:VEVENT
DTSTART;TZID=America/Chicago:20251108T100000
DTEND;TZID=America/Chicago:20251108T113000
DTSTAMP:20260425T222433
CREATED:20250501T182635Z
LAST-MODIFIED:20250501T182636Z
UID:10005294-1762596000-1762601400@www.fccminneapolis.org
SUMMARY:Grief Support Group
DESCRIPTION:Grieving?\nShow up any Saturday at 10 am to 11:30 am to hear a speaker on various topics of grief and loss\, and then break into small discussion groups to talk to others experiencing a similar loss. \nNew attendees are always welcome!  We ask that you arrive by 9:45. \nUse our Contact Form or call 612-317-3454 for more information. \n\nThe Group currently meets at THE BASILICA OF ST. MARY\, at 1600 Hennepin Avenue\, Minneapolis\, 55403
URL:https://www.fccminneapolis.org/event/grief-support-group-2-2-2/2025-11-08/
LOCATION:St. Mark’s Episcopal Cathedral\, 519 Oak Grove St\, Minneapolis\, MN\, 55403\, United States
CATEGORIES:Ecumenical,Grief Support
END:VEVENT
BEGIN:VEVENT
DTSTART;TZID=America/Chicago:20251109T090000
DTEND;TZID=America/Chicago:20251109T123000
DTSTAMP:20260425T222433
CREATED:20230408T120318Z
LAST-MODIFIED:20250125T161636Z
UID:10004896-1762678800-1762691400@www.fccminneapolis.org
SUMMARY:SpringHouse Youth Room Open Hours
DESCRIPTION:
URL:https://www.fccminneapolis.org/event/springhouse-youth-room-open-hours/2025-11-09/
LOCATION:SHMC Youth Room
CATEGORIES:SpringHouse Joint Ministries,Youth
END:VEVENT
BEGIN:VEVENT
DTSTART;TZID=America/Chicago:20251109T100000
DTEND;TZID=America/Chicago:20251109T103000
DTSTAMP:20260425T222433
CREATED:20231130T201418Z
LAST-MODIFIED:20241224T200746Z
UID:10004948-1762682400-1762684200@www.fccminneapolis.org
SUMMARY:SpringHouse Youth Group Activities
DESCRIPTION:Youth group is starting up again! Please join Chelsea and other SpringHouse youth for games\, snacks\, fellowship\, and exploring faith starting THIS Sunday\, December 3rd from 10:00am-10:25am in the youth room (behind the squiggle room). All youth ages 10-18 are invited to participate! If you have any questions\, please reach out to Chelsea at springhouseyouth@fccmpls.org.
URL:https://www.fccminneapolis.org/event/springhouse-youth-group-activities/2025-11-09/
LOCATION:SHMC Youth Room
END:VEVENT
BEGIN:VEVENT
DTSTART;TZID=America/Chicago:20251109T103000
DTEND;TZID=America/Chicago:20251109T120000
DTSTAMP:20260425T222433
CREATED:20250603T113427Z
LAST-MODIFIED:20250603T113434Z
UID:10004998-1762684200-1762689600@www.fccminneapolis.org
SUMMARY:Sunday Worship (Online and In-Person)
DESCRIPTION:Click on the link on the right to attend online.
URL:https://www.fccminneapolis.org/event/sunday-worship-online-and-in-person-4-2/2025-11-09/
LOCATION:FCC North Sanctuary & LiveStream Channel
END:VEVENT
BEGIN:VEVENT
DTSTART;TZID=America/Chicago:20251109T160000
DTEND;TZID=America/Chicago:20251109T170000
DTSTAMP:20260425T222433
CREATED:20250930T181347Z
LAST-MODIFIED:20250930T181347Z
UID:10006468-1762704000-1762707600@www.fccminneapolis.org
SUMMARY:SHMC Book Study: American Idolatry by Andrew Whitehead
DESCRIPTION:https://us02web.zoom.us/j/86972670709
URL:https://www.fccminneapolis.org/event/shmc-book-study-american-idolatry-by-andrew-whitehead/2025-11-09/
END:VEVENT
BEGIN:VEVENT
DTSTART;TZID=America/Chicago:20251110T170000
DTEND;TZID=America/Chicago:20251110T183000
DTSTAMP:20260425T222433
CREATED:20251230T183152Z
LAST-MODIFIED:20251230T183152Z
UID:10005312-1762794000-1762799400@www.fccminneapolis.org
SUMMARY:SHMC Building Committee
DESCRIPTION:
URL:https://www.fccminneapolis.org/event/shmc-building-committee-5-2/2025-11-10/
LOCATION:Online
CATEGORIES:SpringHouse Joint Ministries
END:VEVENT
BEGIN:VEVENT
DTSTART;TZID=America/Chicago:20251110T190000
DTEND;TZID=America/Chicago:20251110T210000
DTSTAMP:20260425T222433
CREATED:20221215T222157Z
LAST-MODIFIED:20241224T201559Z
UID:10005324-1762801200-1762808400@www.fccminneapolis.org
SUMMARY:SHMC Finance Committee
DESCRIPTION:
URL:https://www.fccminneapolis.org/event/shmc-finance-committee-4/2025-11-10/
LOCATION:Online
CATEGORIES:SpringHouse Joint Ministries
END:VEVENT
BEGIN:VEVENT
DTSTART;TZID=America/Chicago:20251112T123000
DTEND;TZID=America/Chicago:20251112T133000
DTSTAMP:20260425T222433
CREATED:20250110T170033Z
LAST-MODIFIED:20251230T183030Z
UID:10005435-1762950600-1762954200@www.fccminneapolis.org
SUMMARY:Finance Committee
DESCRIPTION:
URL:https://www.fccminneapolis.org/event/finance-committee-4/2025-11-12/
LOCATION:FCC Zoom Channel
CATEGORIES:FCC Meetings
END:VEVENT
BEGIN:VEVENT
DTSTART;TZID=America/Chicago:20251112T183000
DTEND;TZID=America/Chicago:20251112T191500
DTSTAMP:20260425T222433
CREATED:20251014T164438Z
LAST-MODIFIED:20251014T164438Z
UID:10006758-1762972200-1762974900@www.fccminneapolis.org
SUMMARY:Pray Without Ceasing
DESCRIPTION:Join us on Zoom: https://us02web.zoom.us/j/85258655766?pwd=HGeYxzEU4bggJjSDkpudrsZ0Lw9dk4.1
URL:https://www.fccminneapolis.org/event/pray-without-ceasing-2/2025-11-12/
LOCATION:FCC Zoom Channel
END:VEVENT
END:VCALENDAR