BEGIN:VCALENDAR
VERSION:2.0
PRODID:-//First Christian Church (Disciples of Christ) - ECPv6.15.13//NONSGML v1.0//EN
CALSCALE:GREGORIAN
METHOD:PUBLISH
X-ORIGINAL-URL:https://www.fccminneapolis.org
X-WR-CALDESC:Events for First Christian Church (Disciples of Christ)
REFRESH-INTERVAL;VALUE=DURATION:PT1H
X-Robots-Tag:noindex
X-PUBLISHED-TTL:PT1H
BEGIN:VTIMEZONE
TZID:America/Chicago
BEGIN:DAYLIGHT
TZOFFSETFROM:-0600
TZOFFSETTO:-0500
TZNAME:CDT
DTSTART:20240310T080000
END:DAYLIGHT
BEGIN:STANDARD
TZOFFSETFROM:-0500
TZOFFSETTO:-0600
TZNAME:CST
DTSTART:20241103T070000
END:STANDARD
BEGIN:DAYLIGHT
TZOFFSETFROM:-0600
TZOFFSETTO:-0500
TZNAME:CDT
DTSTART:20250309T080000
END:DAYLIGHT
BEGIN:STANDARD
TZOFFSETFROM:-0500
TZOFFSETTO:-0600
TZNAME:CST
DTSTART:20251102T070000
END:STANDARD
BEGIN:DAYLIGHT
TZOFFSETFROM:-0600
TZOFFSETTO:-0500
TZNAME:CDT
DTSTART:20260308T080000
END:DAYLIGHT
BEGIN:STANDARD
TZOFFSETFROM:-0500
TZOFFSETTO:-0600
TZNAME:CST
DTSTART:20261101T070000
END:STANDARD
END:VTIMEZONE
BEGIN:VEVENT
DTSTART;TZID=America/Chicago:20250831T103000
DTEND;TZID=America/Chicago:20250831T120000
DTSTAMP:20260425T205453
CREATED:20250603T113427Z
LAST-MODIFIED:20250603T113434Z
UID:10004988-1756636200-1756641600@www.fccminneapolis.org
SUMMARY:Sunday Worship (Online and In-Person)
DESCRIPTION:Click on the link on the right to attend online.
URL:https://www.fccminneapolis.org/event/sunday-worship-online-and-in-person-4-2/2025-08-31/
LOCATION:FCC North Sanctuary & LiveStream Channel
END:VEVENT
BEGIN:VEVENT
DTSTART;TZID=America/Chicago:20250831T100000
DTEND;TZID=America/Chicago:20250831T103000
DTSTAMP:20260425T205453
CREATED:20231130T201418Z
LAST-MODIFIED:20241224T200746Z
UID:10004938-1756634400-1756636200@www.fccminneapolis.org
SUMMARY:SpringHouse Youth Group Activities
DESCRIPTION:Youth group is starting up again! Please join Chelsea and other SpringHouse youth for games\, snacks\, fellowship\, and exploring faith starting THIS Sunday\, December 3rd from 10:00am-10:25am in the youth room (behind the squiggle room). All youth ages 10-18 are invited to participate! If you have any questions\, please reach out to Chelsea at springhouseyouth@fccmpls.org.
URL:https://www.fccminneapolis.org/event/springhouse-youth-group-activities/2025-08-31/
LOCATION:SHMC Youth Room
END:VEVENT
BEGIN:VEVENT
DTSTART;TZID=America/Chicago:20250831T090000
DTEND;TZID=America/Chicago:20250831T123000
DTSTAMP:20260425T205453
CREATED:20230408T120318Z
LAST-MODIFIED:20250125T161636Z
UID:10004886-1756630800-1756643400@www.fccminneapolis.org
SUMMARY:SpringHouse Youth Room Open Hours
DESCRIPTION:
URL:https://www.fccminneapolis.org/event/springhouse-youth-room-open-hours/2025-08-31/
LOCATION:SHMC Youth Room
CATEGORIES:SpringHouse Joint Ministries,Youth
END:VEVENT
BEGIN:VEVENT
DTSTART;TZID=America/Chicago:20250830T100000
DTEND;TZID=America/Chicago:20250830T113000
DTSTAMP:20260425T205453
CREATED:20250501T182635Z
LAST-MODIFIED:20250501T182636Z
UID:10005284-1756548000-1756553400@www.fccminneapolis.org
SUMMARY:Grief Support Group
DESCRIPTION:Grieving?\nShow up any Saturday at 10 am to 11:30 am to hear a speaker on various topics of grief and loss\, and then break into small discussion groups to talk to others experiencing a similar loss. \nNew attendees are always welcome!  We ask that you arrive by 9:45. \nUse our Contact Form or call 612-317-3454 for more information. \n\nThe Group currently meets at THE BASILICA OF ST. MARY\, at 1600 Hennepin Avenue\, Minneapolis\, 55403
URL:https://www.fccminneapolis.org/event/grief-support-group-2-2-2/2025-08-30/
LOCATION:St. Mark’s Episcopal Cathedral\, 519 Oak Grove St\, Minneapolis\, MN\, 55403\, United States
CATEGORIES:Ecumenical,Grief Support
END:VEVENT
BEGIN:VEVENT
DTSTART;TZID=America/Chicago:20250828T170000
DTEND;TZID=America/Chicago:20250828T180000
DTSTAMP:20260425T205453
CREATED:20250522T154356Z
LAST-MODIFIED:20250522T154358Z
UID:10005560-1756400400-1756404000@www.fccminneapolis.org
SUMMARY:Happy Hour With Community
DESCRIPTION:https://us02web.zoom.us/j/87366209539 \nMeeting ID: 873 6620 9539
URL:https://www.fccminneapolis.org/event/happy-hour-with-the-pastors-20-2-2/2025-08-28/
LOCATION:FCC Zoom Channel
CATEGORIES:Fellowship,Online Community Gatherings
END:VEVENT
BEGIN:VEVENT
DTSTART;TZID=America/Chicago:20250827T090000
DTEND;TZID=America/Chicago:20250827T100000
DTSTAMP:20260425T205453
CREATED:20250821T163905Z
LAST-MODIFIED:20250821T163905Z
UID:10005928-1756285200-1756288800@www.fccminneapolis.org
SUMMARY:Coffee Hour with Community
DESCRIPTION:
URL:https://www.fccminneapolis.org/event/coffee-hour-with-community/2025-08-27/
LOCATION:FCC Zoom Channel
CATEGORIES:FCC Meetings
END:VEVENT
BEGIN:VEVENT
DTSTART;TZID=America/Chicago:20250826T170000
DTEND;TZID=America/Chicago:20250826T180000
DTSTAMP:20260425T205453
CREATED:20250522T153607Z
LAST-MODIFIED:20250617T135051Z
UID:10005085-1756227600-1756231200@www.fccminneapolis.org
SUMMARY:Happy Hour With Community
DESCRIPTION:https://us02web.zoom.us/j/87366209539 \nMeeting ID: 873 6620 9539
URL:https://www.fccminneapolis.org/event/happy-hour-with-the-pastors-17-2-3-3-2-2-2-2-3-6-2-2-2-2-2-2-2-2-2-2-2-2-2-2/2025-08-26/
LOCATION:FCC Zoom Channel
CATEGORIES:Fellowship,Online Community Gatherings
END:VEVENT
BEGIN:VEVENT
DTSTART;TZID=America/Chicago:20250825T190000
DTEND;TZID=America/Chicago:20250825T193000
DTSTAMP:20260425T205453
CREATED:20250529T151052Z
LAST-MODIFIED:20251230T182345Z
UID:10005814-1756148400-1756150200@www.fccminneapolis.org
SUMMARY:Worship Committee
DESCRIPTION:
URL:https://www.fccminneapolis.org/event/worship-committee-3/2025-08-25/
LOCATION:FCC Zoom Channel
END:VEVENT
BEGIN:VEVENT
DTSTART;TZID=America/Chicago:20250824T103000
DTEND;TZID=America/Chicago:20250824T120000
DTSTAMP:20260425T205453
CREATED:20250603T113427Z
LAST-MODIFIED:20250603T113434Z
UID:10004987-1756031400-1756036800@www.fccminneapolis.org
SUMMARY:Sunday Worship (Online and In-Person)
DESCRIPTION:Click on the link on the right to attend online.
URL:https://www.fccminneapolis.org/event/sunday-worship-online-and-in-person-4-2/2025-08-24/
LOCATION:FCC North Sanctuary & LiveStream Channel
END:VEVENT
BEGIN:VEVENT
DTSTART;TZID=America/Chicago:20250824T100000
DTEND;TZID=America/Chicago:20250824T103000
DTSTAMP:20260425T205453
CREATED:20231130T201418Z
LAST-MODIFIED:20241224T200746Z
UID:10004937-1756029600-1756031400@www.fccminneapolis.org
SUMMARY:SpringHouse Youth Group Activities
DESCRIPTION:Youth group is starting up again! Please join Chelsea and other SpringHouse youth for games\, snacks\, fellowship\, and exploring faith starting THIS Sunday\, December 3rd from 10:00am-10:25am in the youth room (behind the squiggle room). All youth ages 10-18 are invited to participate! If you have any questions\, please reach out to Chelsea at springhouseyouth@fccmpls.org.
URL:https://www.fccminneapolis.org/event/springhouse-youth-group-activities/2025-08-24/
LOCATION:SHMC Youth Room
END:VEVENT
BEGIN:VEVENT
DTSTART;TZID=America/Chicago:20250824T090000
DTEND;TZID=America/Chicago:20250824T123000
DTSTAMP:20260425T205453
CREATED:20230408T120318Z
LAST-MODIFIED:20250125T161636Z
UID:10004885-1756026000-1756038600@www.fccminneapolis.org
SUMMARY:SpringHouse Youth Room Open Hours
DESCRIPTION:
URL:https://www.fccminneapolis.org/event/springhouse-youth-room-open-hours/2025-08-24/
LOCATION:SHMC Youth Room
CATEGORIES:SpringHouse Joint Ministries,Youth
END:VEVENT
BEGIN:VEVENT
DTSTART;TZID=America/Chicago:20250823T120000
DTEND;TZID=America/Chicago:20250823T170000
DTSTAMP:20260425T205453
CREATED:20250703T160140Z
LAST-MODIFIED:20250703T160244Z
UID:10005831-1755950400-1755968400@www.fccminneapolis.org
SUMMARY:Women's Pool Party
DESCRIPTION:RSVP to Arlene Jorgensen Hillestad by Thursday\, August 21st
URL:https://www.fccminneapolis.org/event/womens-pool-party-4/
LOCATION:Hillestad Home\, MN
END:VEVENT
BEGIN:VEVENT
DTSTART;TZID=America/Chicago:20250823T100000
DTEND;TZID=America/Chicago:20250823T113000
DTSTAMP:20260425T205453
CREATED:20250501T182635Z
LAST-MODIFIED:20250501T182636Z
UID:10005283-1755943200-1755948600@www.fccminneapolis.org
SUMMARY:Grief Support Group
DESCRIPTION:Grieving?\nShow up any Saturday at 10 am to 11:30 am to hear a speaker on various topics of grief and loss\, and then break into small discussion groups to talk to others experiencing a similar loss. \nNew attendees are always welcome!  We ask that you arrive by 9:45. \nUse our Contact Form or call 612-317-3454 for more information. \n\nThe Group currently meets at THE BASILICA OF ST. MARY\, at 1600 Hennepin Avenue\, Minneapolis\, 55403
URL:https://www.fccminneapolis.org/event/grief-support-group-2-2-2/2025-08-23/
LOCATION:St. Mark’s Episcopal Cathedral\, 519 Oak Grove St\, Minneapolis\, MN\, 55403\, United States
CATEGORIES:Ecumenical,Grief Support
END:VEVENT
BEGIN:VEVENT
DTSTART;TZID=America/Chicago:20250821T170000
DTEND;TZID=America/Chicago:20250821T180000
DTSTAMP:20260425T205453
CREATED:20250522T154356Z
LAST-MODIFIED:20250522T154358Z
UID:10005559-1755795600-1755799200@www.fccminneapolis.org
SUMMARY:Happy Hour With Community
DESCRIPTION:https://us02web.zoom.us/j/87366209539 \nMeeting ID: 873 6620 9539
URL:https://www.fccminneapolis.org/event/happy-hour-with-the-pastors-20-2-2/2025-08-21/
LOCATION:FCC Zoom Channel
CATEGORIES:Fellowship,Online Community Gatherings
END:VEVENT
BEGIN:VEVENT
DTSTART;TZID=America/Chicago:20250820T123000
DTEND;TZID=America/Chicago:20250820T133000
DTSTAMP:20260425T205453
CREATED:20250110T170033Z
LAST-MODIFIED:20251230T183030Z
UID:10007510-1755693000-1755696600@www.fccminneapolis.org
SUMMARY:Finance Committee
DESCRIPTION:
URL:https://www.fccminneapolis.org/event/finance-committee-4/2025-08-20/
LOCATION:FCC Zoom Channel
CATEGORIES:FCC Meetings
END:VEVENT
BEGIN:VEVENT
DTSTART;TZID=America/Chicago:20250820T090000
DTEND;TZID=America/Chicago:20250820T100000
DTSTAMP:20260425T205453
CREATED:20250821T163905Z
LAST-MODIFIED:20250821T163905Z
UID:10005927-1755680400-1755684000@www.fccminneapolis.org
SUMMARY:Coffee Hour with Community
DESCRIPTION:
URL:https://www.fccminneapolis.org/event/coffee-hour-with-community/2025-08-20/
LOCATION:FCC Zoom Channel
CATEGORIES:FCC Meetings
END:VEVENT
BEGIN:VEVENT
DTSTART;TZID=America/Chicago:20250819T190000
DTEND;TZID=America/Chicago:20250819T203000
DTSTAMP:20260425T205453
CREATED:20250807T174212Z
LAST-MODIFIED:20250807T174212Z
UID:10005904-1755630000-1755635400@www.fccminneapolis.org
SUMMARY:FCC Board Meeting
DESCRIPTION:
URL:https://www.fccminneapolis.org/event/fcc-board-meeting-3/
LOCATION:Online
END:VEVENT
BEGIN:VEVENT
DTSTART;TZID=America/Chicago:20250818T190000
DTEND;TZID=America/Chicago:20250818T210000
DTSTAMP:20260425T205453
CREATED:20230622T181400Z
LAST-MODIFIED:20250105T194247Z
UID:10005340-1755543600-1755550800@www.fccminneapolis.org
SUMMARY:FCC and Friends Book Group
DESCRIPTION:2025\nJanuary     Middlemarch by George Eliot  (Jan 20)\nFebruary    Passing by Nella Larsen  (Feb 17)\nMarch      The Seed Keeper by Diane Wilson (Mar 17)\nApril       The Cartographers by Peng Shepherd (Apr 21)\nMay        Tom Lake by Ann Patchett (May 19)
URL:https://www.fccminneapolis.org/event/fcc-and-friends-book-group/2025-08-18/
LOCATION:FCC Zoom Channel
CATEGORIES:Book Group,Fellowship
END:VEVENT
BEGIN:VEVENT
DTSTART;TZID=America/Chicago:20250817T103000
DTEND;TZID=America/Chicago:20250817T120000
DTSTAMP:20260425T205453
CREATED:20250807T164223Z
LAST-MODIFIED:20250807T164232Z
UID:10005903-1755426600-1755432000@www.fccminneapolis.org
SUMMARY:SpringHouse Joint Worship & Potluck
DESCRIPTION:We need your help to have a potluck lunch. Please bring sandwiches\, salads\, veggies\, chips\, fruit\, and desserts. Lemonade and ice water will be provided. \nSpringHouse Board Meeting to follow.
URL:https://www.fccminneapolis.org/event/springhouse-joint-worship-2/
LOCATION:Wabun Picnic Area @ Minnehaha Regional Park\, 4655 46th Ave S\, Minneapolis\, MN\, 55406
END:VEVENT
BEGIN:VEVENT
DTSTART;TZID=America/Chicago:20250817T100000
DTEND;TZID=America/Chicago:20250817T103000
DTSTAMP:20260425T205453
CREATED:20231130T201418Z
LAST-MODIFIED:20241224T200746Z
UID:10004936-1755424800-1755426600@www.fccminneapolis.org
SUMMARY:SpringHouse Youth Group Activities
DESCRIPTION:Youth group is starting up again! Please join Chelsea and other SpringHouse youth for games\, snacks\, fellowship\, and exploring faith starting THIS Sunday\, December 3rd from 10:00am-10:25am in the youth room (behind the squiggle room). All youth ages 10-18 are invited to participate! If you have any questions\, please reach out to Chelsea at springhouseyouth@fccmpls.org.
URL:https://www.fccminneapolis.org/event/springhouse-youth-group-activities/2025-08-17/
LOCATION:SHMC Youth Room
END:VEVENT
BEGIN:VEVENT
DTSTART;TZID=America/Chicago:20250817T090000
DTEND;TZID=America/Chicago:20250817T123000
DTSTAMP:20260425T205453
CREATED:20230408T120318Z
LAST-MODIFIED:20250125T161636Z
UID:10004884-1755421200-1755433800@www.fccminneapolis.org
SUMMARY:SpringHouse Youth Room Open Hours
DESCRIPTION:
URL:https://www.fccminneapolis.org/event/springhouse-youth-room-open-hours/2025-08-17/
LOCATION:SHMC Youth Room
CATEGORIES:SpringHouse Joint Ministries,Youth
END:VEVENT
BEGIN:VEVENT
DTSTART;TZID=America/Chicago:20250816T100000
DTEND;TZID=America/Chicago:20250816T113000
DTSTAMP:20260425T205453
CREATED:20250501T182635Z
LAST-MODIFIED:20250501T182636Z
UID:10005282-1755338400-1755343800@www.fccminneapolis.org
SUMMARY:Grief Support Group
DESCRIPTION:Grieving?\nShow up any Saturday at 10 am to 11:30 am to hear a speaker on various topics of grief and loss\, and then break into small discussion groups to talk to others experiencing a similar loss. \nNew attendees are always welcome!  We ask that you arrive by 9:45. \nUse our Contact Form or call 612-317-3454 for more information. \n\nThe Group currently meets at THE BASILICA OF ST. MARY\, at 1600 Hennepin Avenue\, Minneapolis\, 55403
URL:https://www.fccminneapolis.org/event/grief-support-group-2-2-2/2025-08-16/
LOCATION:St. Mark’s Episcopal Cathedral\, 519 Oak Grove St\, Minneapolis\, MN\, 55403\, United States
CATEGORIES:Ecumenical,Grief Support
END:VEVENT
BEGIN:VEVENT
DTSTART;TZID=America/Chicago:20250813T123000
DTEND;TZID=America/Chicago:20250813T133000
DTSTAMP:20260425T205453
CREATED:20250110T170033Z
LAST-MODIFIED:20251230T183030Z
UID:10005432-1755088200-1755091800@www.fccminneapolis.org
SUMMARY:Finance Committee
DESCRIPTION:
URL:https://www.fccminneapolis.org/event/finance-committee-4/2025-08-13/
LOCATION:FCC Zoom Channel
CATEGORIES:FCC Meetings
END:VEVENT
BEGIN:VEVENT
DTSTART;TZID=America/Chicago:20250813T090000
DTEND;TZID=America/Chicago:20250813T100000
DTSTAMP:20260425T205453
CREATED:20250821T163905Z
LAST-MODIFIED:20250821T163905Z
UID:10005926-1755075600-1755079200@www.fccminneapolis.org
SUMMARY:Coffee Hour with Community
DESCRIPTION:
URL:https://www.fccminneapolis.org/event/coffee-hour-with-community/2025-08-13/
LOCATION:FCC Zoom Channel
CATEGORIES:FCC Meetings
END:VEVENT
BEGIN:VEVENT
DTSTART;TZID=America/Chicago:20250812T170000
DTEND;TZID=America/Chicago:20250812T180000
DTSTAMP:20260425T205453
CREATED:20250522T153607Z
LAST-MODIFIED:20250617T135051Z
UID:10005081-1755018000-1755021600@www.fccminneapolis.org
SUMMARY:Happy Hour With Community
DESCRIPTION:https://us02web.zoom.us/j/87366209539 \nMeeting ID: 873 6620 9539
URL:https://www.fccminneapolis.org/event/happy-hour-with-the-pastors-17-2-3-3-2-2-2-2-3-6-2-2-2-2-2-2-2-2-2-2-2-2-2-2/2025-08-12/
LOCATION:FCC Zoom Channel
CATEGORIES:Fellowship,Online Community Gatherings
END:VEVENT
BEGIN:VEVENT
DTSTART;TZID=America/Chicago:20250811T190000
DTEND;TZID=America/Chicago:20250811T210000
DTSTAMP:20260425T205453
CREATED:20221215T222157Z
LAST-MODIFIED:20241224T201559Z
UID:10005321-1754938800-1754946000@www.fccminneapolis.org
SUMMARY:SHMC Finance Committee
DESCRIPTION:
URL:https://www.fccminneapolis.org/event/shmc-finance-committee-4/2025-08-11/
LOCATION:Online
CATEGORIES:SpringHouse Joint Ministries
END:VEVENT
BEGIN:VEVENT
DTSTART;TZID=America/Chicago:20250811T170000
DTEND;TZID=America/Chicago:20250811T183000
DTSTAMP:20260425T205453
CREATED:20221215T221953Z
LAST-MODIFIED:20241224T201517Z
UID:10005309-1754931600-1754937000@www.fccminneapolis.org
SUMMARY:SHMC Building Committee
DESCRIPTION:
URL:https://www.fccminneapolis.org/event/shmc-building-committee-5/2025-08-11/
LOCATION:Online
CATEGORIES:SpringHouse Joint Ministries
END:VEVENT
BEGIN:VEVENT
DTSTART;TZID=America/Chicago:20250810T103000
DTEND;TZID=America/Chicago:20250810T120000
DTSTAMP:20260425T205453
CREATED:20250603T113427Z
LAST-MODIFIED:20250603T113434Z
UID:10004985-1754821800-1754827200@www.fccminneapolis.org
SUMMARY:Sunday Worship (Online and In-Person)
DESCRIPTION:Click on the link on the right to attend online.
URL:https://www.fccminneapolis.org/event/sunday-worship-online-and-in-person-4-2/2025-08-10/
LOCATION:FCC North Sanctuary & LiveStream Channel
END:VEVENT
BEGIN:VEVENT
DTSTART;TZID=America/Chicago:20250810T100000
DTEND;TZID=America/Chicago:20250810T103000
DTSTAMP:20260425T205453
CREATED:20231130T201418Z
LAST-MODIFIED:20241224T200746Z
UID:10004935-1754820000-1754821800@www.fccminneapolis.org
SUMMARY:SpringHouse Youth Group Activities
DESCRIPTION:Youth group is starting up again! Please join Chelsea and other SpringHouse youth for games\, snacks\, fellowship\, and exploring faith starting THIS Sunday\, December 3rd from 10:00am-10:25am in the youth room (behind the squiggle room). All youth ages 10-18 are invited to participate! If you have any questions\, please reach out to Chelsea at springhouseyouth@fccmpls.org.
URL:https://www.fccminneapolis.org/event/springhouse-youth-group-activities/2025-08-10/
LOCATION:SHMC Youth Room
END:VEVENT
BEGIN:VEVENT
DTSTART;TZID=America/Chicago:20250810T090000
DTEND;TZID=America/Chicago:20250810T123000
DTSTAMP:20260425T205453
CREATED:20230408T120318Z
LAST-MODIFIED:20250125T161636Z
UID:10004883-1754816400-1754829000@www.fccminneapolis.org
SUMMARY:SpringHouse Youth Room Open Hours
DESCRIPTION:
URL:https://www.fccminneapolis.org/event/springhouse-youth-room-open-hours/2025-08-10/
LOCATION:SHMC Youth Room
CATEGORIES:SpringHouse Joint Ministries,Youth
END:VEVENT
END:VCALENDAR