BEGIN:VCALENDAR
VERSION:2.0
PRODID:-//First Christian Church (Disciples of Christ) - ECPv6.15.13//NONSGML v1.0//EN
CALSCALE:GREGORIAN
METHOD:PUBLISH
X-ORIGINAL-URL:https://www.fccminneapolis.org
X-WR-CALDESC:Events for First Christian Church (Disciples of Christ)
REFRESH-INTERVAL;VALUE=DURATION:PT1H
X-Robots-Tag:noindex
X-PUBLISHED-TTL:PT1H
BEGIN:VTIMEZONE
TZID:America/Chicago
BEGIN:DAYLIGHT
TZOFFSETFROM:-0600
TZOFFSETTO:-0500
TZNAME:CDT
DTSTART:20240310T080000
END:DAYLIGHT
BEGIN:STANDARD
TZOFFSETFROM:-0500
TZOFFSETTO:-0600
TZNAME:CST
DTSTART:20241103T070000
END:STANDARD
BEGIN:DAYLIGHT
TZOFFSETFROM:-0600
TZOFFSETTO:-0500
TZNAME:CDT
DTSTART:20250309T080000
END:DAYLIGHT
BEGIN:STANDARD
TZOFFSETFROM:-0500
TZOFFSETTO:-0600
TZNAME:CST
DTSTART:20251102T070000
END:STANDARD
BEGIN:DAYLIGHT
TZOFFSETFROM:-0600
TZOFFSETTO:-0500
TZNAME:CDT
DTSTART:20260308T080000
END:DAYLIGHT
BEGIN:STANDARD
TZOFFSETFROM:-0500
TZOFFSETTO:-0600
TZNAME:CST
DTSTART:20261101T070000
END:STANDARD
END:VTIMEZONE
BEGIN:VEVENT
DTSTART;TZID=America/Chicago:20251201T190000
DTEND;TZID=America/Chicago:20251201T200000
DTSTAMP:20260425T103812
CREATED:20251230T182526Z
LAST-MODIFIED:20251230T183554Z
UID:10005830-1764615600-1764619200@www.fccminneapolis.org
SUMMARY:Women's Fellowship
DESCRIPTION:FCC’s Women’s Fellowship meets on Zoom the first Monday of each month. All members and friends of FCC are welcome to join us. Contact Kathy H. for a Zoom link.
URL:https://www.fccminneapolis.org/event/womens-fellowship-8-2-2-2-2-2/2025-12-01/
CATEGORIES:Fellowship,Women's Fellowship
END:VEVENT
BEGIN:VEVENT
DTSTART;TZID=America/Chicago:20251202T130000
DTEND;TZID=America/Chicago:20251202T140000
DTSTAMP:20260425T103813
CREATED:20251106T195955Z
LAST-MODIFIED:20251230T182028Z
UID:10006489-1764680400-1764684000@www.fccminneapolis.org
SUMMARY:Mission & Outreach
DESCRIPTION:
URL:https://www.fccminneapolis.org/event/mission-outreach-4-2-2-2/
LOCATION:FCC Zoom Channel
CATEGORIES:FCC Meetings,Mission & Outreach
END:VEVENT
BEGIN:VEVENT
DTSTART;TZID=America/Chicago:20251203T090000
DTEND;TZID=America/Chicago:20251203T100000
DTSTAMP:20260425T103813
CREATED:20250930T182954Z
LAST-MODIFIED:20250930T182954Z
UID:10005942-1764752400-1764756000@www.fccminneapolis.org
SUMMARY:Coffee Hour with Community
DESCRIPTION:https://us02web.zoom.us/j/81318971740 \nMEETING ID: 813 1897 1740
URL:https://www.fccminneapolis.org/event/coffee-hour-with-community-3-2/2025-12-03/
LOCATION:FCC Zoom Channel
CATEGORIES:FCC Meetings
END:VEVENT
BEGIN:VEVENT
DTSTART;TZID=America/Chicago:20251203T180000
DTEND;TZID=America/Chicago:20251203T200000
DTSTAMP:20260425T103813
CREATED:20251113T210719Z
LAST-MODIFIED:20251113T210922Z
UID:10007109-1764784800-1764792000@www.fccminneapolis.org
SUMMARY:Advent Soup Supper & Holden Evening Prayer
DESCRIPTION:Soup Supper: 6:00 PM\nHolden Evening Prayer: 6:30 PM
URL:https://www.fccminneapolis.org/event/advent-soup-supper/2025-12-03/
END:VEVENT
BEGIN:VEVENT
DTSTART;TZID=America/Chicago:20251203T183000
DTEND;TZID=America/Chicago:20251203T191500
DTSTAMP:20260425T103813
CREATED:20251014T164438Z
LAST-MODIFIED:20251014T164438Z
UID:10006761-1764786600-1764789300@www.fccminneapolis.org
SUMMARY:Pray Without Ceasing
DESCRIPTION:Join us on Zoom: https://us02web.zoom.us/j/85258655766?pwd=HGeYxzEU4bggJjSDkpudrsZ0Lw9dk4.1
URL:https://www.fccminneapolis.org/event/pray-without-ceasing-2/2025-12-03/
LOCATION:FCC Zoom Channel
END:VEVENT
BEGIN:VEVENT
DTSTART;TZID=America/Chicago:20251203T190000
DTEND;TZID=America/Chicago:20251203T200000
DTSTAMP:20260425T103813
CREATED:20251230T182814Z
LAST-MODIFIED:20260301T232414Z
UID:10005511-1764788400-1764792000@www.fccminneapolis.org
SUMMARY:Elders
DESCRIPTION:
URL:https://www.fccminneapolis.org/event/elders-3-2-2/2025-12-03/
LOCATION:FCC Zoom Channel
CATEGORIES:FCC Meetings
END:VEVENT
BEGIN:VEVENT
DTSTART;TZID=America/Chicago:20251204T133000
DTEND;TZID=America/Chicago:20251204T153000
DTSTAMP:20260425T103813
CREATED:20250708T162601Z
LAST-MODIFIED:20250708T162601Z
UID:10005837-1764855000-1764862200@www.fccminneapolis.org
SUMMARY:SHMC Clergy Meeting
DESCRIPTION:
URL:https://www.fccminneapolis.org/event/shmc-clergy-meeting/2025-12-04/
LOCATION:SHMC Esther Meeting Space (Lower Level)
END:VEVENT
BEGIN:VEVENT
DTSTART;TZID=America/Chicago:20251204T170000
DTEND;TZID=America/Chicago:20251204T180000
DTSTAMP:20260425T103813
CREATED:20251203T214533Z
LAST-MODIFIED:20251210T224344Z
UID:10007177-1764867600-1764871200@www.fccminneapolis.org
SUMMARY:My Soul Proclaims: Advent Contemplative Prayer
DESCRIPTION:
URL:https://www.fccminneapolis.org/event/my-soul-proclaims-advent-contemplative-prayer/2025-12-04/
END:VEVENT
BEGIN:VEVENT
DTSTART;TZID=America/Chicago:20251206T090000
DTEND;TZID=America/Chicago:20251206T100000
DTSTAMP:20260425T103813
CREATED:20251203T231601Z
LAST-MODIFIED:20251203T231601Z
UID:10007235-1765011600-1765015200@www.fccminneapolis.org
SUMMARY:The Breakfast Club
DESCRIPTION:https://us02web.zoom.us/j/81318971740 \nMEETING ID: 813 1897 1740
URL:https://www.fccminneapolis.org/event/the-breakfast-club-2/
END:VEVENT
BEGIN:VEVENT
DTSTART;TZID=America/Chicago:20251206T090000
DTEND;TZID=America/Chicago:20251206T110000
DTSTAMP:20260425T103813
CREATED:20251113T211135Z
LAST-MODIFIED:20251113T211135Z
UID:10007164-1765011600-1765018800@www.fccminneapolis.org
SUMMARY:Coats\, Coffee and Creativity
DESCRIPTION:
URL:https://www.fccminneapolis.org/event/coats-coffee-and-creativity/
END:VEVENT
BEGIN:VEVENT
DTSTART;TZID=America/Chicago:20251206T100000
DTEND;TZID=America/Chicago:20251206T113000
DTSTAMP:20260425T103813
CREATED:20250501T182635Z
LAST-MODIFIED:20250501T182636Z
UID:10005298-1765015200-1765020600@www.fccminneapolis.org
SUMMARY:Grief Support Group
DESCRIPTION:Grieving?\nShow up any Saturday at 10 am to 11:30 am to hear a speaker on various topics of grief and loss\, and then break into small discussion groups to talk to others experiencing a similar loss. \nNew attendees are always welcome!  We ask that you arrive by 9:45. \nUse our Contact Form or call 612-317-3454 for more information. \n\nThe Group currently meets at THE BASILICA OF ST. MARY\, at 1600 Hennepin Avenue\, Minneapolis\, 55403
URL:https://www.fccminneapolis.org/event/grief-support-group-2-2-2/2025-12-06/
LOCATION:St. Mark’s Episcopal Cathedral\, 519 Oak Grove St\, Minneapolis\, MN\, 55403\, United States
CATEGORIES:Ecumenical,Grief Support
END:VEVENT
BEGIN:VEVENT
DTSTART;TZID=America/Chicago:20251206T110000
DTEND;TZID=America/Chicago:20251206T160000
DTSTAMP:20260425T103813
CREATED:20251113T211158Z
LAST-MODIFIED:20251113T211158Z
UID:10007165-1765018800-1765036800@www.fccminneapolis.org
SUMMARY:Aliveness Cookie Baking
DESCRIPTION:
URL:https://www.fccminneapolis.org/event/aliveness-cookie-baking/
END:VEVENT
BEGIN:VEVENT
DTSTART;TZID=America/Chicago:20251207T090000
DTEND;TZID=America/Chicago:20251207T123000
DTSTAMP:20260425T103813
CREATED:20230408T120318Z
LAST-MODIFIED:20250125T161636Z
UID:10004900-1765098000-1765110600@www.fccminneapolis.org
SUMMARY:SpringHouse Youth Room Open Hours
DESCRIPTION:
URL:https://www.fccminneapolis.org/event/springhouse-youth-room-open-hours/2025-12-07/
LOCATION:SHMC Youth Room
CATEGORIES:SpringHouse Joint Ministries,Youth
END:VEVENT
BEGIN:VEVENT
DTSTART;TZID=America/Chicago:20251207T100000
DTEND;TZID=America/Chicago:20251207T103000
DTSTAMP:20260425T103813
CREATED:20231130T201418Z
LAST-MODIFIED:20241224T200746Z
UID:10004952-1765101600-1765103400@www.fccminneapolis.org
SUMMARY:SpringHouse Youth Group Activities
DESCRIPTION:Youth group is starting up again! Please join Chelsea and other SpringHouse youth for games\, snacks\, fellowship\, and exploring faith starting THIS Sunday\, December 3rd from 10:00am-10:25am in the youth room (behind the squiggle room). All youth ages 10-18 are invited to participate! If you have any questions\, please reach out to Chelsea at springhouseyouth@fccmpls.org.
URL:https://www.fccminneapolis.org/event/springhouse-youth-group-activities/2025-12-07/
LOCATION:SHMC Youth Room
END:VEVENT
BEGIN:VEVENT
DTSTART;TZID=America/Chicago:20251207T103000
DTEND;TZID=America/Chicago:20251207T120000
DTSTAMP:20260425T103813
CREATED:20251113T211343Z
LAST-MODIFIED:20251113T211343Z
UID:10005002-1765103400-1765108800@www.fccminneapolis.org
SUMMARY:Sunday Worship (Online and In-Person)
DESCRIPTION:Click on the link on the right to attend online.
URL:https://www.fccminneapolis.org/event/sunday-worship-online-and-in-person-4-2-3/2025-12-07/
LOCATION:FCC Garden Sanctuary & LiveStream Channel\, 610 West 28th Street\, Minneapolis\, MN\, 55408\, United States
END:VEVENT
BEGIN:VEVENT
DTSTART;TZID=America/Chicago:20251208T170000
DTEND;TZID=America/Chicago:20251208T183000
DTSTAMP:20260425T103813
CREATED:20251230T183152Z
LAST-MODIFIED:20251230T183152Z
UID:10005313-1765213200-1765218600@www.fccminneapolis.org
SUMMARY:SHMC Building Committee
DESCRIPTION:
URL:https://www.fccminneapolis.org/event/shmc-building-committee-5-2/2025-12-08/
LOCATION:Online
CATEGORIES:SpringHouse Joint Ministries
END:VEVENT
BEGIN:VEVENT
DTSTART;TZID=America/Chicago:20251208T190000
DTEND;TZID=America/Chicago:20251208T210000
DTSTAMP:20260425T103813
CREATED:20251230T183339Z
LAST-MODIFIED:20251230T183441Z
UID:10005325-1765220400-1765227600@www.fccminneapolis.org
SUMMARY:SHMC Finance Committee
DESCRIPTION:
URL:https://www.fccminneapolis.org/event/shmc-finance-committee-4-2/2025-12-08/
LOCATION:Online
CATEGORIES:SpringHouse Joint Ministries
END:VEVENT
BEGIN:VEVENT
DTSTART;TZID=America/Chicago:20251210T123000
DTEND;TZID=America/Chicago:20251210T133000
DTSTAMP:20260425T103813
CREATED:20250110T170033Z
LAST-MODIFIED:20251230T183030Z
UID:10005436-1765369800-1765373400@www.fccminneapolis.org
SUMMARY:Finance Committee
DESCRIPTION:
URL:https://www.fccminneapolis.org/event/finance-committee-4/2025-12-10/
LOCATION:FCC Zoom Channel
CATEGORIES:FCC Meetings
END:VEVENT
BEGIN:VEVENT
DTSTART;TZID=America/Chicago:20251210T180000
DTEND;TZID=America/Chicago:20251210T200000
DTSTAMP:20260425T103813
CREATED:20251113T210719Z
LAST-MODIFIED:20251113T210922Z
UID:10007110-1765389600-1765396800@www.fccminneapolis.org
SUMMARY:Advent Soup Supper & Holden Evening Prayer
DESCRIPTION:Soup Supper: 6:00 PM\nHolden Evening Prayer: 6:30 PM
URL:https://www.fccminneapolis.org/event/advent-soup-supper/2025-12-10/
END:VEVENT
BEGIN:VEVENT
DTSTART;TZID=America/Chicago:20251211T170000
DTEND;TZID=America/Chicago:20251211T180000
DTSTAMP:20260425T103813
CREATED:20251203T214533Z
LAST-MODIFIED:20251210T224344Z
UID:10007178-1765472400-1765476000@www.fccminneapolis.org
SUMMARY:My Soul Proclaims: Advent Contemplative Prayer
DESCRIPTION:
URL:https://www.fccminneapolis.org/event/my-soul-proclaims-advent-contemplative-prayer/2025-12-11/
END:VEVENT
BEGIN:VEVENT
DTSTART;TZID=America/Chicago:20251213T090000
DTEND;TZID=America/Chicago:20251213T100000
DTSTAMP:20260425T103813
CREATED:20250930T181740Z
LAST-MODIFIED:20250930T182917Z
UID:10006203-1765616400-1765620000@www.fccminneapolis.org
SUMMARY:The Breakfast Club
DESCRIPTION:https://us02web.zoom.us/j/81318971740 \nMEETING ID: 813 1897 1740
URL:https://www.fccminneapolis.org/event/coffee-hour-with-community-2-2/2025-12-13/
LOCATION:FCC LiveStream Channel
END:VEVENT
BEGIN:VEVENT
DTSTART;TZID=America/Chicago:20251213T100000
DTEND;TZID=America/Chicago:20251213T113000
DTSTAMP:20260425T103813
CREATED:20250501T182635Z
LAST-MODIFIED:20250501T182636Z
UID:10005299-1765620000-1765625400@www.fccminneapolis.org
SUMMARY:Grief Support Group
DESCRIPTION:Grieving?\nShow up any Saturday at 10 am to 11:30 am to hear a speaker on various topics of grief and loss\, and then break into small discussion groups to talk to others experiencing a similar loss. \nNew attendees are always welcome!  We ask that you arrive by 9:45. \nUse our Contact Form or call 612-317-3454 for more information. \n\nThe Group currently meets at THE BASILICA OF ST. MARY\, at 1600 Hennepin Avenue\, Minneapolis\, 55403
URL:https://www.fccminneapolis.org/event/grief-support-group-2-2-2/2025-12-13/
LOCATION:St. Mark’s Episcopal Cathedral\, 519 Oak Grove St\, Minneapolis\, MN\, 55403\, United States
CATEGORIES:Ecumenical,Grief Support
END:VEVENT
BEGIN:VEVENT
DTSTART;TZID=America/Chicago:20251214T090000
DTEND;TZID=America/Chicago:20251214T123000
DTSTAMP:20260425T103813
CREATED:20230408T120318Z
LAST-MODIFIED:20250125T161636Z
UID:10004901-1765702800-1765715400@www.fccminneapolis.org
SUMMARY:SpringHouse Youth Room Open Hours
DESCRIPTION:
URL:https://www.fccminneapolis.org/event/springhouse-youth-room-open-hours/2025-12-14/
LOCATION:SHMC Youth Room
CATEGORIES:SpringHouse Joint Ministries,Youth
END:VEVENT
BEGIN:VEVENT
DTSTART;TZID=America/Chicago:20251214T100000
DTEND;TZID=America/Chicago:20251214T103000
DTSTAMP:20260425T103813
CREATED:20231130T201418Z
LAST-MODIFIED:20241224T200746Z
UID:10004953-1765706400-1765708200@www.fccminneapolis.org
SUMMARY:SpringHouse Youth Group Activities
DESCRIPTION:Youth group is starting up again! Please join Chelsea and other SpringHouse youth for games\, snacks\, fellowship\, and exploring faith starting THIS Sunday\, December 3rd from 10:00am-10:25am in the youth room (behind the squiggle room). All youth ages 10-18 are invited to participate! If you have any questions\, please reach out to Chelsea at springhouseyouth@fccmpls.org.
URL:https://www.fccminneapolis.org/event/springhouse-youth-group-activities/2025-12-14/
LOCATION:SHMC Youth Room
END:VEVENT
BEGIN:VEVENT
DTSTART;TZID=America/Chicago:20251214T103000
DTEND;TZID=America/Chicago:20251214T120000
DTSTAMP:20260425T103813
CREATED:20251113T211343Z
LAST-MODIFIED:20251113T211343Z
UID:10005003-1765708200-1765713600@www.fccminneapolis.org
SUMMARY:Sunday Worship (Online and In-Person)
DESCRIPTION:Click on the link on the right to attend online.
URL:https://www.fccminneapolis.org/event/sunday-worship-online-and-in-person-4-2-3/2025-12-14/
LOCATION:FCC Garden Sanctuary & LiveStream Channel\, 610 West 28th Street\, Minneapolis\, MN\, 55408\, United States
END:VEVENT
BEGIN:VEVENT
DTSTART;TZID=America/Chicago:20251217T090000
DTEND;TZID=America/Chicago:20251217T100000
DTSTAMP:20260425T103813
CREATED:20250930T182954Z
LAST-MODIFIED:20250930T182954Z
UID:10005944-1765962000-1765965600@www.fccminneapolis.org
SUMMARY:Coffee Hour with Community
DESCRIPTION:https://us02web.zoom.us/j/81318971740 \nMEETING ID: 813 1897 1740
URL:https://www.fccminneapolis.org/event/coffee-hour-with-community-3-2/2025-12-17/
LOCATION:FCC Zoom Channel
CATEGORIES:FCC Meetings
END:VEVENT
BEGIN:VEVENT
DTSTART;TZID=America/Chicago:20251217T123000
DTEND;TZID=America/Chicago:20251217T133000
DTSTAMP:20260425T103813
CREATED:20250110T170033Z
LAST-MODIFIED:20251230T183030Z
UID:10007513-1765974600-1765978200@www.fccminneapolis.org
SUMMARY:Finance Committee
DESCRIPTION:
URL:https://www.fccminneapolis.org/event/finance-committee-4/2025-12-17/
LOCATION:FCC Zoom Channel
CATEGORIES:FCC Meetings
END:VEVENT
BEGIN:VEVENT
DTSTART;TZID=America/Chicago:20251217T180000
DTEND;TZID=America/Chicago:20251217T200000
DTSTAMP:20260425T103813
CREATED:20251113T210719Z
LAST-MODIFIED:20251113T210922Z
UID:10007111-1765994400-1766001600@www.fccminneapolis.org
SUMMARY:Advent Soup Supper & Holden Evening Prayer
DESCRIPTION:Soup Supper: 6:00 PM\nHolden Evening Prayer: 6:30 PM
URL:https://www.fccminneapolis.org/event/advent-soup-supper/2025-12-17/
END:VEVENT
BEGIN:VEVENT
DTSTART;TZID=America/Chicago:20251218T170000
DTEND;TZID=America/Chicago:20251218T180000
DTSTAMP:20260425T103813
CREATED:20251203T214533Z
LAST-MODIFIED:20251210T224344Z
UID:10007179-1766077200-1766080800@www.fccminneapolis.org
SUMMARY:My Soul Proclaims: Advent Contemplative Prayer
DESCRIPTION:
URL:https://www.fccminneapolis.org/event/my-soul-proclaims-advent-contemplative-prayer/2025-12-18/
END:VEVENT
BEGIN:VEVENT
DTSTART;TZID=America/Chicago:20251220T090000
DTEND;TZID=America/Chicago:20251220T100000
DTSTAMP:20260425T103813
CREATED:20251203T214904Z
LAST-MODIFIED:20251203T214904Z
UID:10007234-1766221200-1766224800@www.fccminneapolis.org
SUMMARY:The Breakfast Club
DESCRIPTION:https://us02web.zoom.us/j/81318971740 \nMEETING ID: 813 1897 1740
URL:https://www.fccminneapolis.org/event/the-breakfast-club/
LOCATION:Zoom
END:VEVENT
END:VCALENDAR