BEGIN:VCALENDAR
VERSION:2.0
PRODID:-//First Christian Church (Disciples of Christ) - ECPv6.15.13//NONSGML v1.0//EN
CALSCALE:GREGORIAN
METHOD:PUBLISH
X-WR-CALNAME:First Christian Church (Disciples of Christ)
X-ORIGINAL-URL:https://www.fccminneapolis.org
X-WR-CALDESC:Events for First Christian Church (Disciples of Christ)
REFRESH-INTERVAL;VALUE=DURATION:PT1H
X-Robots-Tag:noindex
X-PUBLISHED-TTL:PT1H
BEGIN:VTIMEZONE
TZID:America/Chicago
BEGIN:DAYLIGHT
TZOFFSETFROM:-0600
TZOFFSETTO:-0500
TZNAME:CDT
DTSTART:20180311T080000
END:DAYLIGHT
BEGIN:STANDARD
TZOFFSETFROM:-0500
TZOFFSETTO:-0600
TZNAME:CST
DTSTART:20181104T070000
END:STANDARD
BEGIN:DAYLIGHT
TZOFFSETFROM:-0600
TZOFFSETTO:-0500
TZNAME:CDT
DTSTART:20190310T080000
END:DAYLIGHT
BEGIN:STANDARD
TZOFFSETFROM:-0500
TZOFFSETTO:-0600
TZNAME:CST
DTSTART:20191103T070000
END:STANDARD
BEGIN:DAYLIGHT
TZOFFSETFROM:-0600
TZOFFSETTO:-0500
TZNAME:CDT
DTSTART:20200308T080000
END:DAYLIGHT
BEGIN:STANDARD
TZOFFSETFROM:-0500
TZOFFSETTO:-0600
TZNAME:CST
DTSTART:20201101T070000
END:STANDARD
BEGIN:DAYLIGHT
TZOFFSETFROM:-0600
TZOFFSETTO:-0500
TZNAME:CDT
DTSTART:20210314T080000
END:DAYLIGHT
BEGIN:STANDARD
TZOFFSETFROM:-0500
TZOFFSETTO:-0600
TZNAME:CST
DTSTART:20211107T070000
END:STANDARD
END:VTIMEZONE
BEGIN:VEVENT
DTSTART;TZID=America/Chicago:20191222T114500
DTEND;TZID=America/Chicago:20191222T123000
DTSTAMP:20260425T211446
CREATED:20191029T181923Z
LAST-MODIFIED:20191029T192827Z
UID:10000118-1577015100-1577017800@www.fccminneapolis.org
SUMMARY:Post-Worship Fellowship
DESCRIPTION:
URL:https://www.fccminneapolis.org/event/post-worship-fellowship/2019-12-22/
LOCATION:SHMC Gathering Space (Upper Level)
CATEGORIES:Fellowship
END:VEVENT
BEGIN:VEVENT
DTSTART;VALUE=DATE:20191224
DTEND;VALUE=DATE:20191225
DTSTAMP:20260425T211446
CREATED:20191112T162001Z
LAST-MODIFIED:20191112T162001Z
UID:10000005-1577145600-1577231999@www.fccminneapolis.org
SUMMARY:CHRISTMAS EVE
DESCRIPTION:
URL:https://www.fccminneapolis.org/event/christmas-eve/
END:VEVENT
BEGIN:VEVENT
DTSTART;VALUE=DATE:20191225
DTEND;VALUE=DATE:20191226
DTSTAMP:20260425T211446
CREATED:20191112T162019Z
LAST-MODIFIED:20191112T162019Z
UID:10000264-1577232000-1577318399@www.fccminneapolis.org
SUMMARY:CHRISTMAS DAY
DESCRIPTION:
URL:https://www.fccminneapolis.org/event/christmas-day/
END:VEVENT
BEGIN:VEVENT
DTSTART;TZID=America/Chicago:20191225T183000
DTEND;TZID=America/Chicago:20191225T193000
DTSTAMP:20260425T211446
CREATED:20191029T163607Z
LAST-MODIFIED:20200414T131935Z
UID:10000065-1577298600-1577302200@www.fccminneapolis.org
SUMMARY:Handbell Rehearsal
DESCRIPTION:
URL:https://www.fccminneapolis.org/event/handbell-rehearsal/2019-12-25/
LOCATION:SHMC Lydia Meeting Room (Lower Level)\, 610 West 28th St\, Minneapolis\, MN\, 55408
CATEGORIES:Music,The Arts At First
END:VEVENT
BEGIN:VEVENT
DTSTART;TZID=America/Chicago:20191225T194500
DTEND;TZID=America/Chicago:20191225T210000
DTSTAMP:20260425T211446
CREATED:20191030T195656Z
LAST-MODIFIED:20200414T131659Z
UID:10000012-1577303100-1577307600@www.fccminneapolis.org
SUMMARY:Choir Rehearsal
DESCRIPTION:
URL:https://www.fccminneapolis.org/event/choir-rehearsal-2/2019-12-25/
LOCATION:SHMC North Sanctuary (Upper Level)
CATEGORIES:Music,The Arts At First
END:VEVENT
BEGIN:VEVENT
DTSTART;TZID=America/Chicago:20191229T091500
DTEND;TZID=America/Chicago:20191229T101500
DTSTAMP:20260425T211446
CREATED:20191029T192232Z
LAST-MODIFIED:20191030T195409Z
UID:10000099-1577610900-1577614500@www.fccminneapolis.org
SUMMARY:Godly Play Children's Sunday School
DESCRIPTION:
URL:https://www.fccminneapolis.org/event/godly-play-childrens-sunday-school/2019-12-29/
LOCATION:SHMC Squiggle Space (Lower Level)
CATEGORIES:Child Ministries,SpringHouse Joint Ministries
END:VEVENT
BEGIN:VEVENT
DTSTART;TZID=America/Chicago:20191229T093000
DTEND;TZID=America/Chicago:20191229T101500
DTSTAMP:20260425T211446
CREATED:20191029T192106Z
LAST-MODIFIED:20191029T192106Z
UID:10000263-1577611800-1577614500@www.fccminneapolis.org
SUMMARY:SpringHouse Youth Group
DESCRIPTION:
URL:https://www.fccminneapolis.org/event/springhouse-youth-group/2019-12-29/
LOCATION:SHMC Micah Room (Lower Level)
CATEGORIES:Youth
END:VEVENT
BEGIN:VEVENT
DTSTART;TZID=America/Chicago:20191229T103000
DTEND;TZID=America/Chicago:20191229T114500
DTSTAMP:20260425T211446
CREATED:20191029T181743Z
LAST-MODIFIED:20191029T182005Z
UID:10000091-1577615400-1577619900@www.fccminneapolis.org
SUMMARY:Sunday Worship - North Sanctuary
DESCRIPTION:
URL:https://www.fccminneapolis.org/event/sunday-worship-north-sanctuary/2019-12-29/
LOCATION:SHMC North Sanctuary (Upper Level)
CATEGORIES:Sunday Worship
END:VEVENT
BEGIN:VEVENT
DTSTART;TZID=America/Chicago:20191229T114500
DTEND;TZID=America/Chicago:20191229T123000
DTSTAMP:20260425T211446
CREATED:20191029T181923Z
LAST-MODIFIED:20191029T192827Z
UID:10000119-1577619900-1577622600@www.fccminneapolis.org
SUMMARY:Post-Worship Fellowship
DESCRIPTION:
URL:https://www.fccminneapolis.org/event/post-worship-fellowship/2019-12-29/
LOCATION:SHMC Gathering Space (Upper Level)
CATEGORIES:Fellowship
END:VEVENT
BEGIN:VEVENT
DTSTART;TZID=America/Chicago:20200101T183000
DTEND;TZID=America/Chicago:20200101T193000
DTSTAMP:20260425T211446
CREATED:20191029T163607Z
LAST-MODIFIED:20200414T131935Z
UID:10000066-1577903400-1577907000@www.fccminneapolis.org
SUMMARY:Handbell Rehearsal
DESCRIPTION:
URL:https://www.fccminneapolis.org/event/handbell-rehearsal/2020-01-01/
LOCATION:SHMC Lydia Meeting Room (Lower Level)\, 610 West 28th St\, Minneapolis\, MN\, 55408
CATEGORIES:Music,The Arts At First
END:VEVENT
BEGIN:VEVENT
DTSTART;TZID=America/Chicago:20200101T194500
DTEND;TZID=America/Chicago:20200101T210000
DTSTAMP:20260425T211446
CREATED:20191030T195656Z
LAST-MODIFIED:20200414T131659Z
UID:10000013-1577907900-1577912400@www.fccminneapolis.org
SUMMARY:Choir Rehearsal
DESCRIPTION:
URL:https://www.fccminneapolis.org/event/choir-rehearsal-2/2020-01-01/
LOCATION:SHMC North Sanctuary (Upper Level)
CATEGORIES:Music,The Arts At First
END:VEVENT
BEGIN:VEVENT
DTSTART;TZID=America/Chicago:20200104T093000
DTEND;TZID=America/Chicago:20200104T113000
DTSTAMP:20260425T211446
CREATED:20191226T194755Z
LAST-MODIFIED:20200414T132101Z
UID:10000130-1578130200-1578137400@www.fccminneapolis.org
SUMMARY:Downtown Coalition for Grief Support
DESCRIPTION:
URL:https://www.fccminneapolis.org/event/downtown-coalition-for-grief-support/2020-01-04/
LOCATION:SHMC Lower Level
CATEGORIES:Ecumenical,Grief Support
END:VEVENT
BEGIN:VEVENT
DTSTART;TZID=America/Chicago:20200105T103000
DTEND;TZID=America/Chicago:20200105T114500
DTSTAMP:20260425T211446
CREATED:20191226T181153Z
LAST-MODIFIED:20191226T181153Z
UID:10000359-1578220200-1578224700@www.fccminneapolis.org
SUMMARY:Sunday Worship - North Sanctuary
DESCRIPTION:
URL:https://www.fccminneapolis.org/event/sunday-worship-north-sanctuary-2/2020-01-05/
LOCATION:SHMC North Sanctuary (Upper Level)
CATEGORIES:Sunday Worship
END:VEVENT
BEGIN:VEVENT
DTSTART;TZID=America/Chicago:20200105T120000
DTEND;TZID=America/Chicago:20200105T130000
DTSTAMP:20260425T211446
CREATED:20200104T005544Z
LAST-MODIFIED:20200104T005544Z
UID:10000144-1578225600-1578229200@www.fccminneapolis.org
SUMMARY:Elders
DESCRIPTION:
URL:https://www.fccminneapolis.org/event/elders/
LOCATION:SHMC Lydia Meeting Room (Lower Level)\, 610 West 28th St\, Minneapolis\, MN\, 55408
CATEGORIES:FCC Meetings
END:VEVENT
BEGIN:VEVENT
DTSTART;TZID=America/Chicago:20200105T120000
DTEND;TZID=America/Chicago:20200105T133000
DTSTAMP:20260425T211446
CREATED:20200104T005451Z
LAST-MODIFIED:20200104T005451Z
UID:10000142-1578225600-1578231000@www.fccminneapolis.org
SUMMARY:Child Ministries Team meeting
DESCRIPTION:
URL:https://www.fccminneapolis.org/event/child-ministries-team-meeting/
LOCATION:SHMC Squiggle Space (Lower Level)
CATEGORIES:FCC Meetings,SpringHouse Joint Ministries
END:VEVENT
BEGIN:VEVENT
DTSTART;TZID=America/Chicago:20200105T120000
DTEND;TZID=America/Chicago:20200105T140000
DTSTAMP:20260425T211446
CREATED:20191226T170146Z
LAST-MODIFIED:20191226T170146Z
UID:10000029-1578225600-1578232800@www.fccminneapolis.org
SUMMARY:SHMC Board
DESCRIPTION:
URL:https://www.fccminneapolis.org/event/shmc-board/
LOCATION:SHMC Lydia Meeting Room (Lower Level)\, 610 West 28th St\, Minneapolis\, MN\, 55408
CATEGORIES:SpringHouse Joint Ministries
END:VEVENT
BEGIN:VEVENT
DTSTART;TZID=America/Chicago:20200106T184500
DTEND;TZID=America/Chicago:20200106T203000
DTSTAMP:20260425T211446
CREATED:20191226T184819Z
LAST-MODIFIED:20191226T184819Z
UID:10000447-1578336300-1578342600@www.fccminneapolis.org
SUMMARY:SHMC Building Committee
DESCRIPTION:
URL:https://www.fccminneapolis.org/event/shmc-building-committee-2/2020-01-06/
LOCATION:SHMC Timothy Meeting Room (Lower Level)
CATEGORIES:SpringHouse Joint Ministries
END:VEVENT
BEGIN:VEVENT
DTSTART;TZID=America/Chicago:20200108T183000
DTEND;TZID=America/Chicago:20200108T193000
DTSTAMP:20260425T211446
CREATED:20191029T163607Z
LAST-MODIFIED:20200414T131935Z
UID:10000067-1578508200-1578511800@www.fccminneapolis.org
SUMMARY:Handbell Rehearsal
DESCRIPTION:
URL:https://www.fccminneapolis.org/event/handbell-rehearsal/2020-01-08/
LOCATION:SHMC Lydia Meeting Room (Lower Level)\, 610 West 28th St\, Minneapolis\, MN\, 55408
CATEGORIES:Music,The Arts At First
END:VEVENT
BEGIN:VEVENT
DTSTART;TZID=America/Chicago:20200108T194500
DTEND;TZID=America/Chicago:20200108T210000
DTSTAMP:20260425T211446
CREATED:20191030T195656Z
LAST-MODIFIED:20200414T131659Z
UID:10000014-1578512700-1578517200@www.fccminneapolis.org
SUMMARY:Choir Rehearsal
DESCRIPTION:
URL:https://www.fccminneapolis.org/event/choir-rehearsal-2/2020-01-08/
LOCATION:SHMC North Sanctuary (Upper Level)
CATEGORIES:Music,The Arts At First
END:VEVENT
BEGIN:VEVENT
DTSTART;TZID=America/Chicago:20200109T183000
DTEND;TZID=America/Chicago:20200109T193000
DTSTAMP:20260425T211446
CREATED:20191029T184424Z
LAST-MODIFIED:20191226T154141Z
UID:10000123-1578594600-1578598200@www.fccminneapolis.org
SUMMARY:PRC - Pastor Laurie
DESCRIPTION:
URL:https://www.fccminneapolis.org/event/prc-pastor-laurie/2020-01-09/
LOCATION:SHMC Lydia Meeting Room (Lower Level)\, 610 West 28th St\, Minneapolis\, MN\, 55408
CATEGORIES:FCC Meetings
END:VEVENT
BEGIN:VEVENT
DTSTART;VALUE=DATE:20200111
DTEND;VALUE=DATE:20200112
DTSTAMP:20260425T211446
CREATED:20191226T193457Z
LAST-MODIFIED:20191226T193457Z
UID:10000110-1578700800-1578787199@www.fccminneapolis.org
SUMMARY:Women's Fellowship: Women's Lunch Out
DESCRIPTION:
URL:https://www.fccminneapolis.org/event/womens-fellowship-womens-lunch-out/
CATEGORIES:Fellowship,Women's Fellowship
END:VEVENT
BEGIN:VEVENT
DTSTART;TZID=America/Chicago:20200111T093000
DTEND;TZID=America/Chicago:20200111T113000
DTSTAMP:20260425T211446
CREATED:20191226T194755Z
LAST-MODIFIED:20200414T132101Z
UID:10000131-1578735000-1578742200@www.fccminneapolis.org
SUMMARY:Downtown Coalition for Grief Support
DESCRIPTION:
URL:https://www.fccminneapolis.org/event/downtown-coalition-for-grief-support/2020-01-11/
LOCATION:SHMC Lower Level
CATEGORIES:Ecumenical,Grief Support
END:VEVENT
BEGIN:VEVENT
DTSTART;TZID=America/Chicago:20200112T103000
DTEND;TZID=America/Chicago:20200112T114500
DTSTAMP:20260425T211446
CREATED:20191226T181153Z
LAST-MODIFIED:20191226T181153Z
UID:10000360-1578825000-1578829500@www.fccminneapolis.org
SUMMARY:Sunday Worship - North Sanctuary
DESCRIPTION:
URL:https://www.fccminneapolis.org/event/sunday-worship-north-sanctuary-2/2020-01-12/
LOCATION:SHMC North Sanctuary (Upper Level)
CATEGORIES:Sunday Worship
END:VEVENT
BEGIN:VEVENT
DTSTART;TZID=America/Chicago:20200112T120000
DTEND;TZID=America/Chicago:20200112T130000
DTSTAMP:20260425T211446
CREATED:20200104T010148Z
LAST-MODIFIED:20200104T010148Z
UID:10000147-1578830400-1578834000@www.fccminneapolis.org
SUMMARY:Annual Congregational Meeting
DESCRIPTION:
URL:https://www.fccminneapolis.org/event/annual-congregational-meeting/
LOCATION:SHMC North Sanctuary (Upper Level)
CATEGORIES:FCC Meetings
END:VEVENT
BEGIN:VEVENT
DTSTART;TZID=America/Chicago:20200113T190000
DTEND;TZID=America/Chicago:20200113T210000
DTSTAMP:20260425T211446
CREATED:20191226T192924Z
LAST-MODIFIED:20191226T192924Z
UID:10000101-1578942000-1578949200@www.fccminneapolis.org
SUMMARY:Book Club
DESCRIPTION:Book: The Chilbury Ladies’ Choir: A Novel\, by Jennifer Ryan.
URL:https://www.fccminneapolis.org/event/book-club-2/
LOCATION:The Coffee Shop Northeast\, 2852A Johnson St NE\, Minneapolis\, MN\, 55418\, United States
CATEGORIES:Book Club,Fellowship
END:VEVENT
BEGIN:VEVENT
DTSTART;TZID=America/Chicago:20200115T140000
DTEND;TZID=America/Chicago:20200115T150000
DTSTAMP:20260425T211446
CREATED:20191029T183858Z
LAST-MODIFIED:20191226T154039Z
UID:10000195-1579096800-1579100400@www.fccminneapolis.org
SUMMARY:Mission & Outreach
DESCRIPTION:
URL:https://www.fccminneapolis.org/event/mission-outreach/2020-01-15/
CATEGORIES:FCC Meetings,Mission & Outreach
END:VEVENT
BEGIN:VEVENT
DTSTART;TZID=America/Chicago:20200115T183000
DTEND;TZID=America/Chicago:20200115T193000
DTSTAMP:20260425T211446
CREATED:20191029T163607Z
LAST-MODIFIED:20200414T131935Z
UID:10000068-1579113000-1579116600@www.fccminneapolis.org
SUMMARY:Handbell Rehearsal
DESCRIPTION:
URL:https://www.fccminneapolis.org/event/handbell-rehearsal/2020-01-15/
LOCATION:SHMC Lydia Meeting Room (Lower Level)\, 610 West 28th St\, Minneapolis\, MN\, 55408
CATEGORIES:Music,The Arts At First
END:VEVENT
BEGIN:VEVENT
DTSTART;TZID=America/Chicago:20200115T194500
DTEND;TZID=America/Chicago:20200115T210000
DTSTAMP:20260425T211446
CREATED:20191030T195656Z
LAST-MODIFIED:20200414T131659Z
UID:10000015-1579117500-1579122000@www.fccminneapolis.org
SUMMARY:Choir Rehearsal
DESCRIPTION:
URL:https://www.fccminneapolis.org/event/choir-rehearsal-2/2020-01-15/
LOCATION:SHMC North Sanctuary (Upper Level)
CATEGORIES:Music,The Arts At First
END:VEVENT
BEGIN:VEVENT
DTSTART;TZID=America/Chicago:20200118T093000
DTEND;TZID=America/Chicago:20200118T113000
DTSTAMP:20260425T211446
CREATED:20191226T194755Z
LAST-MODIFIED:20200414T132101Z
UID:10000132-1579339800-1579347000@www.fccminneapolis.org
SUMMARY:Downtown Coalition for Grief Support
DESCRIPTION:
URL:https://www.fccminneapolis.org/event/downtown-coalition-for-grief-support/2020-01-18/
LOCATION:SHMC Lower Level
CATEGORIES:Ecumenical,Grief Support
END:VEVENT
BEGIN:VEVENT
DTSTART;TZID=America/Chicago:20200119T103000
DTEND;TZID=America/Chicago:20200119T114500
DTSTAMP:20260425T211446
CREATED:20191226T181153Z
LAST-MODIFIED:20191226T181153Z
UID:10000361-1579429800-1579434300@www.fccminneapolis.org
SUMMARY:Sunday Worship - North Sanctuary
DESCRIPTION:
URL:https://www.fccminneapolis.org/event/sunday-worship-north-sanctuary-2/2020-01-19/
LOCATION:SHMC North Sanctuary (Upper Level)
CATEGORIES:Sunday Worship
END:VEVENT
END:VCALENDAR