BEGIN:VCALENDAR
VERSION:2.0
PRODID:-//First Christian Church (Disciples of Christ) - ECPv6.15.13//NONSGML v1.0//EN
CALSCALE:GREGORIAN
METHOD:PUBLISH
X-WR-CALNAME:First Christian Church (Disciples of Christ)
X-ORIGINAL-URL:https://www.fccminneapolis.org
X-WR-CALDESC:Events for First Christian Church (Disciples of Christ)
REFRESH-INTERVAL;VALUE=DURATION:PT1H
X-Robots-Tag:noindex
X-PUBLISHED-TTL:PT1H
BEGIN:VTIMEZONE
TZID:America/Chicago
BEGIN:DAYLIGHT
TZOFFSETFROM:-0600
TZOFFSETTO:-0500
TZNAME:CDT
DTSTART:20180311T080000
END:DAYLIGHT
BEGIN:STANDARD
TZOFFSETFROM:-0500
TZOFFSETTO:-0600
TZNAME:CST
DTSTART:20181104T070000
END:STANDARD
BEGIN:DAYLIGHT
TZOFFSETFROM:-0600
TZOFFSETTO:-0500
TZNAME:CDT
DTSTART:20190310T080000
END:DAYLIGHT
BEGIN:STANDARD
TZOFFSETFROM:-0500
TZOFFSETTO:-0600
TZNAME:CST
DTSTART:20191103T070000
END:STANDARD
BEGIN:DAYLIGHT
TZOFFSETFROM:-0600
TZOFFSETTO:-0500
TZNAME:CDT
DTSTART:20200308T080000
END:DAYLIGHT
BEGIN:STANDARD
TZOFFSETFROM:-0500
TZOFFSETTO:-0600
TZNAME:CST
DTSTART:20201101T070000
END:STANDARD
END:VTIMEZONE
BEGIN:VEVENT
DTSTART;TZID=America/Chicago:20191208T093000
DTEND;TZID=America/Chicago:20191208T101500
DTSTAMP:20260425T224145
CREATED:20191029T192106Z
LAST-MODIFIED:20191029T192106Z
UID:10000261-1575797400-1575800100@www.fccminneapolis.org
SUMMARY:SpringHouse Youth Group
DESCRIPTION:
URL:https://www.fccminneapolis.org/event/springhouse-youth-group/2019-12-08/
LOCATION:SHMC Micah Room (Lower Level)
CATEGORIES:Youth
END:VEVENT
BEGIN:VEVENT
DTSTART;TZID=America/Chicago:20191208T103000
DTEND;TZID=America/Chicago:20191208T114500
DTSTAMP:20260425T224145
CREATED:20191029T181743Z
LAST-MODIFIED:20191029T182005Z
UID:10000089-1575801000-1575805500@www.fccminneapolis.org
SUMMARY:Sunday Worship - North Sanctuary
DESCRIPTION:
URL:https://www.fccminneapolis.org/event/sunday-worship-north-sanctuary/2019-12-08/
LOCATION:SHMC North Sanctuary (Upper Level)
CATEGORIES:Sunday Worship
END:VEVENT
BEGIN:VEVENT
DTSTART;TZID=America/Chicago:20191208T114500
DTEND;TZID=America/Chicago:20191208T123000
DTSTAMP:20260425T224145
CREATED:20191029T181923Z
LAST-MODIFIED:20191029T192827Z
UID:10000116-1575805500-1575808200@www.fccminneapolis.org
SUMMARY:Post-Worship Fellowship
DESCRIPTION:
URL:https://www.fccminneapolis.org/event/post-worship-fellowship/2019-12-08/
LOCATION:SHMC Gathering Space (Upper Level)
CATEGORIES:Fellowship
END:VEVENT
BEGIN:VEVENT
DTSTART;TZID=America/Chicago:20191209T190000
DTEND;TZID=America/Chicago:20191209T210000
DTSTAMP:20260425T224145
CREATED:20191112T162235Z
LAST-MODIFIED:20191226T155645Z
UID:10000304-1575918000-1575925200@www.fccminneapolis.org
SUMMARY:SHMC Finance Committee
DESCRIPTION:
URL:https://www.fccminneapolis.org/event/shmc-finance-committee-2/2019-12-09/
LOCATION:SHMC Timothy Meeting Room (Lower Level)
CATEGORIES:SpringHouse Joint Ministries
END:VEVENT
BEGIN:VEVENT
DTSTART;TZID=America/Chicago:20191210T081500
DTEND;TZID=America/Chicago:20191210T090000
DTSTAMP:20260425T224145
CREATED:20191029T182903Z
LAST-MODIFIED:20191029T182903Z
UID:10000155-1575965700-1575968400@www.fccminneapolis.org
SUMMARY:SpringHouse Lectionary Study
DESCRIPTION:
URL:https://www.fccminneapolis.org/event/springhouse-lectionary-study/2019-12-10/
LOCATION:SHMC Timothy Meeting Room (Lower Level)
CATEGORIES:SpringHouse Joint Ministries,Studies
END:VEVENT
BEGIN:VEVENT
DTSTART;TZID=America/Chicago:20191211T173000
DTEND;TZID=America/Chicago:20191211T183000
DTSTAMP:20260425T224145
CREATED:20191130T141845Z
LAST-MODIFIED:20191130T141845Z
UID:10000328-1576085400-1576089000@www.fccminneapolis.org
SUMMARY:Holden Evening Prayer With Soup Supper
DESCRIPTION:
URL:https://www.fccminneapolis.org/event/holden-evening-prayer-with-soup-supper/2019-12-11/
LOCATION:SHMC Gathering Space and North Sanctuary
END:VEVENT
BEGIN:VEVENT
DTSTART;TZID=America/Chicago:20191211T183000
DTEND;TZID=America/Chicago:20191211T193000
DTSTAMP:20260425T224145
CREATED:20191029T163607Z
LAST-MODIFIED:20200414T131935Z
UID:10000063-1576089000-1576092600@www.fccminneapolis.org
SUMMARY:Handbell Rehearsal
DESCRIPTION:
URL:https://www.fccminneapolis.org/event/handbell-rehearsal/2019-12-11/
LOCATION:SHMC Lydia Meeting Room (Lower Level)\, 610 West 28th St\, Minneapolis\, MN\, 55408
CATEGORIES:Music,The Arts At First
END:VEVENT
BEGIN:VEVENT
DTSTART;TZID=America/Chicago:20191211T194500
DTEND;TZID=America/Chicago:20191211T210000
DTSTAMP:20260425T224145
CREATED:20191030T195656Z
LAST-MODIFIED:20200414T131659Z
UID:10000010-1576093500-1576098000@www.fccminneapolis.org
SUMMARY:Choir Rehearsal
DESCRIPTION:
URL:https://www.fccminneapolis.org/event/choir-rehearsal-2/2019-12-11/
LOCATION:SHMC North Sanctuary (Upper Level)
CATEGORIES:Music,The Arts At First
END:VEVENT
BEGIN:VEVENT
DTSTART;TZID=America/Chicago:20191212T183000
DTEND;TZID=America/Chicago:20191212T193000
DTSTAMP:20260425T224145
CREATED:20191029T184424Z
LAST-MODIFIED:20191226T154141Z
UID:10000122-1576175400-1576179000@www.fccminneapolis.org
SUMMARY:PRC - Pastor Laurie
DESCRIPTION:
URL:https://www.fccminneapolis.org/event/prc-pastor-laurie/2019-12-12/
LOCATION:SHMC Lydia Meeting Room (Lower Level)\, 610 West 28th St\, Minneapolis\, MN\, 55408
CATEGORIES:FCC Meetings
END:VEVENT
BEGIN:VEVENT
DTSTART;TZID=America/Chicago:20191214T150000
DTEND;TZID=America/Chicago:20191214T190000
DTSTAMP:20260425T224145
CREATED:20191029T185132Z
LAST-MODIFIED:20191203T201145Z
UID:10000252-1576335600-1576350000@www.fccminneapolis.org
SUMMARY:Aliveness Project Cookie Baking
DESCRIPTION:
URL:https://www.fccminneapolis.org/event/aliveness-project-cookie-baking/
LOCATION:SHMC Gathering Space & Kitchen (Upper Level)
CATEGORIES:Fellowship,Mission & Outreach
END:VEVENT
BEGIN:VEVENT
DTSTART;TZID=America/Chicago:20191215T103000
DTEND;TZID=America/Chicago:20191215T113000
DTSTAMP:20260425T224145
CREATED:20191029T182236Z
LAST-MODIFIED:20191029T182236Z
UID:10000027-1576405800-1576409400@www.fccminneapolis.org
SUMMARY:SpringHouse Joint Worship - Child Ministries
DESCRIPTION:
URL:https://www.fccminneapolis.org/event/springhouse-joint-worship-child-ministries/
LOCATION:SHMC South Sanctuary (Upper Level)
CATEGORIES:Child Ministries,SpringHouse Joint Ministries
END:VEVENT
BEGIN:VEVENT
DTSTART;TZID=America/Chicago:20191215T113000
DTEND;TZID=America/Chicago:20191215T130000
DTSTAMP:20260425T224145
CREATED:20191029T182326Z
LAST-MODIFIED:20191029T182326Z
UID:10000028-1576409400-1576414800@www.fccminneapolis.org
SUMMARY:SpringHouse Potluck
DESCRIPTION:
URL:https://www.fccminneapolis.org/event/springhouse-potluck/
LOCATION:SHMC Gathering Space (Upper Level)
END:VEVENT
BEGIN:VEVENT
DTSTART;TZID=America/Chicago:20191215T114500
DTEND;TZID=America/Chicago:20191215T123000
DTSTAMP:20260425T224145
CREATED:20191029T181923Z
LAST-MODIFIED:20191029T192827Z
UID:10000117-1576410300-1576413000@www.fccminneapolis.org
SUMMARY:Post-Worship Fellowship
DESCRIPTION:
URL:https://www.fccminneapolis.org/event/post-worship-fellowship/2019-12-15/
LOCATION:SHMC Gathering Space (Upper Level)
CATEGORIES:Fellowship
END:VEVENT
BEGIN:VEVENT
DTSTART;TZID=America/Chicago:20191216T190000
DTEND;TZID=America/Chicago:20191216T210000
DTSTAMP:20260425T224145
CREATED:20191112T162235Z
LAST-MODIFIED:20191226T155645Z
UID:10000305-1576522800-1576530000@www.fccminneapolis.org
SUMMARY:SHMC Finance Committee
DESCRIPTION:
URL:https://www.fccminneapolis.org/event/shmc-finance-committee-2/2019-12-16/
LOCATION:SHMC Timothy Meeting Room (Lower Level)
CATEGORIES:SpringHouse Joint Ministries
END:VEVENT
BEGIN:VEVENT
DTSTART;TZID=America/Chicago:20191217T081500
DTEND;TZID=America/Chicago:20191217T090000
DTSTAMP:20260425T224145
CREATED:20191029T182903Z
LAST-MODIFIED:20191029T182903Z
UID:10000156-1576570500-1576573200@www.fccminneapolis.org
SUMMARY:SpringHouse Lectionary Study
DESCRIPTION:
URL:https://www.fccminneapolis.org/event/springhouse-lectionary-study/2019-12-17/
LOCATION:SHMC Timothy Meeting Room (Lower Level)
CATEGORIES:SpringHouse Joint Ministries,Studies
END:VEVENT
BEGIN:VEVENT
DTSTART;TZID=America/Chicago:20191217T180000
DTEND;TZID=America/Chicago:20191217T190000
DTSTAMP:20260425T224145
CREATED:20191029T182437Z
LAST-MODIFIED:20200904T154614Z
UID:10000031-1576605600-1576609200@www.fccminneapolis.org
SUMMARY:Virtual FCC Worship Committee
DESCRIPTION:
URL:https://www.fccminneapolis.org/event/fcc-worship-committee/2019-12-17/
LOCATION:FCC Zoom Channel
CATEGORIES:FCC Meetings
END:VEVENT
BEGIN:VEVENT
DTSTART;TZID=America/Chicago:20191218T140000
DTEND;TZID=America/Chicago:20191218T150000
DTSTAMP:20260425T224145
CREATED:20191029T183858Z
LAST-MODIFIED:20191226T154039Z
UID:10000194-1576677600-1576681200@www.fccminneapolis.org
SUMMARY:Mission & Outreach
DESCRIPTION:
URL:https://www.fccminneapolis.org/event/mission-outreach/2019-12-18/
CATEGORIES:FCC Meetings,Mission & Outreach
END:VEVENT
BEGIN:VEVENT
DTSTART;TZID=America/Chicago:20191218T180000
DTEND;TZID=America/Chicago:20191218T183000
DTSTAMP:20260425T224145
CREATED:20191130T141919Z
LAST-MODIFIED:20191130T141919Z
UID:10000329-1576692000-1576693800@www.fccminneapolis.org
SUMMARY:Holden Evening Prayer
DESCRIPTION:
URL:https://www.fccminneapolis.org/event/holden-evening-prayer/
END:VEVENT
BEGIN:VEVENT
DTSTART;TZID=America/Chicago:20191218T183000
DTEND;TZID=America/Chicago:20191218T193000
DTSTAMP:20260425T224145
CREATED:20191029T163607Z
LAST-MODIFIED:20200414T131935Z
UID:10000064-1576693800-1576697400@www.fccminneapolis.org
SUMMARY:Handbell Rehearsal
DESCRIPTION:
URL:https://www.fccminneapolis.org/event/handbell-rehearsal/2019-12-18/
LOCATION:SHMC Lydia Meeting Room (Lower Level)\, 610 West 28th St\, Minneapolis\, MN\, 55408
CATEGORIES:Music,The Arts At First
END:VEVENT
BEGIN:VEVENT
DTSTART;TZID=America/Chicago:20191218T194500
DTEND;TZID=America/Chicago:20191218T210000
DTSTAMP:20260425T224145
CREATED:20191030T195656Z
LAST-MODIFIED:20200414T131659Z
UID:10000011-1576698300-1576702800@www.fccminneapolis.org
SUMMARY:Choir Rehearsal
DESCRIPTION:
URL:https://www.fccminneapolis.org/event/choir-rehearsal-2/2019-12-18/
LOCATION:SHMC North Sanctuary (Upper Level)
CATEGORIES:Music,The Arts At First
END:VEVENT
BEGIN:VEVENT
DTSTART;TZID=America/Chicago:20191221T110000
DTEND;TZID=America/Chicago:20191221T120000
DTSTAMP:20260425T224145
CREATED:20191203T183617Z
LAST-MODIFIED:20191203T183617Z
UID:10000330-1576926000-1576929600@www.fccminneapolis.org
SUMMARY:Blue Christmas Service
DESCRIPTION:
URL:https://www.fccminneapolis.org/event/blue-christmas-service/
LOCATION:SHMC North Sanctuary (Upper Level)
CATEGORIES:Special Worship
END:VEVENT
BEGIN:VEVENT
DTSTART;TZID=America/Chicago:20191222T091500
DTEND;TZID=America/Chicago:20191222T101500
DTSTAMP:20260425T224145
CREATED:20191029T192232Z
LAST-MODIFIED:20191030T195409Z
UID:10000098-1577006100-1577009700@www.fccminneapolis.org
SUMMARY:Godly Play Children's Sunday School
DESCRIPTION:
URL:https://www.fccminneapolis.org/event/godly-play-childrens-sunday-school/2019-12-22/
LOCATION:SHMC Squiggle Space (Lower Level)
CATEGORIES:Child Ministries,SpringHouse Joint Ministries
END:VEVENT
BEGIN:VEVENT
DTSTART;TZID=America/Chicago:20191222T093000
DTEND;TZID=America/Chicago:20191222T101500
DTSTAMP:20260425T224145
CREATED:20191029T192106Z
LAST-MODIFIED:20191029T192106Z
UID:10000262-1577007000-1577009700@www.fccminneapolis.org
SUMMARY:SpringHouse Youth Group
DESCRIPTION:
URL:https://www.fccminneapolis.org/event/springhouse-youth-group/2019-12-22/
LOCATION:SHMC Micah Room (Lower Level)
CATEGORIES:Youth
END:VEVENT
BEGIN:VEVENT
DTSTART;TZID=America/Chicago:20191222T103000
DTEND;TZID=America/Chicago:20191222T114500
DTSTAMP:20260425T224145
CREATED:20191029T181743Z
LAST-MODIFIED:20191029T182005Z
UID:10000090-1577010600-1577015100@www.fccminneapolis.org
SUMMARY:Sunday Worship - North Sanctuary
DESCRIPTION:
URL:https://www.fccminneapolis.org/event/sunday-worship-north-sanctuary/2019-12-22/
LOCATION:SHMC North Sanctuary (Upper Level)
CATEGORIES:Sunday Worship
END:VEVENT
BEGIN:VEVENT
DTSTART;TZID=America/Chicago:20191222T114500
DTEND;TZID=America/Chicago:20191222T123000
DTSTAMP:20260425T224145
CREATED:20191029T181923Z
LAST-MODIFIED:20191029T192827Z
UID:10000118-1577015100-1577017800@www.fccminneapolis.org
SUMMARY:Post-Worship Fellowship
DESCRIPTION:
URL:https://www.fccminneapolis.org/event/post-worship-fellowship/2019-12-22/
LOCATION:SHMC Gathering Space (Upper Level)
CATEGORIES:Fellowship
END:VEVENT
BEGIN:VEVENT
DTSTART;VALUE=DATE:20191224
DTEND;VALUE=DATE:20191225
DTSTAMP:20260425T224145
CREATED:20191112T162001Z
LAST-MODIFIED:20191112T162001Z
UID:10000005-1577145600-1577231999@www.fccminneapolis.org
SUMMARY:CHRISTMAS EVE
DESCRIPTION:
URL:https://www.fccminneapolis.org/event/christmas-eve/
END:VEVENT
BEGIN:VEVENT
DTSTART;VALUE=DATE:20191225
DTEND;VALUE=DATE:20191226
DTSTAMP:20260425T224145
CREATED:20191112T162019Z
LAST-MODIFIED:20191112T162019Z
UID:10000264-1577232000-1577318399@www.fccminneapolis.org
SUMMARY:CHRISTMAS DAY
DESCRIPTION:
URL:https://www.fccminneapolis.org/event/christmas-day/
END:VEVENT
BEGIN:VEVENT
DTSTART;TZID=America/Chicago:20191225T183000
DTEND;TZID=America/Chicago:20191225T193000
DTSTAMP:20260425T224145
CREATED:20191029T163607Z
LAST-MODIFIED:20200414T131935Z
UID:10000065-1577298600-1577302200@www.fccminneapolis.org
SUMMARY:Handbell Rehearsal
DESCRIPTION:
URL:https://www.fccminneapolis.org/event/handbell-rehearsal/2019-12-25/
LOCATION:SHMC Lydia Meeting Room (Lower Level)\, 610 West 28th St\, Minneapolis\, MN\, 55408
CATEGORIES:Music,The Arts At First
END:VEVENT
BEGIN:VEVENT
DTSTART;TZID=America/Chicago:20191225T194500
DTEND;TZID=America/Chicago:20191225T210000
DTSTAMP:20260425T224145
CREATED:20191030T195656Z
LAST-MODIFIED:20200414T131659Z
UID:10000012-1577303100-1577307600@www.fccminneapolis.org
SUMMARY:Choir Rehearsal
DESCRIPTION:
URL:https://www.fccminneapolis.org/event/choir-rehearsal-2/2019-12-25/
LOCATION:SHMC North Sanctuary (Upper Level)
CATEGORIES:Music,The Arts At First
END:VEVENT
BEGIN:VEVENT
DTSTART;TZID=America/Chicago:20191229T091500
DTEND;TZID=America/Chicago:20191229T101500
DTSTAMP:20260425T224145
CREATED:20191029T192232Z
LAST-MODIFIED:20191030T195409Z
UID:10000099-1577610900-1577614500@www.fccminneapolis.org
SUMMARY:Godly Play Children's Sunday School
DESCRIPTION:
URL:https://www.fccminneapolis.org/event/godly-play-childrens-sunday-school/2019-12-29/
LOCATION:SHMC Squiggle Space (Lower Level)
CATEGORIES:Child Ministries,SpringHouse Joint Ministries
END:VEVENT
END:VCALENDAR