BEGIN:VCALENDAR
VERSION:2.0
PRODID:-//First Christian Church (Disciples of Christ) - ECPv6.15.13//NONSGML v1.0//EN
CALSCALE:GREGORIAN
METHOD:PUBLISH
X-WR-CALNAME:First Christian Church (Disciples of Christ)
X-ORIGINAL-URL:https://www.fccminneapolis.org
X-WR-CALDESC:Events for First Christian Church (Disciples of Christ)
REFRESH-INTERVAL;VALUE=DURATION:PT1H
X-Robots-Tag:noindex
X-PUBLISHED-TTL:PT1H
BEGIN:VTIMEZONE
TZID:America/Chicago
BEGIN:DAYLIGHT
TZOFFSETFROM:-0600
TZOFFSETTO:-0500
TZNAME:CDT
DTSTART:20250309T080000
END:DAYLIGHT
BEGIN:STANDARD
TZOFFSETFROM:-0500
TZOFFSETTO:-0600
TZNAME:CST
DTSTART:20251102T070000
END:STANDARD
BEGIN:DAYLIGHT
TZOFFSETFROM:-0600
TZOFFSETTO:-0500
TZNAME:CDT
DTSTART:20260308T080000
END:DAYLIGHT
BEGIN:STANDARD
TZOFFSETFROM:-0500
TZOFFSETTO:-0600
TZNAME:CST
DTSTART:20261101T070000
END:STANDARD
BEGIN:DAYLIGHT
TZOFFSETFROM:-0600
TZOFFSETTO:-0500
TZNAME:CDT
DTSTART:20270314T080000
END:DAYLIGHT
BEGIN:STANDARD
TZOFFSETFROM:-0500
TZOFFSETTO:-0600
TZNAME:CST
DTSTART:20271107T070000
END:STANDARD
END:VTIMEZONE
BEGIN:VEVENT
DTSTART;TZID=America/Chicago:20260107T090000
DTEND;TZID=America/Chicago:20260107T100000
DTSTAMP:20260425T221600
CREATED:20250930T182954Z
LAST-MODIFIED:20250930T182954Z
UID:10005947-1767776400-1767780000@www.fccminneapolis.org
SUMMARY:Coffee Hour with Community
DESCRIPTION:https://us02web.zoom.us/j/81318971740 \nMEETING ID: 813 1897 1740
URL:https://www.fccminneapolis.org/event/coffee-hour-with-community-3-2/2026-01-07/
LOCATION:FCC Zoom Channel
CATEGORIES:FCC Meetings
END:VEVENT
BEGIN:VEVENT
DTSTART;TZID=America/Chicago:20260107T190000
DTEND;TZID=America/Chicago:20260107T200000
DTSTAMP:20260425T221600
CREATED:20251230T182814Z
LAST-MODIFIED:20260301T232414Z
UID:10007444-1767812400-1767816000@www.fccminneapolis.org
SUMMARY:Elders
DESCRIPTION:
URL:https://www.fccminneapolis.org/event/elders-3-2-2/2026-01-07/
LOCATION:FCC Zoom Channel
CATEGORIES:FCC Meetings
END:VEVENT
BEGIN:VEVENT
DTSTART;TZID=America/Chicago:20260108T133000
DTEND;TZID=America/Chicago:20260108T153000
DTSTAMP:20260425T221600
CREATED:20251113T184555Z
LAST-MODIFIED:20251113T184555Z
UID:10005838-1767879000-1767886200@www.fccminneapolis.org
SUMMARY:SHMC Clergy Meeting
DESCRIPTION:
URL:https://www.fccminneapolis.org/event/shmc-clergy-meeting-2/
LOCATION:SHMC Esther Meeting Space (Lower Level)
END:VEVENT
BEGIN:VEVENT
DTSTART;TZID=America/Chicago:20260108T190000
DTEND;TZID=America/Chicago:20260108T200000
DTSTAMP:20260425T221600
CREATED:20260106T174328Z
LAST-MODIFIED:20260106T174328Z
UID:10007025-1767898800-1767902400@www.fccminneapolis.org
SUMMARY:Pr. Dan's PRC
DESCRIPTION:
URL:https://www.fccminneapolis.org/event/pr-dans-prc-2-2-2/2026-01-08/
END:VEVENT
BEGIN:VEVENT
DTSTART;TZID=America/Chicago:20260110T090000
DTEND;TZID=America/Chicago:20260110T100000
DTSTAMP:20260425T221600
CREATED:20250930T181740Z
LAST-MODIFIED:20250930T182917Z
UID:10006207-1768035600-1768039200@www.fccminneapolis.org
SUMMARY:The Breakfast Club
DESCRIPTION:https://us02web.zoom.us/j/81318971740 \nMEETING ID: 813 1897 1740
URL:https://www.fccminneapolis.org/event/coffee-hour-with-community-2-2/2026-01-10/
LOCATION:FCC LiveStream Channel
END:VEVENT
BEGIN:VEVENT
DTSTART;TZID=America/Chicago:20260110T130000
DTEND;TZID=America/Chicago:20260110T150000
DTSTAMP:20260425T221600
CREATED:20251223T184024Z
LAST-MODIFIED:20251230T191712Z
UID:10007263-1768050000-1768057200@www.fccminneapolis.org
SUMMARY:Women's Brunch
DESCRIPTION:RSVP by January 5th!
URL:https://www.fccminneapolis.org/event/womens-brunch-2/
LOCATION:Heathers\, 5201 Chicago Avenue\, Minneapolis\, MN\, United States
END:VEVENT
BEGIN:VEVENT
DTSTART;TZID=America/Chicago:20260112T170000
DTEND;TZID=America/Chicago:20260112T183000
DTSTAMP:20260425T221600
CREATED:20251230T183152Z
LAST-MODIFIED:20251230T183152Z
UID:10007574-1768237200-1768242600@www.fccminneapolis.org
SUMMARY:SHMC Building Committee
DESCRIPTION:
URL:https://www.fccminneapolis.org/event/shmc-building-committee-5-2/2026-01-12/
LOCATION:Online
CATEGORIES:SpringHouse Joint Ministries
END:VEVENT
BEGIN:VEVENT
DTSTART;TZID=America/Chicago:20260112T190000
DTEND;TZID=America/Chicago:20260112T210000
DTSTAMP:20260425T221600
CREATED:20251230T183339Z
LAST-MODIFIED:20251230T183441Z
UID:10007634-1768244400-1768251600@www.fccminneapolis.org
SUMMARY:SHMC Finance Committee
DESCRIPTION:
URL:https://www.fccminneapolis.org/event/shmc-finance-committee-4-2/2026-01-12/
LOCATION:Online
CATEGORIES:SpringHouse Joint Ministries
END:VEVENT
BEGIN:VEVENT
DTSTART;TZID=America/Chicago:20260114T090000
DTEND;TZID=America/Chicago:20260114T100000
DTSTAMP:20260425T221600
CREATED:20250930T182954Z
LAST-MODIFIED:20250930T182954Z
UID:10005948-1768381200-1768384800@www.fccminneapolis.org
SUMMARY:Coffee Hour with Community
DESCRIPTION:https://us02web.zoom.us/j/81318971740 \nMEETING ID: 813 1897 1740
URL:https://www.fccminneapolis.org/event/coffee-hour-with-community-3-2/2026-01-14/
LOCATION:FCC Zoom Channel
CATEGORIES:FCC Meetings
END:VEVENT
BEGIN:VEVENT
DTSTART;TZID=America/Chicago:20260114T123000
DTEND;TZID=America/Chicago:20260114T133000
DTSTAMP:20260425T221600
CREATED:20260121T011547Z
LAST-MODIFIED:20260121T011547Z
UID:10007763-1768393800-1768397400@www.fccminneapolis.org
SUMMARY:Finance Committee
DESCRIPTION:
URL:https://www.fccminneapolis.org/event/finance-committee-4-2/2026-01-14/
LOCATION:FCC Zoom Channel
CATEGORIES:FCC Meetings
END:VEVENT
BEGIN:VEVENT
DTSTART;TZID=America/Chicago:20260115T190000
DTEND;TZID=America/Chicago:20260115T200000
DTSTAMP:20260425T221600
CREATED:20250807T174950Z
LAST-MODIFIED:20250807T174950Z
UID:10005908-1768503600-1768507200@www.fccminneapolis.org
SUMMARY:FCC and Friends Book Club
DESCRIPTION:The Prime of Miss Jean Brodie by Muriel Spark
URL:https://www.fccminneapolis.org/event/fcc-and-friends-book-club-5/
LOCATION:FCC Zoom Channel
END:VEVENT
BEGIN:VEVENT
DTSTART;TZID=America/Chicago:20260117T090000
DTEND;TZID=America/Chicago:20260117T100000
DTSTAMP:20260425T221600
CREATED:20250930T181740Z
LAST-MODIFIED:20250930T182917Z
UID:10006208-1768640400-1768644000@www.fccminneapolis.org
SUMMARY:The Breakfast Club
DESCRIPTION:https://us02web.zoom.us/j/81318971740 \nMEETING ID: 813 1897 1740
URL:https://www.fccminneapolis.org/event/coffee-hour-with-community-2-2/2026-01-17/
LOCATION:FCC LiveStream Channel
END:VEVENT
BEGIN:VEVENT
DTSTART;TZID=America/Chicago:20260120T190000
DTEND;TZID=America/Chicago:20260120T203000
DTSTAMP:20260425T221600
CREATED:20251015T130514Z
LAST-MODIFIED:20260121T022839Z
UID:10007324-1768935600-1768941000@www.fccminneapolis.org
SUMMARY:FCC Board Meeting
DESCRIPTION:
URL:https://www.fccminneapolis.org/event/fcc-board-meeting-4/2026-01-20/
LOCATION:FCC Zoom Channel
END:VEVENT
BEGIN:VEVENT
DTSTART;TZID=America/Chicago:20260121T090000
DTEND;TZID=America/Chicago:20260121T100000
DTSTAMP:20260425T221600
CREATED:20250930T182954Z
LAST-MODIFIED:20250930T182954Z
UID:10005949-1768986000-1768989600@www.fccminneapolis.org
SUMMARY:Coffee Hour with Community
DESCRIPTION:https://us02web.zoom.us/j/81318971740 \nMEETING ID: 813 1897 1740
URL:https://www.fccminneapolis.org/event/coffee-hour-with-community-3-2/2026-01-21/
LOCATION:FCC Zoom Channel
CATEGORIES:FCC Meetings
END:VEVENT
BEGIN:VEVENT
DTSTART;TZID=America/Chicago:20260124T090000
DTEND;TZID=America/Chicago:20260124T100000
DTSTAMP:20260425T221600
CREATED:20250930T181740Z
LAST-MODIFIED:20250930T182917Z
UID:10006209-1769245200-1769248800@www.fccminneapolis.org
SUMMARY:The Breakfast Club
DESCRIPTION:https://us02web.zoom.us/j/81318971740 \nMEETING ID: 813 1897 1740
URL:https://www.fccminneapolis.org/event/coffee-hour-with-community-2-2/2026-01-24/
LOCATION:FCC LiveStream Channel
END:VEVENT
BEGIN:VEVENT
DTSTART;TZID=America/Chicago:20260126T190000
DTEND;TZID=America/Chicago:20260126T193000
DTSTAMP:20260425T221600
CREATED:20250529T151052Z
LAST-MODIFIED:20251230T182345Z
UID:10007384-1769454000-1769455800@www.fccminneapolis.org
SUMMARY:Worship Committee
DESCRIPTION:
URL:https://www.fccminneapolis.org/event/worship-committee-3/2026-01-26/
LOCATION:FCC Zoom Channel
END:VEVENT
BEGIN:VEVENT
DTSTART;TZID=America/Chicago:20260126T190000
DTEND;TZID=America/Chicago:20260126T200000
DTSTAMP:20260425T221600
CREATED:20260126T000143Z
LAST-MODIFIED:20260126T000351Z
UID:10007841-1769454000-1769457600@www.fccminneapolis.org
SUMMARY:Search Committee Small Groups - online
DESCRIPTION:
URL:https://www.fccminneapolis.org/event/search-committee-small-groups-online/2026-01-26/
LOCATION:FCC Zoom Channel
CATEGORIES:FCC Meetings
END:VEVENT
BEGIN:VEVENT
DTSTART;TZID=America/Chicago:20260127T130000
DTEND;TZID=America/Chicago:20260127T140000
DTSTAMP:20260425T221600
CREATED:20260127T201219Z
LAST-MODIFIED:20260127T201220Z
UID:10007264-1769518800-1769522400@www.fccminneapolis.org
SUMMARY:Mission & Outreach
DESCRIPTION:
URL:https://www.fccminneapolis.org/event/mission-outreach-4-2-2-2-2/2026-01-27/
LOCATION:FCC Zoom Channel
CATEGORIES:FCC Meetings,Mission & Outreach
END:VEVENT
BEGIN:VEVENT
DTSTART;TZID=America/Chicago:20260128T090000
DTEND;TZID=America/Chicago:20260128T100000
DTSTAMP:20260425T221600
CREATED:20250930T182954Z
LAST-MODIFIED:20250930T182954Z
UID:10005950-1769590800-1769594400@www.fccminneapolis.org
SUMMARY:Coffee Hour with Community
DESCRIPTION:https://us02web.zoom.us/j/81318971740 \nMEETING ID: 813 1897 1740
URL:https://www.fccminneapolis.org/event/coffee-hour-with-community-3-2/2026-01-28/
LOCATION:FCC Zoom Channel
CATEGORIES:FCC Meetings
END:VEVENT
BEGIN:VEVENT
DTSTART;TZID=America/Chicago:20260131T090000
DTEND;TZID=America/Chicago:20260131T100000
DTSTAMP:20260425T221600
CREATED:20250930T181740Z
LAST-MODIFIED:20250930T182917Z
UID:10006210-1769850000-1769853600@www.fccminneapolis.org
SUMMARY:The Breakfast Club
DESCRIPTION:https://us02web.zoom.us/j/81318971740 \nMEETING ID: 813 1897 1740
URL:https://www.fccminneapolis.org/event/coffee-hour-with-community-2-2/2026-01-31/
LOCATION:FCC LiveStream Channel
END:VEVENT
BEGIN:VEVENT
DTSTART;TZID=America/Chicago:20260131T100000
DTEND;TZID=America/Chicago:20260131T110000
DTSTAMP:20260425T221600
CREATED:20260126T000143Z
LAST-MODIFIED:20260126T000351Z
UID:10007842-1769853600-1769857200@www.fccminneapolis.org
SUMMARY:Search Committee Small Groups - online
DESCRIPTION:
URL:https://www.fccminneapolis.org/event/search-committee-small-groups-online/2026-01-31/
LOCATION:FCC Zoom Channel
CATEGORIES:FCC Meetings
END:VEVENT
BEGIN:VEVENT
DTSTART;TZID=America/Chicago:20260201T120000
DTEND;TZID=America/Chicago:20260201T130000
DTSTAMP:20260425T221600
CREATED:20260126T000315Z
LAST-MODIFIED:20260126T000315Z
UID:10007843-1769947200-1769950800@www.fccminneapolis.org
SUMMARY:Search Committee Small Groups - onsite
DESCRIPTION:
URL:https://www.fccminneapolis.org/event/search-committee-small-groups-onsite/
LOCATION:SHMC Lower Level
CATEGORIES:FCC Meetings
END:VEVENT
BEGIN:VEVENT
DTSTART;TZID=America/Chicago:20260202T190000
DTEND;TZID=America/Chicago:20260202T200000
DTSTAMP:20260425T221600
CREATED:20251230T182526Z
LAST-MODIFIED:20251230T183554Z
UID:10007695-1770058800-1770062400@www.fccminneapolis.org
SUMMARY:Women's Fellowship
DESCRIPTION:FCC’s Women’s Fellowship meets on Zoom the first Monday of each month. All members and friends of FCC are welcome to join us. Contact Kathy H. for a Zoom link.
URL:https://www.fccminneapolis.org/event/womens-fellowship-8-2-2-2-2-2/2026-02-02/
CATEGORIES:Fellowship,Women's Fellowship
END:VEVENT
BEGIN:VEVENT
DTSTART;TZID=America/Chicago:20260202T190000
DTEND;TZID=America/Chicago:20260202T200000
DTSTAMP:20260425T221600
CREATED:20260126T000143Z
LAST-MODIFIED:20260126T000351Z
UID:10007844-1770058800-1770062400@www.fccminneapolis.org
SUMMARY:Search Committee Small Groups - online
DESCRIPTION:
URL:https://www.fccminneapolis.org/event/search-committee-small-groups-online/2026-02-02/
LOCATION:FCC Zoom Channel
CATEGORIES:FCC Meetings
END:VEVENT
BEGIN:VEVENT
DTSTART;TZID=America/Chicago:20260204T090000
DTEND;TZID=America/Chicago:20260204T100000
DTSTAMP:20260425T221600
CREATED:20250930T182954Z
LAST-MODIFIED:20250930T182954Z
UID:10005951-1770195600-1770199200@www.fccminneapolis.org
SUMMARY:Coffee Hour with Community
DESCRIPTION:https://us02web.zoom.us/j/81318971740 \nMEETING ID: 813 1897 1740
URL:https://www.fccminneapolis.org/event/coffee-hour-with-community-3-2/2026-02-04/
LOCATION:FCC Zoom Channel
CATEGORIES:FCC Meetings
END:VEVENT
BEGIN:VEVENT
DTSTART;TZID=America/Chicago:20260204T190000
DTEND;TZID=America/Chicago:20260204T200000
DTSTAMP:20260425T221600
CREATED:20251230T182814Z
LAST-MODIFIED:20260301T232414Z
UID:10007445-1770231600-1770235200@www.fccminneapolis.org
SUMMARY:Elders
DESCRIPTION:
URL:https://www.fccminneapolis.org/event/elders-3-2-2/2026-02-04/
LOCATION:FCC Zoom Channel
CATEGORIES:FCC Meetings
END:VEVENT
BEGIN:VEVENT
DTSTART;TZID=America/Chicago:20260205T133000
DTEND;TZID=America/Chicago:20260205T153000
DTSTAMP:20260425T221600
CREATED:20260131T135508Z
LAST-MODIFIED:20260131T135508Z
UID:10007049-1770298200-1770305400@www.fccminneapolis.org
SUMMARY:SHMC Clergy Meeting
DESCRIPTION:
URL:https://www.fccminneapolis.org/event/shmc-clergy-meeting-2-2/
LOCATION:SHMC Esther Meeting Space (Lower Level)
END:VEVENT
BEGIN:VEVENT
DTSTART;TZID=America/Chicago:20260207T090000
DTEND;TZID=America/Chicago:20260207T100000
DTSTAMP:20260425T221600
CREATED:20250930T181740Z
LAST-MODIFIED:20250930T182917Z
UID:10006211-1770454800-1770458400@www.fccminneapolis.org
SUMMARY:The Breakfast Club
DESCRIPTION:https://us02web.zoom.us/j/81318971740 \nMEETING ID: 813 1897 1740
URL:https://www.fccminneapolis.org/event/coffee-hour-with-community-2-2/2026-02-07/
LOCATION:FCC LiveStream Channel
END:VEVENT
BEGIN:VEVENT
DTSTART;TZID=America/Chicago:20260208T140000
DTEND;TZID=America/Chicago:20260208T153000
DTSTAMP:20260425T221600
CREATED:20260208T211721Z
LAST-MODIFIED:20260208T211721Z
UID:10008023-1770559200-1770564600@www.fccminneapolis.org
SUMMARY:SpringHouse Board Meeting
DESCRIPTION:
URL:https://www.fccminneapolis.org/event/springhouse-board-meeting-4/2026-02-08/
CATEGORIES:SpringHouse Joint Ministries
END:VEVENT
BEGIN:VEVENT
DTSTART;TZID=America/Chicago:20260209T170000
DTEND;TZID=America/Chicago:20260209T183000
DTSTAMP:20260425T221600
CREATED:20251230T183152Z
LAST-MODIFIED:20251230T183152Z
UID:10007575-1770656400-1770661800@www.fccminneapolis.org
SUMMARY:SHMC Building Committee
DESCRIPTION:
URL:https://www.fccminneapolis.org/event/shmc-building-committee-5-2/2026-02-09/
LOCATION:Online
CATEGORIES:SpringHouse Joint Ministries
END:VEVENT
END:VCALENDAR