BEGIN:VCALENDAR
VERSION:2.0
PRODID:-//First Christian Church (Disciples of Christ) - ECPv6.15.13//NONSGML v1.0//EN
CALSCALE:GREGORIAN
METHOD:PUBLISH
X-WR-CALNAME:First Christian Church (Disciples of Christ)
X-ORIGINAL-URL:https://www.fccminneapolis.org
X-WR-CALDESC:Events for First Christian Church (Disciples of Christ)
REFRESH-INTERVAL;VALUE=DURATION:PT1H
X-Robots-Tag:noindex
X-PUBLISHED-TTL:PT1H
BEGIN:VTIMEZONE
TZID:America/Chicago
BEGIN:DAYLIGHT
TZOFFSETFROM:-0600
TZOFFSETTO:-0500
TZNAME:CDT
DTSTART:20180311T080000
END:DAYLIGHT
BEGIN:STANDARD
TZOFFSETFROM:-0500
TZOFFSETTO:-0600
TZNAME:CST
DTSTART:20181104T070000
END:STANDARD
BEGIN:DAYLIGHT
TZOFFSETFROM:-0600
TZOFFSETTO:-0500
TZNAME:CDT
DTSTART:20190310T080000
END:DAYLIGHT
BEGIN:STANDARD
TZOFFSETFROM:-0500
TZOFFSETTO:-0600
TZNAME:CST
DTSTART:20191103T070000
END:STANDARD
BEGIN:DAYLIGHT
TZOFFSETFROM:-0600
TZOFFSETTO:-0500
TZNAME:CDT
DTSTART:20200308T080000
END:DAYLIGHT
BEGIN:STANDARD
TZOFFSETFROM:-0500
TZOFFSETTO:-0600
TZNAME:CST
DTSTART:20201101T070000
END:STANDARD
END:VTIMEZONE
BEGIN:VEVENT
DTSTART;TZID=America/Chicago:20191027T103000
DTEND;TZID=America/Chicago:20191027T140000
DTSTAMP:20260425T104027
CREATED:20191022T153707Z
LAST-MODIFIED:20191028T001545Z
UID:10000055-1572172200-1572184800@www.fccminneapolis.org
SUMMARY:Rev. Dr. Rick Lowery - Guest Preacher and Presenter Sunday Oct. 27
DESCRIPTION:This Sunday will be our final guest speaker and presenter\, Rev. Dr. Rick Lowery. Rev. Dr. Lowery will preach in our 10:30 am worship service and then following a chili lunch\, will do a presentation on Disciples History. There will also be a display of items from our FCC archives. \nAbout Rev. Dr. Lowery: \nRichard H. Lowery is President of the Disciples of Christ Historical Society and Adjunct Professor at Lexington Theological Seminary. He earned the M.Div. and Ph.D. degrees from Yale University and his bachelor’s degree from the University of Tennessee\, where he was inducted into Phi Beta Kappa. He is an ordained Disciples of Christ minister. Rick taught most of his career at Phillips Theological Seminary in Oklahoma and served as dean of Lexington Theological Seminary in Kentucky. He has written and collaborated on several books\, including Sabbath and Jubilee and Chalice Introduction to the Old Testament. With Bishop William Barber II and the Rev. Dr. Liz Theoharris\, he is co-author of Revive Us Again: Vision and Action in Moral Organizing from Beacon Press. He is co-editor of Seeking God’s Design: Disciples Quest for Unity and Wholeness (Chalice Press\, 2019). He has lectured and preached at church gatherings in the US and abroad and served on various Disciples and ecumenical commissions and committees\, including the executive committee of the World Council of Churches Faith and Order Commission. Rick is married to the Rev. Dr. Sharon Watkins\, who served 12 years as general minister and president of the Christian Church (Disciples of Christ) in the US and Canada and currently is directing a special project toward ending racism for the National Council of Churches. They live in Bethany\, WV.
URL:https://www.fccminneapolis.org/event/rev-dr-rick-lowery-guest-preacher-and-presenter-sunday-oct-27/
ATTACH;FMTTYPE=image/jpeg:https://www.fccminneapolis.org/wp-content/uploads/2019/07/Rick-Lowery-pic.jpg
END:VEVENT
BEGIN:VEVENT
DTSTART;TZID=America/Chicago:20191030T183000
DTEND;TZID=America/Chicago:20191030T193000
DTSTAMP:20260425T104027
CREATED:20191029T163607Z
LAST-MODIFIED:20200414T131935Z
UID:10000057-1572460200-1572463800@www.fccminneapolis.org
SUMMARY:Handbell Rehearsal
DESCRIPTION:
URL:https://www.fccminneapolis.org/event/handbell-rehearsal/2019-10-30/
LOCATION:SHMC Lydia Meeting Room (Lower Level)\, 610 West 28th St\, Minneapolis\, MN\, 55408
CATEGORIES:Music,The Arts At First
END:VEVENT
BEGIN:VEVENT
DTSTART;TZID=America/Chicago:20191030T194500
DTEND;TZID=America/Chicago:20191030T210000
DTSTAMP:20260425T104027
CREATED:20191029T181008Z
LAST-MODIFIED:20191030T195909Z
UID:10000080-1572464700-1572469200@www.fccminneapolis.org
SUMMARY:Choir Rehearsal
DESCRIPTION:
URL:https://www.fccminneapolis.org/event/choir-rehearsal/2019-10-30/
LOCATION:SHMC South Sanctuary (Upper Level)
CATEGORIES:Music,The Arts At First
END:VEVENT
BEGIN:VEVENT
DTSTART;TZID=America/Chicago:20191103T091500
DTEND;TZID=America/Chicago:20191103T101500
DTSTAMP:20260425T104027
CREATED:20191029T192232Z
LAST-MODIFIED:20191030T195409Z
UID:10000092-1572772500-1572776100@www.fccminneapolis.org
SUMMARY:Godly Play Children's Sunday School
DESCRIPTION:
URL:https://www.fccminneapolis.org/event/godly-play-childrens-sunday-school/2019-11-03/
LOCATION:SHMC Squiggle Space (Lower Level)
CATEGORIES:Child Ministries,SpringHouse Joint Ministries
END:VEVENT
BEGIN:VEVENT
DTSTART;TZID=America/Chicago:20191103T091500
DTEND;TZID=America/Chicago:20191103T101500
DTSTAMP:20260425T104027
CREATED:20191029T183536Z
LAST-MODIFIED:20191029T183536Z
UID:10000161-1572772500-1572776100@www.fccminneapolis.org
SUMMARY:Intergenerational Sunday School - All Saints
DESCRIPTION:
URL:https://www.fccminneapolis.org/event/intergenerational-sunday-school-all-saints/
LOCATION:SHMC Gathering Space (Upper Level)
CATEGORIES:Adult Education,Child Ministries,SpringHouse Joint Ministries
END:VEVENT
BEGIN:VEVENT
DTSTART;TZID=America/Chicago:20191103T093000
DTEND;TZID=America/Chicago:20191103T101500
DTSTAMP:20260425T104027
CREATED:20191029T192106Z
LAST-MODIFIED:20191029T192106Z
UID:10000256-1572773400-1572776100@www.fccminneapolis.org
SUMMARY:SpringHouse Youth Group
DESCRIPTION:
URL:https://www.fccminneapolis.org/event/springhouse-youth-group/2019-11-03/
LOCATION:SHMC Micah Room (Lower Level)
CATEGORIES:Youth
END:VEVENT
BEGIN:VEVENT
DTSTART;TZID=America/Chicago:20191103T103000
DTEND;TZID=America/Chicago:20191103T114500
DTSTAMP:20260425T104027
CREATED:20191029T181601Z
LAST-MODIFIED:20191031T140518Z
UID:10000084-1572777000-1572781500@www.fccminneapolis.org
SUMMARY:Sunday Worship - South Sanctuary
DESCRIPTION:
URL:https://www.fccminneapolis.org/event/sunday-worship-south-sanctuary/2019-11-03/
LOCATION:SHMC South Sanctuary (Upper Level)
END:VEVENT
BEGIN:VEVENT
DTSTART;TZID=America/Chicago:20191103T114500
DTEND;TZID=America/Chicago:20191103T123000
DTSTAMP:20260425T104027
CREATED:20191029T181923Z
LAST-MODIFIED:20191029T192827Z
UID:10000111-1572781500-1572784200@www.fccminneapolis.org
SUMMARY:Post-Worship Fellowship
DESCRIPTION:
URL:https://www.fccminneapolis.org/event/post-worship-fellowship/2019-11-03/
LOCATION:SHMC Gathering Space (Upper Level)
CATEGORIES:Fellowship
END:VEVENT
BEGIN:VEVENT
DTSTART;TZID=America/Chicago:20191103T120000
DTEND;TZID=America/Chicago:20191103T130000
DTSTAMP:20260425T104027
CREATED:20191029T192345Z
LAST-MODIFIED:20191029T192345Z
UID:10000006-1572782400-1572786000@www.fccminneapolis.org
SUMMARY:FCC Elders
DESCRIPTION:
URL:https://www.fccminneapolis.org/event/fcc-elders/2019-11-03/
LOCATION:SHMC Lydia Meeting Room (Lower Level)\, 610 West 28th St\, Minneapolis\, MN\, 55408
CATEGORIES:FCC Meetings
END:VEVENT
BEGIN:VEVENT
DTSTART;TZID=America/Chicago:20191105T081500
DTEND;TZID=America/Chicago:20191105T090000
DTSTAMP:20260425T104027
CREATED:20191029T182903Z
LAST-MODIFIED:20191029T182903Z
UID:10000150-1572941700-1572944400@www.fccminneapolis.org
SUMMARY:SpringHouse Lectionary Study
DESCRIPTION:
URL:https://www.fccminneapolis.org/event/springhouse-lectionary-study/2019-11-05/
LOCATION:SHMC Timothy Meeting Room (Lower Level)
CATEGORIES:SpringHouse Joint Ministries,Studies
END:VEVENT
BEGIN:VEVENT
DTSTART;TZID=America/Chicago:20191106T183000
DTEND;TZID=America/Chicago:20191106T193000
DTSTAMP:20260425T104027
CREATED:20191029T163607Z
LAST-MODIFIED:20200414T131935Z
UID:10000058-1573065000-1573068600@www.fccminneapolis.org
SUMMARY:Handbell Rehearsal
DESCRIPTION:
URL:https://www.fccminneapolis.org/event/handbell-rehearsal/2019-11-06/
LOCATION:SHMC Lydia Meeting Room (Lower Level)\, 610 West 28th St\, Minneapolis\, MN\, 55408
CATEGORIES:Music,The Arts At First
END:VEVENT
BEGIN:VEVENT
DTSTART;TZID=America/Chicago:20191106T194500
DTEND;TZID=America/Chicago:20191106T210000
DTSTAMP:20260425T104027
CREATED:20191029T181008Z
LAST-MODIFIED:20191030T195909Z
UID:10000081-1573069500-1573074000@www.fccminneapolis.org
SUMMARY:Choir Rehearsal
DESCRIPTION:
URL:https://www.fccminneapolis.org/event/choir-rehearsal/2019-11-06/
LOCATION:SHMC South Sanctuary (Upper Level)
CATEGORIES:Music,The Arts At First
END:VEVENT
BEGIN:VEVENT
DTSTART;TZID=America/Chicago:20191110T091500
DTEND;TZID=America/Chicago:20191110T101500
DTSTAMP:20260425T104027
CREATED:20191029T192232Z
LAST-MODIFIED:20191030T195409Z
UID:10000093-1573377300-1573380900@www.fccminneapolis.org
SUMMARY:Godly Play Children's Sunday School
DESCRIPTION:
URL:https://www.fccminneapolis.org/event/godly-play-childrens-sunday-school/2019-11-10/
LOCATION:SHMC Squiggle Space (Lower Level)
CATEGORIES:Child Ministries,SpringHouse Joint Ministries
END:VEVENT
BEGIN:VEVENT
DTSTART;TZID=America/Chicago:20191110T093000
DTEND;TZID=America/Chicago:20191110T101500
DTSTAMP:20260425T104027
CREATED:20191029T192106Z
LAST-MODIFIED:20191029T192106Z
UID:10000257-1573378200-1573380900@www.fccminneapolis.org
SUMMARY:SpringHouse Youth Group
DESCRIPTION:
URL:https://www.fccminneapolis.org/event/springhouse-youth-group/2019-11-10/
LOCATION:SHMC Micah Room (Lower Level)
CATEGORIES:Youth
END:VEVENT
BEGIN:VEVENT
DTSTART;TZID=America/Chicago:20191110T093000
DTEND;TZID=America/Chicago:20191110T101500
DTSTAMP:20260425T104027
CREATED:20191029T183436Z
LAST-MODIFIED:20191029T183608Z
UID:10000159-1573378200-1573380900@www.fccminneapolis.org
SUMMARY:Short Stories by Jesus: The Enigmatic Parables of a Controversial Rabbi
DESCRIPTION:Explore a fresh and timely interpretation of Jesus’ most popular teaching parables.\nJesus was a skilled storyteller and perceptive teacher who used parables from everyday life to effectively convey his message and meaning. Life in first-century Palestine was very different from our world today\, and many traditional interpretations of Jesus’ stories ignore this disparity and have often allowed anti-Semitism and misogyny to color their perspectives. \nIn Short Stories by Jesus\, Amy-Jill Levine analyzes these “problems with parables” taking readers back in time to understand how their original Jewish audience understood them. With this revitalized understanding\, she interprets these moving stories for the contemporary reader\, showing how the parables are not just about Jesus\, but are also about us—and when read rightly\, still challenge and provoke us two thousand years later. \nThe six-session DVD features Amy-Jill Levine offering a fresh\, timely reinterpretation of Jesus’ narratives.
URL:https://www.fccminneapolis.org/event/short-stories-by-jesus-the-enigmatic-parables-of-a-controversial-rabbi/
CATEGORIES:Adult Education,SpringHouse Joint Ministries,Studies
ATTACH;FMTTYPE=image/jpeg:https://www.fccminneapolis.org/wp-content/uploads/2019/10/Short-Stories-by-Jesus.jpeg
END:VEVENT
BEGIN:VEVENT
DTSTART;TZID=America/Chicago:20191110T103000
DTEND;TZID=America/Chicago:20191110T114500
DTSTAMP:20260425T104027
CREATED:20191029T181601Z
LAST-MODIFIED:20191031T140518Z
UID:10000085-1573381800-1573386300@www.fccminneapolis.org
SUMMARY:Sunday Worship - South Sanctuary
DESCRIPTION:
URL:https://www.fccminneapolis.org/event/sunday-worship-south-sanctuary/2019-11-10/
LOCATION:SHMC South Sanctuary (Upper Level)
END:VEVENT
BEGIN:VEVENT
DTSTART;TZID=America/Chicago:20191110T114500
DTEND;TZID=America/Chicago:20191110T123000
DTSTAMP:20260425T104027
CREATED:20191029T181923Z
LAST-MODIFIED:20191029T192827Z
UID:10000112-1573386300-1573389000@www.fccminneapolis.org
SUMMARY:Post-Worship Fellowship
DESCRIPTION:
URL:https://www.fccminneapolis.org/event/post-worship-fellowship/2019-11-10/
LOCATION:SHMC Gathering Space (Upper Level)
CATEGORIES:Fellowship
END:VEVENT
BEGIN:VEVENT
DTSTART;TZID=America/Chicago:20191110T140000
DTEND;TZID=America/Chicago:20191110T160000
DTSTAMP:20260425T104027
CREATED:20191029T184936Z
LAST-MODIFIED:20191029T184936Z
UID:10000251-1573394400-1573401600@www.fccminneapolis.org
SUMMARY:Upper Midwest Regional Minister Search Listening Session
DESCRIPTION:
URL:https://www.fccminneapolis.org/event/upper-midwest-regional-minister-search-listening-session/
LOCATION:Plymouth Creek Christian Church\, 16000 41st Ave N\, Plymouth\, MN\, 55446
CATEGORIES:Regional/Denominational Meeting/Gathering
END:VEVENT
BEGIN:VEVENT
DTSTART;TZID=America/Chicago:20191112T081500
DTEND;TZID=America/Chicago:20191112T090000
DTSTAMP:20260425T104027
CREATED:20191029T182903Z
LAST-MODIFIED:20191029T182903Z
UID:10000151-1573546500-1573549200@www.fccminneapolis.org
SUMMARY:SpringHouse Lectionary Study
DESCRIPTION:
URL:https://www.fccminneapolis.org/event/springhouse-lectionary-study/2019-11-12/
LOCATION:SHMC Timothy Meeting Room (Lower Level)
CATEGORIES:SpringHouse Joint Ministries,Studies
END:VEVENT
BEGIN:VEVENT
DTSTART;TZID=America/Chicago:20191113T143000
DTEND;TZID=America/Chicago:20191113T153000
DTSTAMP:20260425T104027
CREATED:20191112T161423Z
LAST-MODIFIED:20191112T161423Z
UID:10000008-1573655400-1573659000@www.fccminneapolis.org
SUMMARY:Youth Pastor Supervisory Meeting
DESCRIPTION:
URL:https://www.fccminneapolis.org/event/youth-pastor-supervisory-meeting/
LOCATION:SHMC Timothy Meeting Room (Lower Level)
CATEGORIES:SpringHouse Joint Ministries
END:VEVENT
BEGIN:VEVENT
DTSTART;TZID=America/Chicago:20191113T183000
DTEND;TZID=America/Chicago:20191113T193000
DTSTAMP:20260425T104027
CREATED:20191029T163607Z
LAST-MODIFIED:20200414T131935Z
UID:10000059-1573669800-1573673400@www.fccminneapolis.org
SUMMARY:Handbell Rehearsal
DESCRIPTION:
URL:https://www.fccminneapolis.org/event/handbell-rehearsal/2019-11-13/
LOCATION:SHMC Lydia Meeting Room (Lower Level)\, 610 West 28th St\, Minneapolis\, MN\, 55408
CATEGORIES:Music,The Arts At First
END:VEVENT
BEGIN:VEVENT
DTSTART;TZID=America/Chicago:20191113T194500
DTEND;TZID=America/Chicago:20191113T210000
DTSTAMP:20260425T104027
CREATED:20191029T181008Z
LAST-MODIFIED:20191030T195909Z
UID:10000082-1573674300-1573678800@www.fccminneapolis.org
SUMMARY:Choir Rehearsal
DESCRIPTION:
URL:https://www.fccminneapolis.org/event/choir-rehearsal/2019-11-13/
LOCATION:SHMC South Sanctuary (Upper Level)
CATEGORIES:Music,The Arts At First
END:VEVENT
BEGIN:VEVENT
DTSTART;TZID=America/Chicago:20191114T160000
DTEND;TZID=America/Chicago:20191114T173000
DTSTAMP:20260425T104027
CREATED:20191112T161522Z
LAST-MODIFIED:20191112T161522Z
UID:10000003-1573747200-1573752600@www.fccminneapolis.org
SUMMARY:Green Team
DESCRIPTION:
URL:https://www.fccminneapolis.org/event/green-team/
LOCATION:SHMC Lydia Meeting Room (Lower Level)\, 610 West 28th St\, Minneapolis\, MN\, 55408
CATEGORIES:Social Justice,SpringHouse Joint Ministries
END:VEVENT
BEGIN:VEVENT
DTSTART;TZID=America/Chicago:20191114T183000
DTEND;TZID=America/Chicago:20191114T193000
DTSTAMP:20260425T104027
CREATED:20191029T184424Z
LAST-MODIFIED:20191226T154141Z
UID:10000121-1573756200-1573759800@www.fccminneapolis.org
SUMMARY:PRC - Pastor Laurie
DESCRIPTION:
URL:https://www.fccminneapolis.org/event/prc-pastor-laurie/2019-11-14/
LOCATION:SHMC Lydia Meeting Room (Lower Level)\, 610 West 28th St\, Minneapolis\, MN\, 55408
CATEGORIES:FCC Meetings
END:VEVENT
BEGIN:VEVENT
DTSTART;TZID=America/Chicago:20191116T113000
DTEND;TZID=America/Chicago:20191116T133000
DTSTAMP:20260425T104027
CREATED:20191029T184225Z
LAST-MODIFIED:20191029T184225Z
UID:10000045-1573903800-1573911000@www.fccminneapolis.org
SUMMARY:Feed My Starving Children
DESCRIPTION:
URL:https://www.fccminneapolis.org/event/feed-my-starving-children/
LOCATION:FMSC Eagan\, 990 Lone Oak Rd #136\, Eagan\,\, MN\, 55121
CATEGORIES:Fellowship,Mission & Outreach
END:VEVENT
BEGIN:VEVENT
DTSTART;TZID=America/Chicago:20191117T091500
DTEND;TZID=America/Chicago:20191117T101500
DTSTAMP:20260425T104027
CREATED:20191029T192232Z
LAST-MODIFIED:20191030T195409Z
UID:10000094-1573982100-1573985700@www.fccminneapolis.org
SUMMARY:Godly Play Children's Sunday School
DESCRIPTION:
URL:https://www.fccminneapolis.org/event/godly-play-childrens-sunday-school/2019-11-17/
LOCATION:SHMC Squiggle Space (Lower Level)
CATEGORIES:Child Ministries,SpringHouse Joint Ministries
END:VEVENT
BEGIN:VEVENT
DTSTART;TZID=America/Chicago:20191117T093000
DTEND;TZID=America/Chicago:20191117T101500
DTSTAMP:20260425T104027
CREATED:20191029T192106Z
LAST-MODIFIED:20191029T192106Z
UID:10000258-1573983000-1573985700@www.fccminneapolis.org
SUMMARY:SpringHouse Youth Group
DESCRIPTION:
URL:https://www.fccminneapolis.org/event/springhouse-youth-group/2019-11-17/
LOCATION:SHMC Micah Room (Lower Level)
CATEGORIES:Youth
END:VEVENT
BEGIN:VEVENT
DTSTART;TZID=America/Chicago:20191117T103000
DTEND;TZID=America/Chicago:20191117T114500
DTSTAMP:20260425T104027
CREATED:20191029T181601Z
LAST-MODIFIED:20191031T140518Z
UID:10000086-1573986600-1573991100@www.fccminneapolis.org
SUMMARY:Sunday Worship - South Sanctuary
DESCRIPTION:
URL:https://www.fccminneapolis.org/event/sunday-worship-south-sanctuary/2019-11-17/
LOCATION:SHMC South Sanctuary (Upper Level)
END:VEVENT
BEGIN:VEVENT
DTSTART;TZID=America/Chicago:20191117T114500
DTEND;TZID=America/Chicago:20191117T123000
DTSTAMP:20260425T104027
CREATED:20191029T181923Z
LAST-MODIFIED:20191029T192827Z
UID:10000113-1573991100-1573993800@www.fccminneapolis.org
SUMMARY:Post-Worship Fellowship
DESCRIPTION:
URL:https://www.fccminneapolis.org/event/post-worship-fellowship/2019-11-17/
LOCATION:SHMC Gathering Space (Upper Level)
CATEGORIES:Fellowship
END:VEVENT
BEGIN:VEVENT
DTSTART;TZID=America/Chicago:20191117T120000
DTEND;TZID=America/Chicago:20191117T143000
DTSTAMP:20260425T104027
CREATED:20191029T184629Z
LAST-MODIFIED:20191029T184629Z
UID:10000250-1573992000-1574001000@www.fccminneapolis.org
SUMMARY:Pastor Laurie's Welcome Back Lunch
DESCRIPTION:
URL:https://www.fccminneapolis.org/event/pastor-lauries-welcome-back-lunch/
LOCATION:SHMC South Sanctuary (Upper Level)
CATEGORIES:FCC Meetings
END:VEVENT
END:VCALENDAR