BEGIN:VCALENDAR
VERSION:2.0
PRODID:-//First Christian Church (Disciples of Christ) - ECPv6.15.13//NONSGML v1.0//EN
CALSCALE:GREGORIAN
METHOD:PUBLISH
X-WR-CALNAME:First Christian Church (Disciples of Christ)
X-ORIGINAL-URL:https://www.fccminneapolis.org
X-WR-CALDESC:Events for First Christian Church (Disciples of Christ)
REFRESH-INTERVAL;VALUE=DURATION:PT1H
X-Robots-Tag:noindex
X-PUBLISHED-TTL:PT1H
BEGIN:VTIMEZONE
TZID:America/Chicago
BEGIN:DAYLIGHT
TZOFFSETFROM:-0600
TZOFFSETTO:-0500
TZNAME:CDT
DTSTART:20240310T080000
END:DAYLIGHT
BEGIN:STANDARD
TZOFFSETFROM:-0500
TZOFFSETTO:-0600
TZNAME:CST
DTSTART:20241103T070000
END:STANDARD
BEGIN:DAYLIGHT
TZOFFSETFROM:-0600
TZOFFSETTO:-0500
TZNAME:CDT
DTSTART:20250309T080000
END:DAYLIGHT
BEGIN:STANDARD
TZOFFSETFROM:-0500
TZOFFSETTO:-0600
TZNAME:CST
DTSTART:20251102T070000
END:STANDARD
BEGIN:DAYLIGHT
TZOFFSETFROM:-0600
TZOFFSETTO:-0500
TZNAME:CDT
DTSTART:20260308T080000
END:DAYLIGHT
BEGIN:STANDARD
TZOFFSETFROM:-0500
TZOFFSETTO:-0600
TZNAME:CST
DTSTART:20261101T070000
END:STANDARD
END:VTIMEZONE
BEGIN:VEVENT
DTSTART;TZID=America/Chicago:20251108T100000
DTEND;TZID=America/Chicago:20251108T113000
DTSTAMP:20260425T203813
CREATED:20250501T182635Z
LAST-MODIFIED:20250501T182636Z
UID:10005294-1762596000-1762601400@www.fccminneapolis.org
SUMMARY:Grief Support Group
DESCRIPTION:Grieving?\nShow up any Saturday at 10 am to 11:30 am to hear a speaker on various topics of grief and loss\, and then break into small discussion groups to talk to others experiencing a similar loss. \nNew attendees are always welcome!  We ask that you arrive by 9:45. \nUse our Contact Form or call 612-317-3454 for more information. \n\nThe Group currently meets at THE BASILICA OF ST. MARY\, at 1600 Hennepin Avenue\, Minneapolis\, 55403
URL:https://www.fccminneapolis.org/event/grief-support-group-2-2-2/2025-11-08/
LOCATION:St. Mark’s Episcopal Cathedral\, 519 Oak Grove St\, Minneapolis\, MN\, 55403\, United States
CATEGORIES:Ecumenical,Grief Support
END:VEVENT
BEGIN:VEVENT
DTSTART;TZID=America/Chicago:20251109T090000
DTEND;TZID=America/Chicago:20251109T123000
DTSTAMP:20260425T203813
CREATED:20230408T120318Z
LAST-MODIFIED:20250125T161636Z
UID:10004896-1762678800-1762691400@www.fccminneapolis.org
SUMMARY:SpringHouse Youth Room Open Hours
DESCRIPTION:
URL:https://www.fccminneapolis.org/event/springhouse-youth-room-open-hours/2025-11-09/
LOCATION:SHMC Youth Room
CATEGORIES:SpringHouse Joint Ministries,Youth
END:VEVENT
BEGIN:VEVENT
DTSTART;TZID=America/Chicago:20251109T100000
DTEND;TZID=America/Chicago:20251109T103000
DTSTAMP:20260425T203813
CREATED:20231130T201418Z
LAST-MODIFIED:20241224T200746Z
UID:10004948-1762682400-1762684200@www.fccminneapolis.org
SUMMARY:SpringHouse Youth Group Activities
DESCRIPTION:Youth group is starting up again! Please join Chelsea and other SpringHouse youth for games\, snacks\, fellowship\, and exploring faith starting THIS Sunday\, December 3rd from 10:00am-10:25am in the youth room (behind the squiggle room). All youth ages 10-18 are invited to participate! If you have any questions\, please reach out to Chelsea at springhouseyouth@fccmpls.org.
URL:https://www.fccminneapolis.org/event/springhouse-youth-group-activities/2025-11-09/
LOCATION:SHMC Youth Room
END:VEVENT
BEGIN:VEVENT
DTSTART;TZID=America/Chicago:20251109T103000
DTEND;TZID=America/Chicago:20251109T120000
DTSTAMP:20260425T203813
CREATED:20250603T113427Z
LAST-MODIFIED:20250603T113434Z
UID:10004998-1762684200-1762689600@www.fccminneapolis.org
SUMMARY:Sunday Worship (Online and In-Person)
DESCRIPTION:Click on the link on the right to attend online.
URL:https://www.fccminneapolis.org/event/sunday-worship-online-and-in-person-4-2/2025-11-09/
LOCATION:FCC North Sanctuary & LiveStream Channel
END:VEVENT
BEGIN:VEVENT
DTSTART;TZID=America/Chicago:20251109T160000
DTEND;TZID=America/Chicago:20251109T170000
DTSTAMP:20260425T203813
CREATED:20250930T181347Z
LAST-MODIFIED:20250930T181347Z
UID:10006468-1762704000-1762707600@www.fccminneapolis.org
SUMMARY:SHMC Book Study: American Idolatry by Andrew Whitehead
DESCRIPTION:https://us02web.zoom.us/j/86972670709
URL:https://www.fccminneapolis.org/event/shmc-book-study-american-idolatry-by-andrew-whitehead/2025-11-09/
END:VEVENT
BEGIN:VEVENT
DTSTART;TZID=America/Chicago:20251110T170000
DTEND;TZID=America/Chicago:20251110T183000
DTSTAMP:20260425T203813
CREATED:20251230T183152Z
LAST-MODIFIED:20251230T183152Z
UID:10005312-1762794000-1762799400@www.fccminneapolis.org
SUMMARY:SHMC Building Committee
DESCRIPTION:
URL:https://www.fccminneapolis.org/event/shmc-building-committee-5-2/2025-11-10/
LOCATION:Online
CATEGORIES:SpringHouse Joint Ministries
END:VEVENT
BEGIN:VEVENT
DTSTART;TZID=America/Chicago:20251110T190000
DTEND;TZID=America/Chicago:20251110T210000
DTSTAMP:20260425T203813
CREATED:20221215T222157Z
LAST-MODIFIED:20241224T201559Z
UID:10005324-1762801200-1762808400@www.fccminneapolis.org
SUMMARY:SHMC Finance Committee
DESCRIPTION:
URL:https://www.fccminneapolis.org/event/shmc-finance-committee-4/2025-11-10/
LOCATION:Online
CATEGORIES:SpringHouse Joint Ministries
END:VEVENT
BEGIN:VEVENT
DTSTART;TZID=America/Chicago:20251112T123000
DTEND;TZID=America/Chicago:20251112T133000
DTSTAMP:20260425T203813
CREATED:20250110T170033Z
LAST-MODIFIED:20251230T183030Z
UID:10005435-1762950600-1762954200@www.fccminneapolis.org
SUMMARY:Finance Committee
DESCRIPTION:
URL:https://www.fccminneapolis.org/event/finance-committee-4/2025-11-12/
LOCATION:FCC Zoom Channel
CATEGORIES:FCC Meetings
END:VEVENT
BEGIN:VEVENT
DTSTART;TZID=America/Chicago:20251112T183000
DTEND;TZID=America/Chicago:20251112T191500
DTSTAMP:20260425T203813
CREATED:20251014T164438Z
LAST-MODIFIED:20251014T164438Z
UID:10006758-1762972200-1762974900@www.fccminneapolis.org
SUMMARY:Pray Without Ceasing
DESCRIPTION:Join us on Zoom: https://us02web.zoom.us/j/85258655766?pwd=HGeYxzEU4bggJjSDkpudrsZ0Lw9dk4.1
URL:https://www.fccminneapolis.org/event/pray-without-ceasing-2/2025-11-12/
LOCATION:FCC Zoom Channel
END:VEVENT
BEGIN:VEVENT
DTSTART;TZID=America/Chicago:20251112T190000
DTEND;TZID=America/Chicago:20251112T200000
DTSTAMP:20260425T203813
CREATED:20251104T182446Z
LAST-MODIFIED:20251104T182446Z
UID:10005915-1762974000-1762977600@www.fccminneapolis.org
SUMMARY:Pr. Dan's PRC
DESCRIPTION:
URL:https://www.fccminneapolis.org/event/pr-dans-prc-2-2/
END:VEVENT
BEGIN:VEVENT
DTSTART;TZID=America/Chicago:20251113T170000
DTEND;TZID=America/Chicago:20251113T180000
DTSTAMP:20260425T203813
CREATED:20250930T183401Z
LAST-MODIFIED:20250930T183401Z
UID:10005571-1763053200-1763056800@www.fccminneapolis.org
SUMMARY:Happy Hour With Community
DESCRIPTION:https://us02web.zoom.us/j/86907354362 \nMEETING ID: 869 0735 4362
URL:https://www.fccminneapolis.org/event/happy-hour-with-the-pastors-20-2-2-2/2025-11-13/
LOCATION:FCC Zoom Channel
CATEGORIES:Fellowship,Online Community Gatherings
END:VEVENT
BEGIN:VEVENT
DTSTART;TZID=America/Chicago:20251114T080000
DTEND;TZID=America/Chicago:20251114T084500
DTSTAMP:20260425T203813
CREATED:20251014T164306Z
LAST-MODIFIED:20251014T164306Z
UID:10006497-1763107200-1763109900@www.fccminneapolis.org
SUMMARY:Pray Without Ceasing
DESCRIPTION:Join us on Zoom: https://us02web.zoom.us/j/85258655766?pwd=HGeYxzEU4bggJjSDkpudrsZ0Lw9dk4.1
URL:https://www.fccminneapolis.org/event/pray-without-ceasing/2025-11-14/
LOCATION:FCC Zoom Channel
END:VEVENT
BEGIN:VEVENT
DTSTART;TZID=America/Chicago:20251115T090000
DTEND;TZID=America/Chicago:20251115T100000
DTSTAMP:20260425T203813
CREATED:20250930T181740Z
LAST-MODIFIED:20250930T182917Z
UID:10006199-1763197200-1763200800@www.fccminneapolis.org
SUMMARY:The Breakfast Club
DESCRIPTION:https://us02web.zoom.us/j/81318971740 \nMEETING ID: 813 1897 1740
URL:https://www.fccminneapolis.org/event/coffee-hour-with-community-2-2/2025-11-15/
LOCATION:FCC LiveStream Channel
END:VEVENT
BEGIN:VEVENT
DTSTART;TZID=America/Chicago:20251115T100000
DTEND;TZID=America/Chicago:20251115T113000
DTSTAMP:20260425T203813
CREATED:20250501T182635Z
LAST-MODIFIED:20250501T182636Z
UID:10005295-1763200800-1763206200@www.fccminneapolis.org
SUMMARY:Grief Support Group
DESCRIPTION:Grieving?\nShow up any Saturday at 10 am to 11:30 am to hear a speaker on various topics of grief and loss\, and then break into small discussion groups to talk to others experiencing a similar loss. \nNew attendees are always welcome!  We ask that you arrive by 9:45. \nUse our Contact Form or call 612-317-3454 for more information. \n\nThe Group currently meets at THE BASILICA OF ST. MARY\, at 1600 Hennepin Avenue\, Minneapolis\, 55403
URL:https://www.fccminneapolis.org/event/grief-support-group-2-2-2/2025-11-15/
LOCATION:St. Mark’s Episcopal Cathedral\, 519 Oak Grove St\, Minneapolis\, MN\, 55403\, United States
CATEGORIES:Ecumenical,Grief Support
END:VEVENT
BEGIN:VEVENT
DTSTART;TZID=America/Chicago:20251116T090000
DTEND;TZID=America/Chicago:20251116T123000
DTSTAMP:20260425T203813
CREATED:20230408T120318Z
LAST-MODIFIED:20250125T161636Z
UID:10004897-1763283600-1763296200@www.fccminneapolis.org
SUMMARY:SpringHouse Youth Room Open Hours
DESCRIPTION:
URL:https://www.fccminneapolis.org/event/springhouse-youth-room-open-hours/2025-11-16/
LOCATION:SHMC Youth Room
CATEGORIES:SpringHouse Joint Ministries,Youth
END:VEVENT
BEGIN:VEVENT
DTSTART;TZID=America/Chicago:20251116T103000
DTEND;TZID=America/Chicago:20251116T120000
DTSTAMP:20260425T203813
CREATED:20250603T113427Z
LAST-MODIFIED:20250603T113434Z
UID:10004999-1763289000-1763294400@www.fccminneapolis.org
SUMMARY:Sunday Worship (Online and In-Person)
DESCRIPTION:Click on the link on the right to attend online.
URL:https://www.fccminneapolis.org/event/sunday-worship-online-and-in-person-4-2/2025-11-16/
LOCATION:FCC North Sanctuary & LiveStream Channel
END:VEVENT
BEGIN:VEVENT
DTSTART;TZID=America/Chicago:20251118T190000
DTEND;TZID=America/Chicago:20251118T210000
DTSTAMP:20260425T203813
CREATED:20221215T223506Z
LAST-MODIFIED:20250102T144333Z
UID:10005385-1763492400-1763499600@www.fccminneapolis.org
SUMMARY:FCC Board - Online
DESCRIPTION:
URL:https://www.fccminneapolis.org/event/fcc-board-online/2025-11-18/
LOCATION:FCC Zoom Channel
CATEGORIES:FCC Meetings
END:VEVENT
BEGIN:VEVENT
DTSTART;TZID=America/Chicago:20251119T090000
DTEND;TZID=America/Chicago:20251119T100000
DTSTAMP:20260425T203813
CREATED:20250930T182954Z
LAST-MODIFIED:20250930T182954Z
UID:10005940-1763542800-1763546400@www.fccminneapolis.org
SUMMARY:Coffee Hour with Community
DESCRIPTION:https://us02web.zoom.us/j/81318971740 \nMEETING ID: 813 1897 1740
URL:https://www.fccminneapolis.org/event/coffee-hour-with-community-3-2/2025-11-19/
LOCATION:FCC Zoom Channel
CATEGORIES:FCC Meetings
END:VEVENT
BEGIN:VEVENT
DTSTART;TZID=America/Chicago:20251119T123000
DTEND;TZID=America/Chicago:20251119T133000
DTSTAMP:20260425T203813
CREATED:20250110T170033Z
LAST-MODIFIED:20251230T183030Z
UID:10007512-1763555400-1763559000@www.fccminneapolis.org
SUMMARY:Finance Committee
DESCRIPTION:
URL:https://www.fccminneapolis.org/event/finance-committee-4/2025-11-19/
LOCATION:FCC Zoom Channel
CATEGORIES:FCC Meetings
END:VEVENT
BEGIN:VEVENT
DTSTART;TZID=America/Chicago:20251119T180000
DTEND;TZID=America/Chicago:20251119T200000
DTSTAMP:20260425T203813
CREATED:20251014T162711Z
LAST-MODIFIED:20251014T162711Z
UID:10006491-1763575200-1763582400@www.fccminneapolis.org
SUMMARY:Every Meal Packing
DESCRIPTION:Sign up here: https://www.springhousemn.org/every-meal-packing-sign-up/
URL:https://www.fccminneapolis.org/event/every-meal-packing-2/
LOCATION:Every Meal\, 2723 Patton Road\, Roseville\, MN
END:VEVENT
BEGIN:VEVENT
DTSTART;TZID=America/Chicago:20251119T183000
DTEND;TZID=America/Chicago:20251119T191500
DTSTAMP:20260425T203813
CREATED:20251014T164438Z
LAST-MODIFIED:20251014T164438Z
UID:10006759-1763577000-1763579700@www.fccminneapolis.org
SUMMARY:Pray Without Ceasing
DESCRIPTION:Join us on Zoom: https://us02web.zoom.us/j/85258655766?pwd=HGeYxzEU4bggJjSDkpudrsZ0Lw9dk4.1
URL:https://www.fccminneapolis.org/event/pray-without-ceasing-2/2025-11-19/
LOCATION:FCC Zoom Channel
END:VEVENT
BEGIN:VEVENT
DTSTART;TZID=America/Chicago:20251120T160000
DTEND;TZID=America/Chicago:20251120T190000
DTSTAMP:20260425T203813
CREATED:20251014T171950Z
LAST-MODIFIED:20251014T171950Z
UID:10007018-1763654400-1763665200@www.fccminneapolis.org
SUMMARY:Hope for Home: An Open House Fundraiser for Align Minneapolis
DESCRIPTION:
URL:https://www.fccminneapolis.org/event/hope-for-home-an-open-house-fundraiser-for-align-minneapolis/
LOCATION:Plymouth Congregational Church\, 1900 Nicollet Ave\, Minneapolis\, MN\, 55403\, United States
END:VEVENT
BEGIN:VEVENT
DTSTART;TZID=America/Chicago:20251120T190000
DTEND;TZID=America/Chicago:20251120T200000
DTSTAMP:20260425T203813
CREATED:20250807T174843Z
LAST-MODIFIED:20250807T174843Z
UID:10005907-1763665200-1763668800@www.fccminneapolis.org
SUMMARY:FCC and Friends Book Club
DESCRIPTION:Where Rivers Part by Kao Kalia Yang
URL:https://www.fccminneapolis.org/event/fcc-and-friends-book-club-4/
LOCATION:FCC Zoom Channel
END:VEVENT
BEGIN:VEVENT
DTSTART;TZID=America/Chicago:20251121T080000
DTEND;TZID=America/Chicago:20251121T084500
DTSTAMP:20260425T203813
CREATED:20251014T164306Z
LAST-MODIFIED:20251014T164306Z
UID:10006498-1763712000-1763714700@www.fccminneapolis.org
SUMMARY:Pray Without Ceasing
DESCRIPTION:Join us on Zoom: https://us02web.zoom.us/j/85258655766?pwd=HGeYxzEU4bggJjSDkpudrsZ0Lw9dk4.1
URL:https://www.fccminneapolis.org/event/pray-without-ceasing/2025-11-21/
LOCATION:FCC Zoom Channel
END:VEVENT
BEGIN:VEVENT
DTSTART;TZID=America/Chicago:20251122T090000
DTEND;TZID=America/Chicago:20251122T100000
DTSTAMP:20260425T203813
CREATED:20250930T181740Z
LAST-MODIFIED:20250930T182917Z
UID:10006200-1763802000-1763805600@www.fccminneapolis.org
SUMMARY:The Breakfast Club
DESCRIPTION:https://us02web.zoom.us/j/81318971740 \nMEETING ID: 813 1897 1740
URL:https://www.fccminneapolis.org/event/coffee-hour-with-community-2-2/2025-11-22/
LOCATION:FCC LiveStream Channel
END:VEVENT
BEGIN:VEVENT
DTSTART;TZID=America/Chicago:20251122T100000
DTEND;TZID=America/Chicago:20251122T113000
DTSTAMP:20260425T203813
CREATED:20250501T182635Z
LAST-MODIFIED:20250501T182636Z
UID:10005296-1763805600-1763811000@www.fccminneapolis.org
SUMMARY:Grief Support Group
DESCRIPTION:Grieving?\nShow up any Saturday at 10 am to 11:30 am to hear a speaker on various topics of grief and loss\, and then break into small discussion groups to talk to others experiencing a similar loss. \nNew attendees are always welcome!  We ask that you arrive by 9:45. \nUse our Contact Form or call 612-317-3454 for more information. \n\nThe Group currently meets at THE BASILICA OF ST. MARY\, at 1600 Hennepin Avenue\, Minneapolis\, 55403
URL:https://www.fccminneapolis.org/event/grief-support-group-2-2-2/2025-11-22/
LOCATION:St. Mark’s Episcopal Cathedral\, 519 Oak Grove St\, Minneapolis\, MN\, 55403\, United States
CATEGORIES:Ecumenical,Grief Support
END:VEVENT
BEGIN:VEVENT
DTSTART;TZID=America/Chicago:20251123T090000
DTEND;TZID=America/Chicago:20251123T123000
DTSTAMP:20260425T203813
CREATED:20230408T120318Z
LAST-MODIFIED:20250125T161636Z
UID:10004898-1763888400-1763901000@www.fccminneapolis.org
SUMMARY:SpringHouse Youth Room Open Hours
DESCRIPTION:
URL:https://www.fccminneapolis.org/event/springhouse-youth-room-open-hours/2025-11-23/
LOCATION:SHMC Youth Room
CATEGORIES:SpringHouse Joint Ministries,Youth
END:VEVENT
BEGIN:VEVENT
DTSTART;TZID=America/Chicago:20251123T100000
DTEND;TZID=America/Chicago:20251123T103000
DTSTAMP:20260425T203813
CREATED:20231130T201418Z
LAST-MODIFIED:20241224T200746Z
UID:10004950-1763892000-1763893800@www.fccminneapolis.org
SUMMARY:SpringHouse Youth Group Activities
DESCRIPTION:Youth group is starting up again! Please join Chelsea and other SpringHouse youth for games\, snacks\, fellowship\, and exploring faith starting THIS Sunday\, December 3rd from 10:00am-10:25am in the youth room (behind the squiggle room). All youth ages 10-18 are invited to participate! If you have any questions\, please reach out to Chelsea at springhouseyouth@fccmpls.org.
URL:https://www.fccminneapolis.org/event/springhouse-youth-group-activities/2025-11-23/
LOCATION:SHMC Youth Room
END:VEVENT
BEGIN:VEVENT
DTSTART;TZID=America/Chicago:20251123T103000
DTEND;TZID=America/Chicago:20251123T120000
DTSTAMP:20260425T203813
CREATED:20250603T113427Z
LAST-MODIFIED:20250603T113434Z
UID:10005000-1763893800-1763899200@www.fccminneapolis.org
SUMMARY:Sunday Worship (Online and In-Person)
DESCRIPTION:Click on the link on the right to attend online.
URL:https://www.fccminneapolis.org/event/sunday-worship-online-and-in-person-4-2/2025-11-23/
LOCATION:FCC North Sanctuary & LiveStream Channel
END:VEVENT
BEGIN:VEVENT
DTSTART;TZID=America/Chicago:20251123T113000
DTEND;TZID=America/Chicago:20251123T133000
DTSTAMP:20260425T203813
CREATED:20251014T172140Z
LAST-MODIFIED:20251014T172140Z
UID:10007020-1763897400-1763904600@www.fccminneapolis.org
SUMMARY:Sanctuary Switch
DESCRIPTION:
URL:https://www.fccminneapolis.org/event/sanctuary-switch-2/
LOCATION:SHMC
END:VEVENT
END:VCALENDAR