BEGIN:VCALENDAR
VERSION:2.0
PRODID:-//First Christian Church (Disciples of Christ) - ECPv6.15.13//NONSGML v1.0//EN
CALSCALE:GREGORIAN
METHOD:PUBLISH
X-ORIGINAL-URL:https://www.fccminneapolis.org
X-WR-CALDESC:Events for First Christian Church (Disciples of Christ)
REFRESH-INTERVAL;VALUE=DURATION:PT1H
X-Robots-Tag:noindex
X-PUBLISHED-TTL:PT1H
BEGIN:VTIMEZONE
TZID:America/Chicago
BEGIN:DAYLIGHT
TZOFFSETFROM:-0600
TZOFFSETTO:-0500
TZNAME:CDT
DTSTART:20250309T080000
END:DAYLIGHT
BEGIN:STANDARD
TZOFFSETFROM:-0500
TZOFFSETTO:-0600
TZNAME:CST
DTSTART:20251102T070000
END:STANDARD
BEGIN:DAYLIGHT
TZOFFSETFROM:-0600
TZOFFSETTO:-0500
TZNAME:CDT
DTSTART:20260308T080000
END:DAYLIGHT
BEGIN:STANDARD
TZOFFSETFROM:-0500
TZOFFSETTO:-0600
TZNAME:CST
DTSTART:20261101T070000
END:STANDARD
BEGIN:DAYLIGHT
TZOFFSETFROM:-0600
TZOFFSETTO:-0500
TZNAME:CDT
DTSTART:20270314T080000
END:DAYLIGHT
BEGIN:STANDARD
TZOFFSETFROM:-0500
TZOFFSETTO:-0600
TZNAME:CST
DTSTART:20271107T070000
END:STANDARD
END:VTIMEZONE
BEGIN:VEVENT
DTSTART;TZID=America/Chicago:20260328T100000
DTEND;TZID=America/Chicago:20260328T110000
DTSTAMP:20260425T104104
CREATED:20260212T165547Z
LAST-MODIFIED:20260212T165547Z
UID:10008033-1774692000-1774695600@www.fccminneapolis.org
SUMMARY:Grief Support Group
DESCRIPTION:
URL:https://www.fccminneapolis.org/event/grief-support-group-3/2026-03-28/
LOCATION:Westminster Presbyterian Church\, 1200 S Marquette Ave\, Minnneapolis\, MN\, 55403\, United States
END:VEVENT
BEGIN:VEVENT
DTSTART;TZID=America/Chicago:20260329T090000
DTEND;TZID=America/Chicago:20260329T100000
DTSTAMP:20260425T104104
CREATED:20260303T172003Z
LAST-MODIFIED:20260303T172003Z
UID:10008618-1774774800-1774778400@www.fccminneapolis.org
SUMMARY:SpringHouse Youth Group Activities
DESCRIPTION:Please join Chelsea and other SpringHouse youth for games\, snacks\, fellowship\, and exploring faith in the youth room (behind the squiggle room). All youth ages 10-18 are invited to participate! If you have any questions\, please reach out to Chelsea at springhouseyouth@fccmpls.org.
URL:https://www.fccminneapolis.org/event/springhouse-youth-group-activities-2/2026-03-29/
LOCATION:SHMC Youth Room
END:VEVENT
BEGIN:VEVENT
DTSTART;TZID=America/Chicago:20260329T090000
DTEND;TZID=America/Chicago:20260329T123000
DTSTAMP:20260425T104104
CREATED:20260303T172214Z
LAST-MODIFIED:20260303T172244Z
UID:10008880-1774774800-1774787400@www.fccminneapolis.org
SUMMARY:SpringHouse Youth Room Open Hours
DESCRIPTION:
URL:https://www.fccminneapolis.org/event/springhouse-youth-room-open-hours-2/2026-03-29/
LOCATION:SHMC Youth Room
END:VEVENT
BEGIN:VEVENT
DTSTART;TZID=America/Chicago:20260329T100000
DTEND;TZID=America/Chicago:20260329T120000
DTSTAMP:20260425T104104
CREATED:20260303T171333Z
LAST-MODIFIED:20260303T171644Z
UID:10008356-1774778400-1774785600@www.fccminneapolis.org
SUMMARY:Sunday Worship Service (Online and In-Person)
DESCRIPTION:FCC LIVESTREAM CHANNEL:\nTo access our LiveStream channel: https://www.youtube.com/channel/UCPVqQ57szyEh8JCtF_8lhiw \nONLINE WORSHIP MATERIALS:\nUnder the sliding picture at the top of the website\, you will see a series of icons that have the various items you will need for Sunday worship. \nONLINE GIVING:\nThrough our FCC website\, you can access online giving and Sunday bulletin materials. In the upper right-hand corner of the site\, you will see a button that says “Give”. Click on this button to access the online giving portal. 💞
URL:https://www.fccminneapolis.org/event/sunday-worship-service/2026-03-29/
LOCATION:SHMC Garden Sanctuary (lower level)
END:VEVENT
BEGIN:VEVENT
DTSTART;TZID=America/Chicago:20260401T090000
DTEND;TZID=America/Chicago:20260401T100000
DTSTAMP:20260425T104104
CREATED:20250930T182954Z
LAST-MODIFIED:20250930T182954Z
UID:10005959-1775034000-1775037600@www.fccminneapolis.org
SUMMARY:Coffee Hour with Community
DESCRIPTION:https://us02web.zoom.us/j/81318971740 \nMEETING ID: 813 1897 1740
URL:https://www.fccminneapolis.org/event/coffee-hour-with-community-3-2/2026-04-01/
LOCATION:FCC Zoom Channel
CATEGORIES:FCC Meetings
END:VEVENT
BEGIN:VEVENT
DTSTART;TZID=America/Chicago:20260401T190000
DTEND;TZID=America/Chicago:20260401T200000
DTSTAMP:20260425T104104
CREATED:20251230T182814Z
LAST-MODIFIED:20260301T232414Z
UID:10007447-1775070000-1775073600@www.fccminneapolis.org
SUMMARY:Elders
DESCRIPTION:
URL:https://www.fccminneapolis.org/event/elders-3-2-2/2026-04-01/
LOCATION:FCC Zoom Channel
CATEGORIES:FCC Meetings
END:VEVENT
BEGIN:VEVENT
DTSTART;TZID=America/Chicago:20260404T100000
DTEND;TZID=America/Chicago:20260404T110000
DTSTAMP:20260425T104104
CREATED:20260212T165547Z
LAST-MODIFIED:20260212T165547Z
UID:10008034-1775296800-1775300400@www.fccminneapolis.org
SUMMARY:Grief Support Group
DESCRIPTION:
URL:https://www.fccminneapolis.org/event/grief-support-group-3/2026-04-04/
LOCATION:Westminster Presbyterian Church\, 1200 S Marquette Ave\, Minnneapolis\, MN\, 55403\, United States
END:VEVENT
BEGIN:VEVENT
DTSTART;TZID=America/Chicago:20260405T090000
DTEND;TZID=America/Chicago:20260405T100000
DTSTAMP:20260425T104104
CREATED:20260303T172003Z
LAST-MODIFIED:20260303T172003Z
UID:10008619-1775379600-1775383200@www.fccminneapolis.org
SUMMARY:SpringHouse Youth Group Activities
DESCRIPTION:Please join Chelsea and other SpringHouse youth for games\, snacks\, fellowship\, and exploring faith in the youth room (behind the squiggle room). All youth ages 10-18 are invited to participate! If you have any questions\, please reach out to Chelsea at springhouseyouth@fccmpls.org.
URL:https://www.fccminneapolis.org/event/springhouse-youth-group-activities-2/2026-04-05/
LOCATION:SHMC Youth Room
END:VEVENT
BEGIN:VEVENT
DTSTART;TZID=America/Chicago:20260405T090000
DTEND;TZID=America/Chicago:20260405T123000
DTSTAMP:20260425T104104
CREATED:20260303T172214Z
LAST-MODIFIED:20260303T172244Z
UID:10008881-1775379600-1775392200@www.fccminneapolis.org
SUMMARY:SpringHouse Youth Room Open Hours
DESCRIPTION:
URL:https://www.fccminneapolis.org/event/springhouse-youth-room-open-hours-2/2026-04-05/
LOCATION:SHMC Youth Room
END:VEVENT
BEGIN:VEVENT
DTSTART;TZID=America/Chicago:20260405T100000
DTEND;TZID=America/Chicago:20260405T120000
DTSTAMP:20260425T104104
CREATED:20260303T171333Z
LAST-MODIFIED:20260303T171644Z
UID:10008357-1775383200-1775390400@www.fccminneapolis.org
SUMMARY:Sunday Worship Service (Online and In-Person)
DESCRIPTION:FCC LIVESTREAM CHANNEL:\nTo access our LiveStream channel: https://www.youtube.com/channel/UCPVqQ57szyEh8JCtF_8lhiw \nONLINE WORSHIP MATERIALS:\nUnder the sliding picture at the top of the website\, you will see a series of icons that have the various items you will need for Sunday worship. \nONLINE GIVING:\nThrough our FCC website\, you can access online giving and Sunday bulletin materials. In the upper right-hand corner of the site\, you will see a button that says “Give”. Click on this button to access the online giving portal. 💞
URL:https://www.fccminneapolis.org/event/sunday-worship-service/2026-04-05/
LOCATION:SHMC Garden Sanctuary (lower level)
END:VEVENT
BEGIN:VEVENT
DTSTART;TZID=America/Chicago:20260406T190000
DTEND;TZID=America/Chicago:20260406T200000
DTSTAMP:20260425T104104
CREATED:20251230T182526Z
LAST-MODIFIED:20251230T183554Z
UID:10007697-1775502000-1775505600@www.fccminneapolis.org
SUMMARY:Women's Fellowship
DESCRIPTION:FCC’s Women’s Fellowship meets on Zoom the first Monday of each month. All members and friends of FCC are welcome to join us. Contact Kathy H. for a Zoom link.
URL:https://www.fccminneapolis.org/event/womens-fellowship-8-2-2-2-2-2/2026-04-06/
CATEGORIES:Fellowship,Women's Fellowship
END:VEVENT
BEGIN:VEVENT
DTSTART;TZID=America/Chicago:20260408T090000
DTEND;TZID=America/Chicago:20260408T100000
DTSTAMP:20260425T104104
CREATED:20250930T182954Z
LAST-MODIFIED:20250930T182954Z
UID:10005960-1775638800-1775642400@www.fccminneapolis.org
SUMMARY:Coffee Hour with Community
DESCRIPTION:https://us02web.zoom.us/j/81318971740 \nMEETING ID: 813 1897 1740
URL:https://www.fccminneapolis.org/event/coffee-hour-with-community-3-2/2026-04-08/
LOCATION:FCC Zoom Channel
CATEGORIES:FCC Meetings
END:VEVENT
BEGIN:VEVENT
DTSTART;TZID=America/Chicago:20260408T123000
DTEND;TZID=America/Chicago:20260408T133000
DTSTAMP:20260425T104104
CREATED:20260121T011547Z
LAST-MODIFIED:20260121T011547Z
UID:10007766-1775651400-1775655000@www.fccminneapolis.org
SUMMARY:Finance Committee
DESCRIPTION:
URL:https://www.fccminneapolis.org/event/finance-committee-4-2/2026-04-08/
LOCATION:FCC Zoom Channel
CATEGORIES:FCC Meetings
END:VEVENT
BEGIN:VEVENT
DTSTART;TZID=America/Chicago:20260411T090000
DTEND;TZID=America/Chicago:20260411T100000
DTSTAMP:20260425T104104
CREATED:20250930T181740Z
LAST-MODIFIED:20250930T182917Z
UID:10006220-1775898000-1775901600@www.fccminneapolis.org
SUMMARY:The Breakfast Club
DESCRIPTION:https://us02web.zoom.us/j/81318971740 \nMEETING ID: 813 1897 1740
URL:https://www.fccminneapolis.org/event/coffee-hour-with-community-2-2/2026-04-11/
LOCATION:FCC LiveStream Channel
END:VEVENT
BEGIN:VEVENT
DTSTART;TZID=America/Chicago:20260411T100000
DTEND;TZID=America/Chicago:20260411T110000
DTSTAMP:20260425T104104
CREATED:20260212T165547Z
LAST-MODIFIED:20260212T165547Z
UID:10008035-1775901600-1775905200@www.fccminneapolis.org
SUMMARY:Grief Support Group
DESCRIPTION:
URL:https://www.fccminneapolis.org/event/grief-support-group-3/2026-04-11/
LOCATION:Westminster Presbyterian Church\, 1200 S Marquette Ave\, Minnneapolis\, MN\, 55403\, United States
END:VEVENT
BEGIN:VEVENT
DTSTART;TZID=America/Chicago:20260411T103000
DTEND;TZID=America/Chicago:20260411T113000
DTSTAMP:20260425T104104
CREATED:20260113T190418Z
LAST-MODIFIED:20260113T190418Z
UID:10007762-1775903400-1775907000@www.fccminneapolis.org
SUMMARY:Trustees Meeting
DESCRIPTION:
URL:https://www.fccminneapolis.org/event/trustees-meeting-8/
LOCATION:FCC Zoom Channel
CATEGORIES:FCC Meetings
END:VEVENT
BEGIN:VEVENT
DTSTART;TZID=America/Chicago:20260412T090000
DTEND;TZID=America/Chicago:20260412T100000
DTSTAMP:20260425T104104
CREATED:20260303T172003Z
LAST-MODIFIED:20260303T172003Z
UID:10008620-1775984400-1775988000@www.fccminneapolis.org
SUMMARY:SpringHouse Youth Group Activities
DESCRIPTION:Please join Chelsea and other SpringHouse youth for games\, snacks\, fellowship\, and exploring faith in the youth room (behind the squiggle room). All youth ages 10-18 are invited to participate! If you have any questions\, please reach out to Chelsea at springhouseyouth@fccmpls.org.
URL:https://www.fccminneapolis.org/event/springhouse-youth-group-activities-2/2026-04-12/
LOCATION:SHMC Youth Room
END:VEVENT
BEGIN:VEVENT
DTSTART;TZID=America/Chicago:20260412T090000
DTEND;TZID=America/Chicago:20260412T123000
DTSTAMP:20260425T104104
CREATED:20260303T172214Z
LAST-MODIFIED:20260303T172244Z
UID:10008882-1775984400-1775997000@www.fccminneapolis.org
SUMMARY:SpringHouse Youth Room Open Hours
DESCRIPTION:
URL:https://www.fccminneapolis.org/event/springhouse-youth-room-open-hours-2/2026-04-12/
LOCATION:SHMC Youth Room
END:VEVENT
BEGIN:VEVENT
DTSTART;TZID=America/Chicago:20260412T100000
DTEND;TZID=America/Chicago:20260412T120000
DTSTAMP:20260425T104104
CREATED:20260303T171333Z
LAST-MODIFIED:20260303T171644Z
UID:10008358-1775988000-1775995200@www.fccminneapolis.org
SUMMARY:Sunday Worship Service (Online and In-Person)
DESCRIPTION:FCC LIVESTREAM CHANNEL:\nTo access our LiveStream channel: https://www.youtube.com/channel/UCPVqQ57szyEh8JCtF_8lhiw \nONLINE WORSHIP MATERIALS:\nUnder the sliding picture at the top of the website\, you will see a series of icons that have the various items you will need for Sunday worship. \nONLINE GIVING:\nThrough our FCC website\, you can access online giving and Sunday bulletin materials. In the upper right-hand corner of the site\, you will see a button that says “Give”. Click on this button to access the online giving portal. 💞
URL:https://www.fccminneapolis.org/event/sunday-worship-service/2026-04-12/
LOCATION:SHMC Garden Sanctuary (lower level)
END:VEVENT
BEGIN:VEVENT
DTSTART;TZID=America/Chicago:20260413T170000
DTEND;TZID=America/Chicago:20260413T183000
DTSTAMP:20260425T104104
CREATED:20251230T183152Z
LAST-MODIFIED:20251230T183152Z
UID:10007577-1776099600-1776105000@www.fccminneapolis.org
SUMMARY:SHMC Building Committee
DESCRIPTION:
URL:https://www.fccminneapolis.org/event/shmc-building-committee-5-2/2026-04-13/
LOCATION:Online
CATEGORIES:SpringHouse Joint Ministries
END:VEVENT
BEGIN:VEVENT
DTSTART;TZID=America/Chicago:20260413T190000
DTEND;TZID=America/Chicago:20260413T210000
DTSTAMP:20260425T104104
CREATED:20251230T183339Z
LAST-MODIFIED:20251230T183441Z
UID:10007637-1776106800-1776114000@www.fccminneapolis.org
SUMMARY:SHMC Finance Committee
DESCRIPTION:
URL:https://www.fccminneapolis.org/event/shmc-finance-committee-4-2/2026-04-13/
LOCATION:Online
CATEGORIES:SpringHouse Joint Ministries
END:VEVENT
BEGIN:VEVENT
DTSTART;TZID=America/Chicago:20260414T120000
DTEND;TZID=America/Chicago:20260414T123000
DTSTAMP:20260425T104104
CREATED:20260203T201232Z
LAST-MODIFIED:20260203T201232Z
UID:10007965-1776168000-1776169800@www.fccminneapolis.org
SUMMARY:Holding Sacred Space for Justice - sponsored by Disciples Public Presence and the CCUM Anti-Racism Team
DESCRIPTION:https://us02web.zoom.us/j/87558728717?pwd=UxNJgbZtMneB6ULHZrZmSUa6m8Rbjn.1 \nMeeting ID: 875 5872 8717\nPasscode: 801581
URL:https://www.fccminneapolis.org/event/holding-sacred-space-for-justice-sponsored-by-disciples-public-presence-and-the-ccum-anti-racism-team/2026-04-14/
END:VEVENT
BEGIN:VEVENT
DTSTART;TZID=America/Chicago:20260414T133000
DTEND;TZID=America/Chicago:20260414T153000
DTSTAMP:20260425T104104
CREATED:20260301T232328Z
LAST-MODIFIED:20260301T232328Z
UID:10008291-1776173400-1776180600@www.fccminneapolis.org
SUMMARY:SHMC Clergy Meeting
DESCRIPTION:
URL:https://www.fccminneapolis.org/event/shmc-clergy-meeting-2-2-2/2026-04-14/
LOCATION:SHMC Esther Meeting Space (Lower Level)
END:VEVENT
BEGIN:VEVENT
DTSTART;TZID=America/Chicago:20260415T090000
DTEND;TZID=America/Chicago:20260415T100000
DTSTAMP:20260425T104104
CREATED:20250930T182954Z
LAST-MODIFIED:20250930T182954Z
UID:10005961-1776243600-1776247200@www.fccminneapolis.org
SUMMARY:Coffee Hour with Community
DESCRIPTION:https://us02web.zoom.us/j/81318971740 \nMEETING ID: 813 1897 1740
URL:https://www.fccminneapolis.org/event/coffee-hour-with-community-3-2/2026-04-15/
LOCATION:FCC Zoom Channel
CATEGORIES:FCC Meetings
END:VEVENT
BEGIN:VEVENT
DTSTART;TZID=America/Chicago:20260416T190000
DTEND;TZID=America/Chicago:20260416T200000
DTSTAMP:20260425T104104
CREATED:20250807T175301Z
LAST-MODIFIED:20250807T175301Z
UID:10005911-1776366000-1776369600@www.fccminneapolis.org
SUMMARY:FCC and Friends Book Club
DESCRIPTION:Feeding Ghosts by Tessa Hulls
URL:https://www.fccminneapolis.org/event/fcc-and-friends-book-club-8/
LOCATION:FCC Zoom Channel
END:VEVENT
BEGIN:VEVENT
DTSTART;TZID=America/Chicago:20260418T090000
DTEND;TZID=America/Chicago:20260418T100000
DTSTAMP:20260425T104104
CREATED:20250930T181740Z
LAST-MODIFIED:20250930T182917Z
UID:10006221-1776502800-1776506400@www.fccminneapolis.org
SUMMARY:The Breakfast Club
DESCRIPTION:https://us02web.zoom.us/j/81318971740 \nMEETING ID: 813 1897 1740
URL:https://www.fccminneapolis.org/event/coffee-hour-with-community-2-2/2026-04-18/
LOCATION:FCC LiveStream Channel
END:VEVENT
BEGIN:VEVENT
DTSTART;TZID=America/Chicago:20260418T100000
DTEND;TZID=America/Chicago:20260418T110000
DTSTAMP:20260425T104104
CREATED:20260212T165547Z
LAST-MODIFIED:20260212T165547Z
UID:10008036-1776506400-1776510000@www.fccminneapolis.org
SUMMARY:Grief Support Group
DESCRIPTION:
URL:https://www.fccminneapolis.org/event/grief-support-group-3/2026-04-18/
LOCATION:Westminster Presbyterian Church\, 1200 S Marquette Ave\, Minnneapolis\, MN\, 55403\, United States
END:VEVENT
BEGIN:VEVENT
DTSTART;TZID=America/Chicago:20260419T090000
DTEND;TZID=America/Chicago:20260419T100000
DTSTAMP:20260425T104104
CREATED:20260303T172003Z
LAST-MODIFIED:20260303T172003Z
UID:10008621-1776589200-1776592800@www.fccminneapolis.org
SUMMARY:SpringHouse Youth Group Activities
DESCRIPTION:Please join Chelsea and other SpringHouse youth for games\, snacks\, fellowship\, and exploring faith in the youth room (behind the squiggle room). All youth ages 10-18 are invited to participate! If you have any questions\, please reach out to Chelsea at springhouseyouth@fccmpls.org.
URL:https://www.fccminneapolis.org/event/springhouse-youth-group-activities-2/2026-04-19/
LOCATION:SHMC Youth Room
END:VEVENT
BEGIN:VEVENT
DTSTART;TZID=America/Chicago:20260419T090000
DTEND;TZID=America/Chicago:20260419T123000
DTSTAMP:20260425T104104
CREATED:20260303T172214Z
LAST-MODIFIED:20260303T172244Z
UID:10008883-1776589200-1776601800@www.fccminneapolis.org
SUMMARY:SpringHouse Youth Room Open Hours
DESCRIPTION:
URL:https://www.fccminneapolis.org/event/springhouse-youth-room-open-hours-2/2026-04-19/
LOCATION:SHMC Youth Room
END:VEVENT
BEGIN:VEVENT
DTSTART;TZID=America/Chicago:20260419T100000
DTEND;TZID=America/Chicago:20260419T120000
DTSTAMP:20260425T104104
CREATED:20260303T171333Z
LAST-MODIFIED:20260303T171644Z
UID:10008359-1776592800-1776600000@www.fccminneapolis.org
SUMMARY:Sunday Worship Service (Online and In-Person)
DESCRIPTION:FCC LIVESTREAM CHANNEL:\nTo access our LiveStream channel: https://www.youtube.com/channel/UCPVqQ57szyEh8JCtF_8lhiw \nONLINE WORSHIP MATERIALS:\nUnder the sliding picture at the top of the website\, you will see a series of icons that have the various items you will need for Sunday worship. \nONLINE GIVING:\nThrough our FCC website\, you can access online giving and Sunday bulletin materials. In the upper right-hand corner of the site\, you will see a button that says “Give”. Click on this button to access the online giving portal. 💞
URL:https://www.fccminneapolis.org/event/sunday-worship-service/2026-04-19/
LOCATION:SHMC Garden Sanctuary (lower level)
END:VEVENT
END:VCALENDAR