BEGIN:VCALENDAR
VERSION:2.0
PRODID:-//First Christian Church (Disciples of Christ) - ECPv6.15.13//NONSGML v1.0//EN
CALSCALE:GREGORIAN
METHOD:PUBLISH
X-WR-CALNAME:First Christian Church (Disciples of Christ)
X-ORIGINAL-URL:https://www.fccminneapolis.org
X-WR-CALDESC:Events for First Christian Church (Disciples of Christ)
REFRESH-INTERVAL;VALUE=DURATION:PT1H
X-Robots-Tag:noindex
X-PUBLISHED-TTL:PT1H
BEGIN:VTIMEZONE
TZID:America/Chicago
BEGIN:DAYLIGHT
TZOFFSETFROM:-0600
TZOFFSETTO:-0500
TZNAME:CDT
DTSTART:20250309T080000
END:DAYLIGHT
BEGIN:STANDARD
TZOFFSETFROM:-0500
TZOFFSETTO:-0600
TZNAME:CST
DTSTART:20251102T070000
END:STANDARD
BEGIN:DAYLIGHT
TZOFFSETFROM:-0600
TZOFFSETTO:-0500
TZNAME:CDT
DTSTART:20260308T080000
END:DAYLIGHT
BEGIN:STANDARD
TZOFFSETFROM:-0500
TZOFFSETTO:-0600
TZNAME:CST
DTSTART:20261101T070000
END:STANDARD
BEGIN:DAYLIGHT
TZOFFSETFROM:-0600
TZOFFSETTO:-0500
TZNAME:CDT
DTSTART:20270314T080000
END:DAYLIGHT
BEGIN:STANDARD
TZOFFSETFROM:-0500
TZOFFSETTO:-0600
TZNAME:CST
DTSTART:20271107T070000
END:STANDARD
END:VTIMEZONE
BEGIN:VEVENT
DTSTART;TZID=America/Chicago:20260610T123000
DTEND;TZID=America/Chicago:20260610T133000
DTSTAMP:20260425T104148
CREATED:20260121T011547Z
LAST-MODIFIED:20260121T011547Z
UID:10007768-1781094600-1781098200@www.fccminneapolis.org
SUMMARY:Finance Committee
DESCRIPTION:
URL:https://www.fccminneapolis.org/event/finance-committee-4-2/2026-06-10/
LOCATION:FCC Zoom Channel
CATEGORIES:FCC Meetings
END:VEVENT
BEGIN:VEVENT
DTSTART;TZID=America/Chicago:20260613T090000
DTEND;TZID=America/Chicago:20260613T100000
DTSTAMP:20260425T104148
CREATED:20250930T181740Z
LAST-MODIFIED:20250930T182917Z
UID:10006229-1781341200-1781344800@www.fccminneapolis.org
SUMMARY:The Breakfast Club
DESCRIPTION:https://us02web.zoom.us/j/81318971740 \nMEETING ID: 813 1897 1740
URL:https://www.fccminneapolis.org/event/coffee-hour-with-community-2-2/2026-06-13/
LOCATION:FCC LiveStream Channel
END:VEVENT
BEGIN:VEVENT
DTSTART;TZID=America/Chicago:20260613T100000
DTEND;TZID=America/Chicago:20260613T110000
DTSTAMP:20260425T104148
CREATED:20260226T165001Z
LAST-MODIFIED:20260226T165001Z
UID:10008044-1781344800-1781348400@www.fccminneapolis.org
SUMMARY:Grief Support Group
DESCRIPTION:
URL:https://www.fccminneapolis.org/event/grief-support-group-3-2/2026-06-13/
LOCATION:SHMC Lower Level
END:VEVENT
BEGIN:VEVENT
DTSTART;TZID=America/Chicago:20260614T090000
DTEND;TZID=America/Chicago:20260614T100000
DTSTAMP:20260425T104148
CREATED:20260303T172003Z
LAST-MODIFIED:20260303T172003Z
UID:10008629-1781427600-1781431200@www.fccminneapolis.org
SUMMARY:SpringHouse Youth Group Activities
DESCRIPTION:Please join Chelsea and other SpringHouse youth for games\, snacks\, fellowship\, and exploring faith in the youth room (behind the squiggle room). All youth ages 10-18 are invited to participate! If you have any questions\, please reach out to Chelsea at springhouseyouth@fccmpls.org.
URL:https://www.fccminneapolis.org/event/springhouse-youth-group-activities-2/2026-06-14/
LOCATION:SHMC Youth Room
END:VEVENT
BEGIN:VEVENT
DTSTART;TZID=America/Chicago:20260614T090000
DTEND;TZID=America/Chicago:20260614T123000
DTSTAMP:20260425T104148
CREATED:20260303T172214Z
LAST-MODIFIED:20260303T172244Z
UID:10008891-1781427600-1781440200@www.fccminneapolis.org
SUMMARY:SpringHouse Youth Room Open Hours
DESCRIPTION:
URL:https://www.fccminneapolis.org/event/springhouse-youth-room-open-hours-2/2026-06-14/
LOCATION:SHMC Youth Room
END:VEVENT
BEGIN:VEVENT
DTSTART;TZID=America/Chicago:20260614T100000
DTEND;TZID=America/Chicago:20260614T120000
DTSTAMP:20260425T104148
CREATED:20260303T171333Z
LAST-MODIFIED:20260303T171644Z
UID:10008367-1781431200-1781438400@www.fccminneapolis.org
SUMMARY:Sunday Worship Service (Online and In-Person)
DESCRIPTION:FCC LIVESTREAM CHANNEL:\nTo access our LiveStream channel: https://www.youtube.com/channel/UCPVqQ57szyEh8JCtF_8lhiw \nONLINE WORSHIP MATERIALS:\nUnder the sliding picture at the top of the website\, you will see a series of icons that have the various items you will need for Sunday worship. \nONLINE GIVING:\nThrough our FCC website\, you can access online giving and Sunday bulletin materials. In the upper right-hand corner of the site\, you will see a button that says “Give”. Click on this button to access the online giving portal. 💞
URL:https://www.fccminneapolis.org/event/sunday-worship-service/2026-06-14/
LOCATION:SHMC Garden Sanctuary (lower level)
END:VEVENT
BEGIN:VEVENT
DTSTART;TZID=America/Chicago:20260616T190000
DTEND;TZID=America/Chicago:20260616T210000
DTSTAMP:20260425T104148
CREATED:20260121T023138Z
LAST-MODIFIED:20260121T023138Z
UID:10007837-1781636400-1781643600@www.fccminneapolis.org
SUMMARY:FCC Cabinet Meeting
DESCRIPTION:
URL:https://www.fccminneapolis.org/event/fcc-cabinet-meeting/2026-06-16/
LOCATION:FCC Zoom Channel
CATEGORIES:FCC Meetings
END:VEVENT
BEGIN:VEVENT
DTSTART;TZID=America/Chicago:20260617T090000
DTEND;TZID=America/Chicago:20260617T100000
DTSTAMP:20260425T104148
CREATED:20250930T182954Z
LAST-MODIFIED:20250930T182954Z
UID:10005970-1781686800-1781690400@www.fccminneapolis.org
SUMMARY:Coffee Hour with Community
DESCRIPTION:https://us02web.zoom.us/j/81318971740 \nMEETING ID: 813 1897 1740
URL:https://www.fccminneapolis.org/event/coffee-hour-with-community-3-2/2026-06-17/
LOCATION:FCC Zoom Channel
CATEGORIES:FCC Meetings
END:VEVENT
BEGIN:VEVENT
DTSTART;TZID=America/Chicago:20260620T090000
DTEND;TZID=America/Chicago:20260620T100000
DTSTAMP:20260425T104148
CREATED:20250930T181740Z
LAST-MODIFIED:20250930T182917Z
UID:10006230-1781946000-1781949600@www.fccminneapolis.org
SUMMARY:The Breakfast Club
DESCRIPTION:https://us02web.zoom.us/j/81318971740 \nMEETING ID: 813 1897 1740
URL:https://www.fccminneapolis.org/event/coffee-hour-with-community-2-2/2026-06-20/
LOCATION:FCC LiveStream Channel
END:VEVENT
BEGIN:VEVENT
DTSTART;TZID=America/Chicago:20260620T100000
DTEND;TZID=America/Chicago:20260620T110000
DTSTAMP:20260425T104148
CREATED:20260226T165001Z
LAST-MODIFIED:20260226T165001Z
UID:10008045-1781949600-1781953200@www.fccminneapolis.org
SUMMARY:Grief Support Group
DESCRIPTION:
URL:https://www.fccminneapolis.org/event/grief-support-group-3-2/2026-06-20/
LOCATION:SHMC Lower Level
END:VEVENT
BEGIN:VEVENT
DTSTART;TZID=America/Chicago:20260621T090000
DTEND;TZID=America/Chicago:20260621T100000
DTSTAMP:20260425T104148
CREATED:20260303T172003Z
LAST-MODIFIED:20260303T172003Z
UID:10008630-1782032400-1782036000@www.fccminneapolis.org
SUMMARY:SpringHouse Youth Group Activities
DESCRIPTION:Please join Chelsea and other SpringHouse youth for games\, snacks\, fellowship\, and exploring faith in the youth room (behind the squiggle room). All youth ages 10-18 are invited to participate! If you have any questions\, please reach out to Chelsea at springhouseyouth@fccmpls.org.
URL:https://www.fccminneapolis.org/event/springhouse-youth-group-activities-2/2026-06-21/
LOCATION:SHMC Youth Room
END:VEVENT
BEGIN:VEVENT
DTSTART;TZID=America/Chicago:20260621T090000
DTEND;TZID=America/Chicago:20260621T123000
DTSTAMP:20260425T104148
CREATED:20260303T172214Z
LAST-MODIFIED:20260303T172244Z
UID:10008892-1782032400-1782045000@www.fccminneapolis.org
SUMMARY:SpringHouse Youth Room Open Hours
DESCRIPTION:
URL:https://www.fccminneapolis.org/event/springhouse-youth-room-open-hours-2/2026-06-21/
LOCATION:SHMC Youth Room
END:VEVENT
BEGIN:VEVENT
DTSTART;TZID=America/Chicago:20260621T100000
DTEND;TZID=America/Chicago:20260621T120000
DTSTAMP:20260425T104148
CREATED:20260303T171333Z
LAST-MODIFIED:20260303T171644Z
UID:10008368-1782036000-1782043200@www.fccminneapolis.org
SUMMARY:Sunday Worship Service (Online and In-Person)
DESCRIPTION:FCC LIVESTREAM CHANNEL:\nTo access our LiveStream channel: https://www.youtube.com/channel/UCPVqQ57szyEh8JCtF_8lhiw \nONLINE WORSHIP MATERIALS:\nUnder the sliding picture at the top of the website\, you will see a series of icons that have the various items you will need for Sunday worship. \nONLINE GIVING:\nThrough our FCC website\, you can access online giving and Sunday bulletin materials. In the upper right-hand corner of the site\, you will see a button that says “Give”. Click on this button to access the online giving portal. 💞
URL:https://www.fccminneapolis.org/event/sunday-worship-service/2026-06-21/
LOCATION:SHMC Garden Sanctuary (lower level)
END:VEVENT
BEGIN:VEVENT
DTSTART;TZID=America/Chicago:20260622T190000
DTEND;TZID=America/Chicago:20260622T193000
DTSTAMP:20260425T104148
CREATED:20250529T151052Z
LAST-MODIFIED:20251230T182345Z
UID:10007389-1782154800-1782156600@www.fccminneapolis.org
SUMMARY:Worship Committee
DESCRIPTION:
URL:https://www.fccminneapolis.org/event/worship-committee-3/2026-06-22/
LOCATION:FCC Zoom Channel
END:VEVENT
BEGIN:VEVENT
DTSTART;TZID=America/Chicago:20260623T130000
DTEND;TZID=America/Chicago:20260623T140000
DTSTAMP:20260425T104148
CREATED:20260127T201219Z
LAST-MODIFIED:20260127T201220Z
UID:10007849-1782219600-1782223200@www.fccminneapolis.org
SUMMARY:Mission & Outreach
DESCRIPTION:
URL:https://www.fccminneapolis.org/event/mission-outreach-4-2-2-2-2/2026-06-23/
LOCATION:FCC Zoom Channel
CATEGORIES:FCC Meetings,Mission & Outreach
END:VEVENT
BEGIN:VEVENT
DTSTART;TZID=America/Chicago:20260624T090000
DTEND;TZID=America/Chicago:20260624T100000
DTSTAMP:20260425T104148
CREATED:20250930T182954Z
LAST-MODIFIED:20250930T182954Z
UID:10005971-1782291600-1782295200@www.fccminneapolis.org
SUMMARY:Coffee Hour with Community
DESCRIPTION:https://us02web.zoom.us/j/81318971740 \nMEETING ID: 813 1897 1740
URL:https://www.fccminneapolis.org/event/coffee-hour-with-community-3-2/2026-06-24/
LOCATION:FCC Zoom Channel
CATEGORIES:FCC Meetings
END:VEVENT
BEGIN:VEVENT
DTSTART;TZID=America/Chicago:20260627T090000
DTEND;TZID=America/Chicago:20260627T100000
DTSTAMP:20260425T104148
CREATED:20250930T181740Z
LAST-MODIFIED:20250930T182917Z
UID:10006231-1782550800-1782554400@www.fccminneapolis.org
SUMMARY:The Breakfast Club
DESCRIPTION:https://us02web.zoom.us/j/81318971740 \nMEETING ID: 813 1897 1740
URL:https://www.fccminneapolis.org/event/coffee-hour-with-community-2-2/2026-06-27/
LOCATION:FCC LiveStream Channel
END:VEVENT
BEGIN:VEVENT
DTSTART;TZID=America/Chicago:20260627T100000
DTEND;TZID=America/Chicago:20260627T110000
DTSTAMP:20260425T104148
CREATED:20260226T165001Z
LAST-MODIFIED:20260226T165001Z
UID:10008046-1782554400-1782558000@www.fccminneapolis.org
SUMMARY:Grief Support Group
DESCRIPTION:
URL:https://www.fccminneapolis.org/event/grief-support-group-3-2/2026-06-27/
LOCATION:SHMC Lower Level
END:VEVENT
BEGIN:VEVENT
DTSTART;TZID=America/Chicago:20260628T090000
DTEND;TZID=America/Chicago:20260628T100000
DTSTAMP:20260425T104148
CREATED:20260303T172003Z
LAST-MODIFIED:20260303T172003Z
UID:10008631-1782637200-1782640800@www.fccminneapolis.org
SUMMARY:SpringHouse Youth Group Activities
DESCRIPTION:Please join Chelsea and other SpringHouse youth for games\, snacks\, fellowship\, and exploring faith in the youth room (behind the squiggle room). All youth ages 10-18 are invited to participate! If you have any questions\, please reach out to Chelsea at springhouseyouth@fccmpls.org.
URL:https://www.fccminneapolis.org/event/springhouse-youth-group-activities-2/2026-06-28/
LOCATION:SHMC Youth Room
END:VEVENT
BEGIN:VEVENT
DTSTART;TZID=America/Chicago:20260628T090000
DTEND;TZID=America/Chicago:20260628T123000
DTSTAMP:20260425T104148
CREATED:20260303T172214Z
LAST-MODIFIED:20260303T172244Z
UID:10008893-1782637200-1782649800@www.fccminneapolis.org
SUMMARY:SpringHouse Youth Room Open Hours
DESCRIPTION:
URL:https://www.fccminneapolis.org/event/springhouse-youth-room-open-hours-2/2026-06-28/
LOCATION:SHMC Youth Room
END:VEVENT
BEGIN:VEVENT
DTSTART;TZID=America/Chicago:20260628T100000
DTEND;TZID=America/Chicago:20260628T120000
DTSTAMP:20260425T104148
CREATED:20260303T171333Z
LAST-MODIFIED:20260303T171644Z
UID:10008369-1782640800-1782648000@www.fccminneapolis.org
SUMMARY:Sunday Worship Service (Online and In-Person)
DESCRIPTION:FCC LIVESTREAM CHANNEL:\nTo access our LiveStream channel: https://www.youtube.com/channel/UCPVqQ57szyEh8JCtF_8lhiw \nONLINE WORSHIP MATERIALS:\nUnder the sliding picture at the top of the website\, you will see a series of icons that have the various items you will need for Sunday worship. \nONLINE GIVING:\nThrough our FCC website\, you can access online giving and Sunday bulletin materials. In the upper right-hand corner of the site\, you will see a button that says “Give”. Click on this button to access the online giving portal. 💞
URL:https://www.fccminneapolis.org/event/sunday-worship-service/2026-06-28/
LOCATION:SHMC Garden Sanctuary (lower level)
END:VEVENT
BEGIN:VEVENT
DTSTART;TZID=America/Chicago:20260701T090000
DTEND;TZID=America/Chicago:20260701T100000
DTSTAMP:20260425T104148
CREATED:20250930T182954Z
LAST-MODIFIED:20250930T182954Z
UID:10005972-1782896400-1782900000@www.fccminneapolis.org
SUMMARY:Coffee Hour with Community
DESCRIPTION:https://us02web.zoom.us/j/81318971740 \nMEETING ID: 813 1897 1740
URL:https://www.fccminneapolis.org/event/coffee-hour-with-community-3-2/2026-07-01/
LOCATION:FCC Zoom Channel
CATEGORIES:FCC Meetings
END:VEVENT
BEGIN:VEVENT
DTSTART;TZID=America/Chicago:20260701T190000
DTEND;TZID=America/Chicago:20260701T200000
DTSTAMP:20260425T104148
CREATED:20251230T182814Z
LAST-MODIFIED:20260301T232414Z
UID:10007450-1782932400-1782936000@www.fccminneapolis.org
SUMMARY:Elders
DESCRIPTION:
URL:https://www.fccminneapolis.org/event/elders-3-2-2/2026-07-01/
LOCATION:FCC Zoom Channel
CATEGORIES:FCC Meetings
END:VEVENT
BEGIN:VEVENT
DTSTART;TZID=America/Chicago:20260704T090000
DTEND;TZID=America/Chicago:20260704T100000
DTSTAMP:20260425T104148
CREATED:20250930T181740Z
LAST-MODIFIED:20250930T182917Z
UID:10006232-1783155600-1783159200@www.fccminneapolis.org
SUMMARY:The Breakfast Club
DESCRIPTION:https://us02web.zoom.us/j/81318971740 \nMEETING ID: 813 1897 1740
URL:https://www.fccminneapolis.org/event/coffee-hour-with-community-2-2/2026-07-04/
LOCATION:FCC LiveStream Channel
END:VEVENT
BEGIN:VEVENT
DTSTART;TZID=America/Chicago:20260704T100000
DTEND;TZID=America/Chicago:20260704T110000
DTSTAMP:20260425T104148
CREATED:20260226T165001Z
LAST-MODIFIED:20260226T165001Z
UID:10008047-1783159200-1783162800@www.fccminneapolis.org
SUMMARY:Grief Support Group
DESCRIPTION:
URL:https://www.fccminneapolis.org/event/grief-support-group-3-2/2026-07-04/
LOCATION:SHMC Lower Level
END:VEVENT
BEGIN:VEVENT
DTSTART;TZID=America/Chicago:20260705T090000
DTEND;TZID=America/Chicago:20260705T100000
DTSTAMP:20260425T104148
CREATED:20260303T172003Z
LAST-MODIFIED:20260303T172003Z
UID:10008632-1783242000-1783245600@www.fccminneapolis.org
SUMMARY:SpringHouse Youth Group Activities
DESCRIPTION:Please join Chelsea and other SpringHouse youth for games\, snacks\, fellowship\, and exploring faith in the youth room (behind the squiggle room). All youth ages 10-18 are invited to participate! If you have any questions\, please reach out to Chelsea at springhouseyouth@fccmpls.org.
URL:https://www.fccminneapolis.org/event/springhouse-youth-group-activities-2/2026-07-05/
LOCATION:SHMC Youth Room
END:VEVENT
BEGIN:VEVENT
DTSTART;TZID=America/Chicago:20260705T090000
DTEND;TZID=America/Chicago:20260705T123000
DTSTAMP:20260425T104148
CREATED:20260303T172214Z
LAST-MODIFIED:20260303T172244Z
UID:10008894-1783242000-1783254600@www.fccminneapolis.org
SUMMARY:SpringHouse Youth Room Open Hours
DESCRIPTION:
URL:https://www.fccminneapolis.org/event/springhouse-youth-room-open-hours-2/2026-07-05/
LOCATION:SHMC Youth Room
END:VEVENT
BEGIN:VEVENT
DTSTART;TZID=America/Chicago:20260705T100000
DTEND;TZID=America/Chicago:20260705T120000
DTSTAMP:20260425T104148
CREATED:20260303T171333Z
LAST-MODIFIED:20260303T171644Z
UID:10008370-1783245600-1783252800@www.fccminneapolis.org
SUMMARY:Sunday Worship Service (Online and In-Person)
DESCRIPTION:FCC LIVESTREAM CHANNEL:\nTo access our LiveStream channel: https://www.youtube.com/channel/UCPVqQ57szyEh8JCtF_8lhiw \nONLINE WORSHIP MATERIALS:\nUnder the sliding picture at the top of the website\, you will see a series of icons that have the various items you will need for Sunday worship. \nONLINE GIVING:\nThrough our FCC website\, you can access online giving and Sunday bulletin materials. In the upper right-hand corner of the site\, you will see a button that says “Give”. Click on this button to access the online giving portal. 💞
URL:https://www.fccminneapolis.org/event/sunday-worship-service/2026-07-05/
LOCATION:SHMC Garden Sanctuary (lower level)
END:VEVENT
BEGIN:VEVENT
DTSTART;TZID=America/Chicago:20260706T190000
DTEND;TZID=America/Chicago:20260706T200000
DTSTAMP:20260425T104148
CREATED:20251230T182526Z
LAST-MODIFIED:20251230T183554Z
UID:10007700-1783364400-1783368000@www.fccminneapolis.org
SUMMARY:Women's Fellowship
DESCRIPTION:FCC’s Women’s Fellowship meets on Zoom the first Monday of each month. All members and friends of FCC are welcome to join us. Contact Kathy H. for a Zoom link.
URL:https://www.fccminneapolis.org/event/womens-fellowship-8-2-2-2-2-2/2026-07-06/
CATEGORIES:Fellowship,Women's Fellowship
END:VEVENT
BEGIN:VEVENT
DTSTART;TZID=America/Chicago:20260708T090000
DTEND;TZID=America/Chicago:20260708T100000
DTSTAMP:20260425T104148
CREATED:20250930T182954Z
LAST-MODIFIED:20250930T182954Z
UID:10005973-1783501200-1783504800@www.fccminneapolis.org
SUMMARY:Coffee Hour with Community
DESCRIPTION:https://us02web.zoom.us/j/81318971740 \nMEETING ID: 813 1897 1740
URL:https://www.fccminneapolis.org/event/coffee-hour-with-community-3-2/2026-07-08/
LOCATION:FCC Zoom Channel
CATEGORIES:FCC Meetings
END:VEVENT
END:VCALENDAR