BEGIN:VCALENDAR
VERSION:2.0
PRODID:-//First Christian Church (Disciples of Christ) - ECPv6.15.13//NONSGML v1.0//EN
CALSCALE:GREGORIAN
METHOD:PUBLISH
X-WR-CALNAME:First Christian Church (Disciples of Christ)
X-ORIGINAL-URL:https://www.fccminneapolis.org
X-WR-CALDESC:Events for First Christian Church (Disciples of Christ)
REFRESH-INTERVAL;VALUE=DURATION:PT1H
X-Robots-Tag:noindex
X-PUBLISHED-TTL:PT1H
BEGIN:VTIMEZONE
TZID:America/Chicago
BEGIN:DAYLIGHT
TZOFFSETFROM:-0600
TZOFFSETTO:-0500
TZNAME:CDT
DTSTART:20240310T080000
END:DAYLIGHT
BEGIN:STANDARD
TZOFFSETFROM:-0500
TZOFFSETTO:-0600
TZNAME:CST
DTSTART:20241103T070000
END:STANDARD
BEGIN:DAYLIGHT
TZOFFSETFROM:-0600
TZOFFSETTO:-0500
TZNAME:CDT
DTSTART:20250309T080000
END:DAYLIGHT
BEGIN:STANDARD
TZOFFSETFROM:-0500
TZOFFSETTO:-0600
TZNAME:CST
DTSTART:20251102T070000
END:STANDARD
BEGIN:DAYLIGHT
TZOFFSETFROM:-0600
TZOFFSETTO:-0500
TZNAME:CDT
DTSTART:20260308T080000
END:DAYLIGHT
BEGIN:STANDARD
TZOFFSETFROM:-0500
TZOFFSETTO:-0600
TZNAME:CST
DTSTART:20261101T070000
END:STANDARD
END:VTIMEZONE
BEGIN:VEVENT
DTSTART;TZID=America/Chicago:20251022T090000
DTEND;TZID=America/Chicago:20251022T100000
DTSTAMP:20260425T221155
CREATED:20250930T182954Z
LAST-MODIFIED:20250930T182954Z
UID:10005936-1761123600-1761127200@www.fccminneapolis.org
SUMMARY:Coffee Hour with Community
DESCRIPTION:https://us02web.zoom.us/j/81318971740 \nMEETING ID: 813 1897 1740
URL:https://www.fccminneapolis.org/event/coffee-hour-with-community-3-2/2025-10-22/
LOCATION:FCC Zoom Channel
CATEGORIES:FCC Meetings
END:VEVENT
BEGIN:VEVENT
DTSTART;TZID=America/Chicago:20251021T190000
DTEND;TZID=America/Chicago:20251021T203000
DTSTAMP:20260425T221155
CREATED:20251015T130514Z
LAST-MODIFIED:20260121T022839Z
UID:10007022-1761073200-1761078600@www.fccminneapolis.org
SUMMARY:FCC Board Meeting
DESCRIPTION:
URL:https://www.fccminneapolis.org/event/fcc-board-meeting-4/2025-10-21/
LOCATION:FCC Zoom Channel
END:VEVENT
BEGIN:VEVENT
DTSTART;TZID=America/Chicago:20251020T180000
DTEND;TZID=America/Chicago:20251020T200000
DTSTAMP:20260425T221155
CREATED:20251014T162522Z
LAST-MODIFIED:20251014T162543Z
UID:10006490-1760983200-1760990400@www.fccminneapolis.org
SUMMARY:Every Meal Packing
DESCRIPTION:Sign up here: https://www.springhousemn.org/every-meal-packing-sign-up/
URL:https://www.fccminneapolis.org/event/every-meal-packing/
LOCATION:Every Meal\, 2723 Patton Road\, Roseville\, MN
END:VEVENT
BEGIN:VEVENT
DTSTART;TZID=America/Chicago:20251019T160000
DTEND;TZID=America/Chicago:20251019T170000
DTSTAMP:20260425T221155
CREATED:20250930T181347Z
LAST-MODIFIED:20250930T181347Z
UID:10006466-1760889600-1760893200@www.fccminneapolis.org
SUMMARY:SHMC Book Study: American Idolatry by Andrew Whitehead
DESCRIPTION:https://us02web.zoom.us/j/86972670709
URL:https://www.fccminneapolis.org/event/shmc-book-study-american-idolatry-by-andrew-whitehead/2025-10-19/
END:VEVENT
BEGIN:VEVENT
DTSTART;TZID=America/Chicago:20251019T103000
DTEND;TZID=America/Chicago:20251019T120000
DTSTAMP:20260425T221155
CREATED:20250603T113427Z
LAST-MODIFIED:20250603T113434Z
UID:10004995-1760869800-1760875200@www.fccminneapolis.org
SUMMARY:Sunday Worship (Online and In-Person)
DESCRIPTION:Click on the link on the right to attend online.
URL:https://www.fccminneapolis.org/event/sunday-worship-online-and-in-person-4-2/2025-10-19/
LOCATION:FCC North Sanctuary & LiveStream Channel
END:VEVENT
BEGIN:VEVENT
DTSTART;TZID=America/Chicago:20251019T100000
DTEND;TZID=America/Chicago:20251019T103000
DTSTAMP:20260425T221155
CREATED:20231130T201418Z
LAST-MODIFIED:20241224T200746Z
UID:10004945-1760868000-1760869800@www.fccminneapolis.org
SUMMARY:SpringHouse Youth Group Activities
DESCRIPTION:Youth group is starting up again! Please join Chelsea and other SpringHouse youth for games\, snacks\, fellowship\, and exploring faith starting THIS Sunday\, December 3rd from 10:00am-10:25am in the youth room (behind the squiggle room). All youth ages 10-18 are invited to participate! If you have any questions\, please reach out to Chelsea at springhouseyouth@fccmpls.org.
URL:https://www.fccminneapolis.org/event/springhouse-youth-group-activities/2025-10-19/
LOCATION:SHMC Youth Room
END:VEVENT
BEGIN:VEVENT
DTSTART;TZID=America/Chicago:20251019T090000
DTEND;TZID=America/Chicago:20251019T123000
DTSTAMP:20260425T221155
CREATED:20230408T120318Z
LAST-MODIFIED:20250125T161636Z
UID:10004893-1760864400-1760877000@www.fccminneapolis.org
SUMMARY:SpringHouse Youth Room Open Hours
DESCRIPTION:
URL:https://www.fccminneapolis.org/event/springhouse-youth-room-open-hours/2025-10-19/
LOCATION:SHMC Youth Room
CATEGORIES:SpringHouse Joint Ministries,Youth
END:VEVENT
BEGIN:VEVENT
DTSTART;TZID=America/Chicago:20251018T130000
DTEND;TZID=America/Chicago:20251018T140000
DTSTAMP:20260425T221155
CREATED:20250930T181639Z
LAST-MODIFIED:20250930T181639Z
UID:10006471-1760792400-1760796000@www.fccminneapolis.org
SUMMARY:No Kings March
DESCRIPTION:
URL:https://www.fccminneapolis.org/event/no-kings-march/
LOCATION:Gold Medal Park\, Minneapolis
END:VEVENT
BEGIN:VEVENT
DTSTART;TZID=America/Chicago:20251018T100000
DTEND;TZID=America/Chicago:20251018T150000
DTSTAMP:20260425T221155
CREATED:20250930T181447Z
LAST-MODIFIED:20250930T181447Z
UID:10006469-1760781600-1760799600@www.fccminneapolis.org
SUMMARY:Upper Midwest Regional Gathering
DESCRIPTION:
URL:https://www.fccminneapolis.org/event/upper-midwest-regional-gathering/
LOCATION:Christian Conference Center\, 5064 Lincoln St\, Newton\, IA\, 50208\, United States
END:VEVENT
BEGIN:VEVENT
DTSTART;TZID=America/Chicago:20251018T100000
DTEND;TZID=America/Chicago:20251018T113000
DTSTAMP:20260425T221155
CREATED:20250501T182635Z
LAST-MODIFIED:20250501T182636Z
UID:10005291-1760781600-1760787000@www.fccminneapolis.org
SUMMARY:Grief Support Group
DESCRIPTION:Grieving?\nShow up any Saturday at 10 am to 11:30 am to hear a speaker on various topics of grief and loss\, and then break into small discussion groups to talk to others experiencing a similar loss. \nNew attendees are always welcome!  We ask that you arrive by 9:45. \nUse our Contact Form or call 612-317-3454 for more information. \n\nThe Group currently meets at THE BASILICA OF ST. MARY\, at 1600 Hennepin Avenue\, Minneapolis\, 55403
URL:https://www.fccminneapolis.org/event/grief-support-group-2-2-2/2025-10-18/
LOCATION:St. Mark’s Episcopal Cathedral\, 519 Oak Grove St\, Minneapolis\, MN\, 55403\, United States
CATEGORIES:Ecumenical,Grief Support
END:VEVENT
BEGIN:VEVENT
DTSTART;TZID=America/Chicago:20251017T080000
DTEND;TZID=America/Chicago:20251017T084500
DTSTAMP:20260425T221155
CREATED:20251014T164306Z
LAST-MODIFIED:20251014T164306Z
UID:10006493-1760688000-1760690700@www.fccminneapolis.org
SUMMARY:Pray Without Ceasing
DESCRIPTION:Join us on Zoom: https://us02web.zoom.us/j/85258655766?pwd=HGeYxzEU4bggJjSDkpudrsZ0Lw9dk4.1
URL:https://www.fccminneapolis.org/event/pray-without-ceasing/2025-10-17/
LOCATION:FCC Zoom Channel
END:VEVENT
BEGIN:VEVENT
DTSTART;TZID=America/Chicago:20251016T190000
DTEND;TZID=America/Chicago:20251016T200000
DTSTAMP:20260425T221155
CREATED:20250807T174718Z
LAST-MODIFIED:20250807T174718Z
UID:10005906-1760641200-1760644800@www.fccminneapolis.org
SUMMARY:FCC and Friends Book Club
DESCRIPTION:The Mighty Red by Louise Erdrich
URL:https://www.fccminneapolis.org/event/fcc-and-friends-book-club-2/
LOCATION:FCC Zoom Channel
END:VEVENT
BEGIN:VEVENT
DTSTART;TZID=America/Chicago:20251016T170000
DTEND;TZID=America/Chicago:20251016T180000
DTSTAMP:20260425T221155
CREATED:20250930T183401Z
LAST-MODIFIED:20250930T183401Z
UID:10005567-1760634000-1760637600@www.fccminneapolis.org
SUMMARY:Happy Hour With Community
DESCRIPTION:https://us02web.zoom.us/j/86907354362 \nMEETING ID: 869 0735 4362
URL:https://www.fccminneapolis.org/event/happy-hour-with-the-pastors-20-2-2-2/2025-10-16/
LOCATION:FCC Zoom Channel
CATEGORIES:Fellowship,Online Community Gatherings
END:VEVENT
BEGIN:VEVENT
DTSTART;TZID=America/Chicago:20251015T183000
DTEND;TZID=America/Chicago:20251015T191500
DTSTAMP:20260425T221155
CREATED:20251014T164438Z
LAST-MODIFIED:20251014T164438Z
UID:10006754-1760553000-1760555700@www.fccminneapolis.org
SUMMARY:Pray Without Ceasing
DESCRIPTION:Join us on Zoom: https://us02web.zoom.us/j/85258655766?pwd=HGeYxzEU4bggJjSDkpudrsZ0Lw9dk4.1
URL:https://www.fccminneapolis.org/event/pray-without-ceasing-2/2025-10-15/
LOCATION:FCC Zoom Channel
END:VEVENT
BEGIN:VEVENT
DTSTART;TZID=America/Chicago:20251015T123000
DTEND;TZID=America/Chicago:20251015T133000
DTSTAMP:20260425T221155
CREATED:20250110T170033Z
LAST-MODIFIED:20251230T183030Z
UID:10005434-1760531400-1760535000@www.fccminneapolis.org
SUMMARY:Finance Committee
DESCRIPTION:
URL:https://www.fccminneapolis.org/event/finance-committee-4/2025-10-15/
LOCATION:FCC Zoom Channel
CATEGORIES:FCC Meetings
END:VEVENT
BEGIN:VEVENT
DTSTART;TZID=America/Chicago:20251015T090000
DTEND;TZID=America/Chicago:20251015T100000
DTSTAMP:20260425T221155
CREATED:20250930T182954Z
LAST-MODIFIED:20250930T182954Z
UID:10005935-1760518800-1760522400@www.fccminneapolis.org
SUMMARY:Coffee Hour with Community
DESCRIPTION:https://us02web.zoom.us/j/81318971740 \nMEETING ID: 813 1897 1740
URL:https://www.fccminneapolis.org/event/coffee-hour-with-community-3-2/2025-10-15/
LOCATION:FCC Zoom Channel
CATEGORIES:FCC Meetings
END:VEVENT
BEGIN:VEVENT
DTSTART;TZID=America/Chicago:20251013T190000
DTEND;TZID=America/Chicago:20251013T210000
DTSTAMP:20260425T221155
CREATED:20221215T222157Z
LAST-MODIFIED:20241224T201559Z
UID:10005323-1760382000-1760389200@www.fccminneapolis.org
SUMMARY:SHMC Finance Committee
DESCRIPTION:
URL:https://www.fccminneapolis.org/event/shmc-finance-committee-4/2025-10-13/
LOCATION:Online
CATEGORIES:SpringHouse Joint Ministries
END:VEVENT
BEGIN:VEVENT
DTSTART;TZID=America/Chicago:20251013T170000
DTEND;TZID=America/Chicago:20251013T183000
DTSTAMP:20260425T221155
CREATED:20251230T183152Z
LAST-MODIFIED:20251230T183152Z
UID:10005311-1760374800-1760380200@www.fccminneapolis.org
SUMMARY:SHMC Building Committee
DESCRIPTION:
URL:https://www.fccminneapolis.org/event/shmc-building-committee-5-2/2025-10-13/
LOCATION:Online
CATEGORIES:SpringHouse Joint Ministries
END:VEVENT
BEGIN:VEVENT
DTSTART;TZID=America/Chicago:20251012T160000
DTEND;TZID=America/Chicago:20251012T170000
DTSTAMP:20260425T221155
CREATED:20250930T181347Z
LAST-MODIFIED:20250930T181347Z
UID:10006465-1760284800-1760288400@www.fccminneapolis.org
SUMMARY:SHMC Book Study: American Idolatry by Andrew Whitehead
DESCRIPTION:https://us02web.zoom.us/j/86972670709
URL:https://www.fccminneapolis.org/event/shmc-book-study-american-idolatry-by-andrew-whitehead/2025-10-12/
END:VEVENT
BEGIN:VEVENT
DTSTART;TZID=America/Chicago:20251012T113000
DTEND;TZID=America/Chicago:20251012T130000
DTSTAMP:20260425T221155
CREATED:20250930T181533Z
LAST-MODIFIED:20250930T181533Z
UID:10006470-1760268600-1760274000@www.fccminneapolis.org
SUMMARY:Sandwich Making for Groveland Food Shelf
DESCRIPTION:
URL:https://www.fccminneapolis.org/event/sandwich-making-for-groveland-food-shelf/
END:VEVENT
BEGIN:VEVENT
DTSTART;TZID=America/Chicago:20251012T103000
DTEND;TZID=America/Chicago:20251012T120000
DTSTAMP:20260425T221155
CREATED:20250603T113427Z
LAST-MODIFIED:20250603T113434Z
UID:10004994-1760265000-1760270400@www.fccminneapolis.org
SUMMARY:Sunday Worship (Online and In-Person)
DESCRIPTION:Click on the link on the right to attend online.
URL:https://www.fccminneapolis.org/event/sunday-worship-online-and-in-person-4-2/2025-10-12/
LOCATION:FCC North Sanctuary & LiveStream Channel
END:VEVENT
BEGIN:VEVENT
DTSTART;TZID=America/Chicago:20251012T100000
DTEND;TZID=America/Chicago:20251012T103000
DTSTAMP:20260425T221155
CREATED:20231130T201418Z
LAST-MODIFIED:20241224T200746Z
UID:10004944-1760263200-1760265000@www.fccminneapolis.org
SUMMARY:SpringHouse Youth Group Activities
DESCRIPTION:Youth group is starting up again! Please join Chelsea and other SpringHouse youth for games\, snacks\, fellowship\, and exploring faith starting THIS Sunday\, December 3rd from 10:00am-10:25am in the youth room (behind the squiggle room). All youth ages 10-18 are invited to participate! If you have any questions\, please reach out to Chelsea at springhouseyouth@fccmpls.org.
URL:https://www.fccminneapolis.org/event/springhouse-youth-group-activities/2025-10-12/
LOCATION:SHMC Youth Room
END:VEVENT
BEGIN:VEVENT
DTSTART;TZID=America/Chicago:20251012T090000
DTEND;TZID=America/Chicago:20251012T123000
DTSTAMP:20260425T221155
CREATED:20230408T120318Z
LAST-MODIFIED:20250125T161636Z
UID:10004892-1760259600-1760272200@www.fccminneapolis.org
SUMMARY:SpringHouse Youth Room Open Hours
DESCRIPTION:
URL:https://www.fccminneapolis.org/event/springhouse-youth-room-open-hours/2025-10-12/
LOCATION:SHMC Youth Room
CATEGORIES:SpringHouse Joint Ministries,Youth
END:VEVENT
BEGIN:VEVENT
DTSTART;TZID=America/Chicago:20251011T100000
DTEND;TZID=America/Chicago:20251011T113000
DTSTAMP:20260425T221155
CREATED:20250501T182635Z
LAST-MODIFIED:20250501T182636Z
UID:10005290-1760176800-1760182200@www.fccminneapolis.org
SUMMARY:Grief Support Group
DESCRIPTION:Grieving?\nShow up any Saturday at 10 am to 11:30 am to hear a speaker on various topics of grief and loss\, and then break into small discussion groups to talk to others experiencing a similar loss. \nNew attendees are always welcome!  We ask that you arrive by 9:45. \nUse our Contact Form or call 612-317-3454 for more information. \n\nThe Group currently meets at THE BASILICA OF ST. MARY\, at 1600 Hennepin Avenue\, Minneapolis\, 55403
URL:https://www.fccminneapolis.org/event/grief-support-group-2-2-2/2025-10-11/
LOCATION:St. Mark’s Episcopal Cathedral\, 519 Oak Grove St\, Minneapolis\, MN\, 55403\, United States
CATEGORIES:Ecumenical,Grief Support
END:VEVENT
BEGIN:VEVENT
DTSTART;TZID=America/Chicago:20251011T090000
DTEND;TZID=America/Chicago:20251011T100000
DTSTAMP:20260425T221155
CREATED:20250930T181740Z
LAST-MODIFIED:20250930T182917Z
UID:10006194-1760173200-1760176800@www.fccminneapolis.org
SUMMARY:The Breakfast Club
DESCRIPTION:https://us02web.zoom.us/j/81318971740 \nMEETING ID: 813 1897 1740
URL:https://www.fccminneapolis.org/event/coffee-hour-with-community-2-2/2025-10-11/
LOCATION:FCC LiveStream Channel
END:VEVENT
BEGIN:VEVENT
DTSTART;TZID=America/Chicago:20251009T170000
DTEND;TZID=America/Chicago:20251009T180000
DTSTAMP:20260425T221155
CREATED:20250930T183401Z
LAST-MODIFIED:20250930T183401Z
UID:10005566-1760029200-1760032800@www.fccminneapolis.org
SUMMARY:Happy Hour With Community
DESCRIPTION:https://us02web.zoom.us/j/86907354362 \nMEETING ID: 869 0735 4362
URL:https://www.fccminneapolis.org/event/happy-hour-with-the-pastors-20-2-2-2/2025-10-09/
LOCATION:FCC Zoom Channel
CATEGORIES:Fellowship,Online Community Gatherings
END:VEVENT
BEGIN:VEVENT
DTSTART;TZID=America/Chicago:20251008T090000
DTEND;TZID=America/Chicago:20251008T100000
DTSTAMP:20260425T221155
CREATED:20250930T182954Z
LAST-MODIFIED:20250930T182954Z
UID:10005934-1759914000-1759917600@www.fccminneapolis.org
SUMMARY:Coffee Hour with Community
DESCRIPTION:https://us02web.zoom.us/j/81318971740 \nMEETING ID: 813 1897 1740
URL:https://www.fccminneapolis.org/event/coffee-hour-with-community-3-2/2025-10-08/
LOCATION:FCC Zoom Channel
CATEGORIES:FCC Meetings
END:VEVENT
BEGIN:VEVENT
DTSTART;TZID=America/Chicago:20251006T190000
DTEND;TZID=America/Chicago:20251006T200000
DTSTAMP:20260425T221155
CREATED:20250701T154954Z
LAST-MODIFIED:20250701T154956Z
UID:10005826-1759777200-1759780800@www.fccminneapolis.org
SUMMARY:Women's Fellowship
DESCRIPTION:FCC’s Women’s Fellowship meets on Zoom the first Monday of each month. The group is currently reading and discussing the book Learning to Walk in the Dark by Barbara Brown Taylor. The fall meeting dates are September 9 (later due to Labor Day)\, October 7\, November 4\, and December 2. All members and friends of FCC are welcome to join us. Contact Kathy H. for a Zoom link.
URL:https://www.fccminneapolis.org/event/womens-fellowship-8-2-2-2-2/2025-10-06/
CATEGORIES:Fellowship,Women's Fellowship
END:VEVENT
BEGIN:VEVENT
DTSTART;TZID=America/Chicago:20251005T160000
DTEND;TZID=America/Chicago:20251005T170000
DTSTAMP:20260425T221155
CREATED:20250930T181347Z
LAST-MODIFIED:20250930T181347Z
UID:10006464-1759680000-1759683600@www.fccminneapolis.org
SUMMARY:SHMC Book Study: American Idolatry by Andrew Whitehead
DESCRIPTION:https://us02web.zoom.us/j/86972670709
URL:https://www.fccminneapolis.org/event/shmc-book-study-american-idolatry-by-andrew-whitehead/2025-10-05/
END:VEVENT
BEGIN:VEVENT
DTSTART;TZID=America/Chicago:20251005T120000
DTEND;TZID=America/Chicago:20251005T140000
DTSTAMP:20260425T221155
CREATED:20250930T181906Z
LAST-MODIFIED:20250930T181906Z
UID:10006475-1759665600-1759672800@www.fccminneapolis.org
SUMMARY:Closing Reception for Nat Rosenberg's Art Installation
DESCRIPTION:
URL:https://www.fccminneapolis.org/event/closing-reception-for-nat-rosenbergs-art-installation/
LOCATION:SHMC Gathering Space (Upper Level)
END:VEVENT
END:VCALENDAR