BEGIN:VCALENDAR
VERSION:2.0
PRODID:-//First Christian Church (Disciples of Christ) - ECPv6.15.13//NONSGML v1.0//EN
CALSCALE:GREGORIAN
METHOD:PUBLISH
X-ORIGINAL-URL:https://www.fccminneapolis.org
X-WR-CALDESC:Events for First Christian Church (Disciples of Christ)
REFRESH-INTERVAL;VALUE=DURATION:PT1H
X-Robots-Tag:noindex
X-PUBLISHED-TTL:PT1H
BEGIN:VTIMEZONE
TZID:America/Chicago
BEGIN:DAYLIGHT
TZOFFSETFROM:-0600
TZOFFSETTO:-0500
TZNAME:CDT
DTSTART:20250309T080000
END:DAYLIGHT
BEGIN:STANDARD
TZOFFSETFROM:-0500
TZOFFSETTO:-0600
TZNAME:CST
DTSTART:20251102T070000
END:STANDARD
BEGIN:DAYLIGHT
TZOFFSETFROM:-0600
TZOFFSETTO:-0500
TZNAME:CDT
DTSTART:20260308T080000
END:DAYLIGHT
BEGIN:STANDARD
TZOFFSETFROM:-0500
TZOFFSETTO:-0600
TZNAME:CST
DTSTART:20261101T070000
END:STANDARD
BEGIN:DAYLIGHT
TZOFFSETFROM:-0600
TZOFFSETTO:-0500
TZNAME:CDT
DTSTART:20270314T080000
END:DAYLIGHT
BEGIN:STANDARD
TZOFFSETFROM:-0500
TZOFFSETTO:-0600
TZNAME:CST
DTSTART:20271107T070000
END:STANDARD
END:VTIMEZONE
BEGIN:VEVENT
DTSTART;TZID=America/Chicago:20260415T090000
DTEND;TZID=America/Chicago:20260415T100000
DTSTAMP:20260425T075016
CREATED:20250930T182954Z
LAST-MODIFIED:20250930T182954Z
UID:10005961-1776243600-1776247200@www.fccminneapolis.org
SUMMARY:Coffee Hour with Community
DESCRIPTION:https://us02web.zoom.us/j/81318971740 \nMEETING ID: 813 1897 1740
URL:https://www.fccminneapolis.org/event/coffee-hour-with-community-3-2/2026-04-15/
LOCATION:FCC Zoom Channel
CATEGORIES:FCC Meetings
END:VEVENT
BEGIN:VEVENT
DTSTART;TZID=America/Chicago:20260416T190000
DTEND;TZID=America/Chicago:20260416T200000
DTSTAMP:20260425T075016
CREATED:20250807T175301Z
LAST-MODIFIED:20250807T175301Z
UID:10005911-1776366000-1776369600@www.fccminneapolis.org
SUMMARY:FCC and Friends Book Club
DESCRIPTION:Feeding Ghosts by Tessa Hulls
URL:https://www.fccminneapolis.org/event/fcc-and-friends-book-club-8/
LOCATION:FCC Zoom Channel
END:VEVENT
BEGIN:VEVENT
DTSTART;TZID=America/Chicago:20260418T090000
DTEND;TZID=America/Chicago:20260418T100000
DTSTAMP:20260425T075016
CREATED:20250930T181740Z
LAST-MODIFIED:20250930T182917Z
UID:10006221-1776502800-1776506400@www.fccminneapolis.org
SUMMARY:The Breakfast Club
DESCRIPTION:https://us02web.zoom.us/j/81318971740 \nMEETING ID: 813 1897 1740
URL:https://www.fccminneapolis.org/event/coffee-hour-with-community-2-2/2026-04-18/
LOCATION:FCC LiveStream Channel
END:VEVENT
BEGIN:VEVENT
DTSTART;TZID=America/Chicago:20260418T100000
DTEND;TZID=America/Chicago:20260418T110000
DTSTAMP:20260425T075016
CREATED:20260212T165547Z
LAST-MODIFIED:20260212T165547Z
UID:10008036-1776506400-1776510000@www.fccminneapolis.org
SUMMARY:Grief Support Group
DESCRIPTION:
URL:https://www.fccminneapolis.org/event/grief-support-group-3/2026-04-18/
LOCATION:Westminster Presbyterian Church\, 1200 S Marquette Ave\, Minnneapolis\, MN\, 55403\, United States
END:VEVENT
BEGIN:VEVENT
DTSTART;TZID=America/Chicago:20260419T090000
DTEND;TZID=America/Chicago:20260419T100000
DTSTAMP:20260425T075016
CREATED:20260303T172003Z
LAST-MODIFIED:20260303T172003Z
UID:10008621-1776589200-1776592800@www.fccminneapolis.org
SUMMARY:SpringHouse Youth Group Activities
DESCRIPTION:Please join Chelsea and other SpringHouse youth for games\, snacks\, fellowship\, and exploring faith in the youth room (behind the squiggle room). All youth ages 10-18 are invited to participate! If you have any questions\, please reach out to Chelsea at springhouseyouth@fccmpls.org.
URL:https://www.fccminneapolis.org/event/springhouse-youth-group-activities-2/2026-04-19/
LOCATION:SHMC Youth Room
END:VEVENT
BEGIN:VEVENT
DTSTART;TZID=America/Chicago:20260419T090000
DTEND;TZID=America/Chicago:20260419T123000
DTSTAMP:20260425T075016
CREATED:20260303T172214Z
LAST-MODIFIED:20260303T172244Z
UID:10008883-1776589200-1776601800@www.fccminneapolis.org
SUMMARY:SpringHouse Youth Room Open Hours
DESCRIPTION:
URL:https://www.fccminneapolis.org/event/springhouse-youth-room-open-hours-2/2026-04-19/
LOCATION:SHMC Youth Room
END:VEVENT
BEGIN:VEVENT
DTSTART;TZID=America/Chicago:20260419T100000
DTEND;TZID=America/Chicago:20260419T120000
DTSTAMP:20260425T075016
CREATED:20260303T171333Z
LAST-MODIFIED:20260303T171644Z
UID:10008359-1776592800-1776600000@www.fccminneapolis.org
SUMMARY:Sunday Worship Service (Online and In-Person)
DESCRIPTION:FCC LIVESTREAM CHANNEL:\nTo access our LiveStream channel: https://www.youtube.com/channel/UCPVqQ57szyEh8JCtF_8lhiw \nONLINE WORSHIP MATERIALS:\nUnder the sliding picture at the top of the website\, you will see a series of icons that have the various items you will need for Sunday worship. \nONLINE GIVING:\nThrough our FCC website\, you can access online giving and Sunday bulletin materials. In the upper right-hand corner of the site\, you will see a button that says “Give”. Click on this button to access the online giving portal. 💞
URL:https://www.fccminneapolis.org/event/sunday-worship-service/2026-04-19/
LOCATION:SHMC Garden Sanctuary (lower level)
END:VEVENT
BEGIN:VEVENT
DTSTART;TZID=America/Chicago:20260421T190000
DTEND;TZID=America/Chicago:20260421T210000
DTSTAMP:20260425T075016
CREATED:20260121T023138Z
LAST-MODIFIED:20260121T023138Z
UID:10007836-1776798000-1776805200@www.fccminneapolis.org
SUMMARY:FCC Cabinet Meeting
DESCRIPTION:
URL:https://www.fccminneapolis.org/event/fcc-cabinet-meeting/2026-04-21/
LOCATION:FCC Zoom Channel
CATEGORIES:FCC Meetings
END:VEVENT
BEGIN:VEVENT
DTSTART;TZID=America/Chicago:20260422T090000
DTEND;TZID=America/Chicago:20260422T100000
DTSTAMP:20260425T075016
CREATED:20250930T182954Z
LAST-MODIFIED:20250930T182954Z
UID:10005962-1776848400-1776852000@www.fccminneapolis.org
SUMMARY:Coffee Hour with Community
DESCRIPTION:https://us02web.zoom.us/j/81318971740 \nMEETING ID: 813 1897 1740
URL:https://www.fccminneapolis.org/event/coffee-hour-with-community-3-2/2026-04-22/
LOCATION:FCC Zoom Channel
CATEGORIES:FCC Meetings
END:VEVENT
BEGIN:VEVENT
DTSTART;TZID=America/Chicago:20260425T090000
DTEND;TZID=America/Chicago:20260425T100000
DTSTAMP:20260425T075016
CREATED:20250930T181740Z
LAST-MODIFIED:20250930T182917Z
UID:10006222-1777107600-1777111200@www.fccminneapolis.org
SUMMARY:The Breakfast Club
DESCRIPTION:https://us02web.zoom.us/j/81318971740 \nMEETING ID: 813 1897 1740
URL:https://www.fccminneapolis.org/event/coffee-hour-with-community-2-2/2026-04-25/
LOCATION:FCC LiveStream Channel
END:VEVENT
BEGIN:VEVENT
DTSTART;TZID=America/Chicago:20260425T100000
DTEND;TZID=America/Chicago:20260425T110000
DTSTAMP:20260425T075016
CREATED:20260212T165547Z
LAST-MODIFIED:20260212T165547Z
UID:10008037-1777111200-1777114800@www.fccminneapolis.org
SUMMARY:Grief Support Group
DESCRIPTION:
URL:https://www.fccminneapolis.org/event/grief-support-group-3/2026-04-25/
LOCATION:Westminster Presbyterian Church\, 1200 S Marquette Ave\, Minnneapolis\, MN\, 55403\, United States
END:VEVENT
BEGIN:VEVENT
DTSTART;TZID=America/Chicago:20260426T090000
DTEND;TZID=America/Chicago:20260426T100000
DTSTAMP:20260425T075016
CREATED:20260303T172003Z
LAST-MODIFIED:20260303T172003Z
UID:10008622-1777194000-1777197600@www.fccminneapolis.org
SUMMARY:SpringHouse Youth Group Activities
DESCRIPTION:Please join Chelsea and other SpringHouse youth for games\, snacks\, fellowship\, and exploring faith in the youth room (behind the squiggle room). All youth ages 10-18 are invited to participate! If you have any questions\, please reach out to Chelsea at springhouseyouth@fccmpls.org.
URL:https://www.fccminneapolis.org/event/springhouse-youth-group-activities-2/2026-04-26/
LOCATION:SHMC Youth Room
END:VEVENT
BEGIN:VEVENT
DTSTART;TZID=America/Chicago:20260426T090000
DTEND;TZID=America/Chicago:20260426T123000
DTSTAMP:20260425T075016
CREATED:20260303T172214Z
LAST-MODIFIED:20260303T172244Z
UID:10008884-1777194000-1777206600@www.fccminneapolis.org
SUMMARY:SpringHouse Youth Room Open Hours
DESCRIPTION:
URL:https://www.fccminneapolis.org/event/springhouse-youth-room-open-hours-2/2026-04-26/
LOCATION:SHMC Youth Room
END:VEVENT
BEGIN:VEVENT
DTSTART;TZID=America/Chicago:20260426T100000
DTEND;TZID=America/Chicago:20260426T120000
DTSTAMP:20260425T075016
CREATED:20260303T171333Z
LAST-MODIFIED:20260303T171644Z
UID:10008360-1777197600-1777204800@www.fccminneapolis.org
SUMMARY:Sunday Worship Service (Online and In-Person)
DESCRIPTION:FCC LIVESTREAM CHANNEL:\nTo access our LiveStream channel: https://www.youtube.com/channel/UCPVqQ57szyEh8JCtF_8lhiw \nONLINE WORSHIP MATERIALS:\nUnder the sliding picture at the top of the website\, you will see a series of icons that have the various items you will need for Sunday worship. \nONLINE GIVING:\nThrough our FCC website\, you can access online giving and Sunday bulletin materials. In the upper right-hand corner of the site\, you will see a button that says “Give”. Click on this button to access the online giving portal. 💞
URL:https://www.fccminneapolis.org/event/sunday-worship-service/2026-04-26/
LOCATION:SHMC Garden Sanctuary (lower level)
END:VEVENT
BEGIN:VEVENT
DTSTART;TZID=America/Chicago:20260427T190000
DTEND;TZID=America/Chicago:20260427T190000
DTSTAMP:20260425T075016
CREATED:20260312T155956Z
LAST-MODIFIED:20260312T160101Z
UID:10009138-1777316400-1777316400@www.fccminneapolis.org
SUMMARY:Deacons Meeting
DESCRIPTION:
URL:https://www.fccminneapolis.org/event/deacons-meeting-2/
LOCATION:Zoom
END:VEVENT
BEGIN:VEVENT
DTSTART;TZID=America/Chicago:20260427T190000
DTEND;TZID=America/Chicago:20260427T193000
DTSTAMP:20260425T075016
CREATED:20250529T151052Z
LAST-MODIFIED:20251230T182345Z
UID:10007387-1777316400-1777318200@www.fccminneapolis.org
SUMMARY:Worship Committee
DESCRIPTION:
URL:https://www.fccminneapolis.org/event/worship-committee-3/2026-04-27/
LOCATION:FCC Zoom Channel
END:VEVENT
BEGIN:VEVENT
DTSTART;TZID=America/Chicago:20260428T130000
DTEND;TZID=America/Chicago:20260428T140000
DTSTAMP:20260425T075016
CREATED:20260127T201219Z
LAST-MODIFIED:20260127T201220Z
UID:10007847-1777381200-1777384800@www.fccminneapolis.org
SUMMARY:Mission & Outreach
DESCRIPTION:
URL:https://www.fccminneapolis.org/event/mission-outreach-4-2-2-2-2/2026-04-28/
LOCATION:FCC Zoom Channel
CATEGORIES:FCC Meetings,Mission & Outreach
END:VEVENT
BEGIN:VEVENT
DTSTART;TZID=America/Chicago:20260429T090000
DTEND;TZID=America/Chicago:20260429T100000
DTSTAMP:20260425T075016
CREATED:20250930T182954Z
LAST-MODIFIED:20250930T182954Z
UID:10005963-1777453200-1777456800@www.fccminneapolis.org
SUMMARY:Coffee Hour with Community
DESCRIPTION:https://us02web.zoom.us/j/81318971740 \nMEETING ID: 813 1897 1740
URL:https://www.fccminneapolis.org/event/coffee-hour-with-community-3-2/2026-04-29/
LOCATION:FCC Zoom Channel
CATEGORIES:FCC Meetings
END:VEVENT
BEGIN:VEVENT
DTSTART;TZID=America/Chicago:20260502T090000
DTEND;TZID=America/Chicago:20260502T100000
DTSTAMP:20260425T075016
CREATED:20250930T181740Z
LAST-MODIFIED:20250930T182917Z
UID:10006223-1777712400-1777716000@www.fccminneapolis.org
SUMMARY:The Breakfast Club
DESCRIPTION:https://us02web.zoom.us/j/81318971740 \nMEETING ID: 813 1897 1740
URL:https://www.fccminneapolis.org/event/coffee-hour-with-community-2-2/2026-05-02/
LOCATION:FCC LiveStream Channel
END:VEVENT
BEGIN:VEVENT
DTSTART;TZID=America/Chicago:20260502T100000
DTEND;TZID=America/Chicago:20260502T110000
DTSTAMP:20260425T075016
CREATED:20260226T165001Z
LAST-MODIFIED:20260226T165001Z
UID:10008038-1777716000-1777719600@www.fccminneapolis.org
SUMMARY:Grief Support Group
DESCRIPTION:
URL:https://www.fccminneapolis.org/event/grief-support-group-3-2/2026-05-02/
LOCATION:SHMC Lower Level
END:VEVENT
BEGIN:VEVENT
DTSTART;TZID=America/Chicago:20260503T090000
DTEND;TZID=America/Chicago:20260503T100000
DTSTAMP:20260425T075016
CREATED:20260303T172003Z
LAST-MODIFIED:20260303T172003Z
UID:10008623-1777798800-1777802400@www.fccminneapolis.org
SUMMARY:SpringHouse Youth Group Activities
DESCRIPTION:Please join Chelsea and other SpringHouse youth for games\, snacks\, fellowship\, and exploring faith in the youth room (behind the squiggle room). All youth ages 10-18 are invited to participate! If you have any questions\, please reach out to Chelsea at springhouseyouth@fccmpls.org.
URL:https://www.fccminneapolis.org/event/springhouse-youth-group-activities-2/2026-05-03/
LOCATION:SHMC Youth Room
END:VEVENT
BEGIN:VEVENT
DTSTART;TZID=America/Chicago:20260503T090000
DTEND;TZID=America/Chicago:20260503T123000
DTSTAMP:20260425T075016
CREATED:20260303T172214Z
LAST-MODIFIED:20260303T172244Z
UID:10008885-1777798800-1777811400@www.fccminneapolis.org
SUMMARY:SpringHouse Youth Room Open Hours
DESCRIPTION:
URL:https://www.fccminneapolis.org/event/springhouse-youth-room-open-hours-2/2026-05-03/
LOCATION:SHMC Youth Room
END:VEVENT
BEGIN:VEVENT
DTSTART;TZID=America/Chicago:20260503T100000
DTEND;TZID=America/Chicago:20260503T120000
DTSTAMP:20260425T075016
CREATED:20260303T171333Z
LAST-MODIFIED:20260303T171644Z
UID:10008361-1777802400-1777809600@www.fccminneapolis.org
SUMMARY:Sunday Worship Service (Online and In-Person)
DESCRIPTION:FCC LIVESTREAM CHANNEL:\nTo access our LiveStream channel: https://www.youtube.com/channel/UCPVqQ57szyEh8JCtF_8lhiw \nONLINE WORSHIP MATERIALS:\nUnder the sliding picture at the top of the website\, you will see a series of icons that have the various items you will need for Sunday worship. \nONLINE GIVING:\nThrough our FCC website\, you can access online giving and Sunday bulletin materials. In the upper right-hand corner of the site\, you will see a button that says “Give”. Click on this button to access the online giving portal. 💞
URL:https://www.fccminneapolis.org/event/sunday-worship-service/2026-05-03/
LOCATION:SHMC Garden Sanctuary (lower level)
END:VEVENT
BEGIN:VEVENT
DTSTART;TZID=America/Chicago:20260504T190000
DTEND;TZID=America/Chicago:20260504T200000
DTSTAMP:20260425T075016
CREATED:20251230T182526Z
LAST-MODIFIED:20251230T183554Z
UID:10007698-1777921200-1777924800@www.fccminneapolis.org
SUMMARY:Women's Fellowship
DESCRIPTION:FCC’s Women’s Fellowship meets on Zoom the first Monday of each month. All members and friends of FCC are welcome to join us. Contact Kathy H. for a Zoom link.
URL:https://www.fccminneapolis.org/event/womens-fellowship-8-2-2-2-2-2/2026-05-04/
CATEGORIES:Fellowship,Women's Fellowship
END:VEVENT
BEGIN:VEVENT
DTSTART;TZID=America/Chicago:20260506T090000
DTEND;TZID=America/Chicago:20260506T100000
DTSTAMP:20260425T075016
CREATED:20250930T182954Z
LAST-MODIFIED:20250930T182954Z
UID:10005964-1778058000-1778061600@www.fccminneapolis.org
SUMMARY:Coffee Hour with Community
DESCRIPTION:https://us02web.zoom.us/j/81318971740 \nMEETING ID: 813 1897 1740
URL:https://www.fccminneapolis.org/event/coffee-hour-with-community-3-2/2026-05-06/
LOCATION:FCC Zoom Channel
CATEGORIES:FCC Meetings
END:VEVENT
BEGIN:VEVENT
DTSTART;TZID=America/Chicago:20260506T190000
DTEND;TZID=America/Chicago:20260506T200000
DTSTAMP:20260425T075016
CREATED:20251230T182814Z
LAST-MODIFIED:20260301T232414Z
UID:10007448-1778094000-1778097600@www.fccminneapolis.org
SUMMARY:Elders
DESCRIPTION:
URL:https://www.fccminneapolis.org/event/elders-3-2-2/2026-05-06/
LOCATION:FCC Zoom Channel
CATEGORIES:FCC Meetings
END:VEVENT
BEGIN:VEVENT
DTSTART;TZID=America/Chicago:20260509T090000
DTEND;TZID=America/Chicago:20260509T100000
DTSTAMP:20260425T075016
CREATED:20250930T181740Z
LAST-MODIFIED:20250930T182917Z
UID:10006224-1778317200-1778320800@www.fccminneapolis.org
SUMMARY:The Breakfast Club
DESCRIPTION:https://us02web.zoom.us/j/81318971740 \nMEETING ID: 813 1897 1740
URL:https://www.fccminneapolis.org/event/coffee-hour-with-community-2-2/2026-05-09/
LOCATION:FCC LiveStream Channel
END:VEVENT
BEGIN:VEVENT
DTSTART;TZID=America/Chicago:20260509T100000
DTEND;TZID=America/Chicago:20260509T110000
DTSTAMP:20260425T075016
CREATED:20260226T165001Z
LAST-MODIFIED:20260226T165001Z
UID:10008039-1778320800-1778324400@www.fccminneapolis.org
SUMMARY:Grief Support Group
DESCRIPTION:
URL:https://www.fccminneapolis.org/event/grief-support-group-3-2/2026-05-09/
LOCATION:SHMC Lower Level
END:VEVENT
BEGIN:VEVENT
DTSTART;TZID=America/Chicago:20260510T090000
DTEND;TZID=America/Chicago:20260510T100000
DTSTAMP:20260425T075016
CREATED:20260303T172003Z
LAST-MODIFIED:20260303T172003Z
UID:10008624-1778403600-1778407200@www.fccminneapolis.org
SUMMARY:SpringHouse Youth Group Activities
DESCRIPTION:Please join Chelsea and other SpringHouse youth for games\, snacks\, fellowship\, and exploring faith in the youth room (behind the squiggle room). All youth ages 10-18 are invited to participate! If you have any questions\, please reach out to Chelsea at springhouseyouth@fccmpls.org.
URL:https://www.fccminneapolis.org/event/springhouse-youth-group-activities-2/2026-05-10/
LOCATION:SHMC Youth Room
END:VEVENT
BEGIN:VEVENT
DTSTART;TZID=America/Chicago:20260510T090000
DTEND;TZID=America/Chicago:20260510T123000
DTSTAMP:20260425T075016
CREATED:20260303T172214Z
LAST-MODIFIED:20260303T172244Z
UID:10008886-1778403600-1778416200@www.fccminneapolis.org
SUMMARY:SpringHouse Youth Room Open Hours
DESCRIPTION:
URL:https://www.fccminneapolis.org/event/springhouse-youth-room-open-hours-2/2026-05-10/
LOCATION:SHMC Youth Room
END:VEVENT
END:VCALENDAR