BEGIN:VCALENDAR
VERSION:2.0
PRODID:-//First Christian Church (Disciples of Christ) - ECPv6.15.13//NONSGML v1.0//EN
CALSCALE:GREGORIAN
METHOD:PUBLISH
X-WR-CALNAME:First Christian Church (Disciples of Christ)
X-ORIGINAL-URL:https://www.fccminneapolis.org
X-WR-CALDESC:Events for First Christian Church (Disciples of Christ)
REFRESH-INTERVAL;VALUE=DURATION:PT1H
X-Robots-Tag:noindex
X-PUBLISHED-TTL:PT1H
BEGIN:VTIMEZONE
TZID:America/Chicago
BEGIN:DAYLIGHT
TZOFFSETFROM:-0600
TZOFFSETTO:-0500
TZNAME:CDT
DTSTART:20230312T080000
END:DAYLIGHT
BEGIN:STANDARD
TZOFFSETFROM:-0500
TZOFFSETTO:-0600
TZNAME:CST
DTSTART:20231105T070000
END:STANDARD
BEGIN:DAYLIGHT
TZOFFSETFROM:-0600
TZOFFSETTO:-0500
TZNAME:CDT
DTSTART:20240310T080000
END:DAYLIGHT
BEGIN:STANDARD
TZOFFSETFROM:-0500
TZOFFSETTO:-0600
TZNAME:CST
DTSTART:20241103T070000
END:STANDARD
BEGIN:DAYLIGHT
TZOFFSETFROM:-0600
TZOFFSETTO:-0500
TZNAME:CDT
DTSTART:20250309T080000
END:DAYLIGHT
BEGIN:STANDARD
TZOFFSETFROM:-0500
TZOFFSETTO:-0600
TZNAME:CST
DTSTART:20251102T070000
END:STANDARD
BEGIN:DAYLIGHT
TZOFFSETFROM:-0600
TZOFFSETTO:-0500
TZNAME:CDT
DTSTART:20260308T080000
END:DAYLIGHT
BEGIN:STANDARD
TZOFFSETFROM:-0500
TZOFFSETTO:-0600
TZNAME:CST
DTSTART:20261101T070000
END:STANDARD
END:VTIMEZONE
BEGIN:VEVENT
DTSTART;TZID=America/Chicago:20250420T090000
DTEND;TZID=America/Chicago:20250420T123000
DTSTAMP:20260425T194356
CREATED:20230408T120318Z
LAST-MODIFIED:20250125T161636Z
UID:10004867-1745139600-1745152200@www.fccminneapolis.org
SUMMARY:SpringHouse Youth Room Open Hours
DESCRIPTION:
URL:https://www.fccminneapolis.org/event/springhouse-youth-room-open-hours/2025-04-20/
LOCATION:SHMC Youth Room
CATEGORIES:SpringHouse Joint Ministries,Youth
END:VEVENT
BEGIN:VEVENT
DTSTART;TZID=America/Chicago:20250413T090000
DTEND;TZID=America/Chicago:20250413T123000
DTSTAMP:20260425T194356
CREATED:20230408T120318Z
LAST-MODIFIED:20250125T161636Z
UID:10004866-1744534800-1744547400@www.fccminneapolis.org
SUMMARY:SpringHouse Youth Room Open Hours
DESCRIPTION:
URL:https://www.fccminneapolis.org/event/springhouse-youth-room-open-hours/2025-04-13/
LOCATION:SHMC Youth Room
CATEGORIES:SpringHouse Joint Ministries,Youth
END:VEVENT
BEGIN:VEVENT
DTSTART;TZID=America/Chicago:20250406T090000
DTEND;TZID=America/Chicago:20250406T123000
DTSTAMP:20260425T194356
CREATED:20230408T120318Z
LAST-MODIFIED:20250125T161636Z
UID:10004865-1743930000-1743942600@www.fccminneapolis.org
SUMMARY:SpringHouse Youth Room Open Hours
DESCRIPTION:
URL:https://www.fccminneapolis.org/event/springhouse-youth-room-open-hours/2025-04-06/
LOCATION:SHMC Youth Room
CATEGORIES:SpringHouse Joint Ministries,Youth
END:VEVENT
BEGIN:VEVENT
DTSTART;TZID=America/Chicago:20250330T090000
DTEND;TZID=America/Chicago:20250330T123000
DTSTAMP:20260425T194356
CREATED:20230408T120318Z
LAST-MODIFIED:20250125T161636Z
UID:10004864-1743325200-1743337800@www.fccminneapolis.org
SUMMARY:SpringHouse Youth Room Open Hours
DESCRIPTION:
URL:https://www.fccminneapolis.org/event/springhouse-youth-room-open-hours/2025-03-30/
LOCATION:SHMC Youth Room
CATEGORIES:SpringHouse Joint Ministries,Youth
END:VEVENT
BEGIN:VEVENT
DTSTART;TZID=America/Chicago:20250323T090000
DTEND;TZID=America/Chicago:20250323T123000
DTSTAMP:20260425T194356
CREATED:20230408T120318Z
LAST-MODIFIED:20250125T161636Z
UID:10004863-1742720400-1742733000@www.fccminneapolis.org
SUMMARY:SpringHouse Youth Room Open Hours
DESCRIPTION:
URL:https://www.fccminneapolis.org/event/springhouse-youth-room-open-hours/2025-03-23/
LOCATION:SHMC Youth Room
CATEGORIES:SpringHouse Joint Ministries,Youth
END:VEVENT
BEGIN:VEVENT
DTSTART;TZID=America/Chicago:20250316T090000
DTEND;TZID=America/Chicago:20250316T123000
DTSTAMP:20260425T194356
CREATED:20230408T120318Z
LAST-MODIFIED:20250125T161636Z
UID:10004862-1742115600-1742128200@www.fccminneapolis.org
SUMMARY:SpringHouse Youth Room Open Hours
DESCRIPTION:
URL:https://www.fccminneapolis.org/event/springhouse-youth-room-open-hours/2025-03-16/
LOCATION:SHMC Youth Room
CATEGORIES:SpringHouse Joint Ministries,Youth
END:VEVENT
BEGIN:VEVENT
DTSTART;TZID=America/Chicago:20250309T090000
DTEND;TZID=America/Chicago:20250309T123000
DTSTAMP:20260425T194356
CREATED:20230408T120318Z
LAST-MODIFIED:20250125T161636Z
UID:10004861-1741510800-1741523400@www.fccminneapolis.org
SUMMARY:SpringHouse Youth Room Open Hours
DESCRIPTION:
URL:https://www.fccminneapolis.org/event/springhouse-youth-room-open-hours/2025-03-09/
LOCATION:SHMC Youth Room
CATEGORIES:SpringHouse Joint Ministries,Youth
END:VEVENT
BEGIN:VEVENT
DTSTART;TZID=America/Chicago:20250302T090000
DTEND;TZID=America/Chicago:20250302T123000
DTSTAMP:20260425T194356
CREATED:20230408T120318Z
LAST-MODIFIED:20250125T161636Z
UID:10004860-1740906000-1740918600@www.fccminneapolis.org
SUMMARY:SpringHouse Youth Room Open Hours
DESCRIPTION:
URL:https://www.fccminneapolis.org/event/springhouse-youth-room-open-hours/2025-03-02/
LOCATION:SHMC Youth Room
CATEGORIES:SpringHouse Joint Ministries,Youth
END:VEVENT
BEGIN:VEVENT
DTSTART;TZID=America/Chicago:20250223T090000
DTEND;TZID=America/Chicago:20250223T123000
DTSTAMP:20260425T194356
CREATED:20230408T120318Z
LAST-MODIFIED:20250125T161636Z
UID:10004859-1740301200-1740313800@www.fccminneapolis.org
SUMMARY:SpringHouse Youth Room Open Hours
DESCRIPTION:
URL:https://www.fccminneapolis.org/event/springhouse-youth-room-open-hours/2025-02-23/
LOCATION:SHMC Youth Room
CATEGORIES:SpringHouse Joint Ministries,Youth
END:VEVENT
BEGIN:VEVENT
DTSTART;TZID=America/Chicago:20250216T090000
DTEND;TZID=America/Chicago:20250216T123000
DTSTAMP:20260425T194356
CREATED:20230408T120318Z
LAST-MODIFIED:20250125T161636Z
UID:10004858-1739696400-1739709000@www.fccminneapolis.org
SUMMARY:SpringHouse Youth Room Open Hours
DESCRIPTION:
URL:https://www.fccminneapolis.org/event/springhouse-youth-room-open-hours/2025-02-16/
LOCATION:SHMC Youth Room
CATEGORIES:SpringHouse Joint Ministries,Youth
END:VEVENT
BEGIN:VEVENT
DTSTART;TZID=America/Chicago:20250209T090000
DTEND;TZID=America/Chicago:20250209T123000
DTSTAMP:20260425T194356
CREATED:20230408T120318Z
LAST-MODIFIED:20250125T161636Z
UID:10004857-1739091600-1739104200@www.fccminneapolis.org
SUMMARY:SpringHouse Youth Room Open Hours
DESCRIPTION:
URL:https://www.fccminneapolis.org/event/springhouse-youth-room-open-hours/2025-02-09/
LOCATION:SHMC Youth Room
CATEGORIES:SpringHouse Joint Ministries,Youth
END:VEVENT
BEGIN:VEVENT
DTSTART;TZID=America/Chicago:20250202T090000
DTEND;TZID=America/Chicago:20250202T123000
DTSTAMP:20260425T194356
CREATED:20230408T120318Z
LAST-MODIFIED:20250125T161636Z
UID:10004856-1738486800-1738499400@www.fccminneapolis.org
SUMMARY:SpringHouse Youth Room Open Hours
DESCRIPTION:
URL:https://www.fccminneapolis.org/event/springhouse-youth-room-open-hours/2025-02-02/
LOCATION:SHMC Youth Room
CATEGORIES:SpringHouse Joint Ministries,Youth
END:VEVENT
BEGIN:VEVENT
DTSTART;TZID=America/Chicago:20250119T090000
DTEND;TZID=America/Chicago:20250119T123000
DTSTAMP:20260425T194356
CREATED:20230408T120318Z
LAST-MODIFIED:20250125T161636Z
UID:10004854-1737277200-1737289800@www.fccminneapolis.org
SUMMARY:SpringHouse Youth Room Open Hours
DESCRIPTION:
URL:https://www.fccminneapolis.org/event/springhouse-youth-room-open-hours/2025-01-19/
LOCATION:SHMC Youth Room
CATEGORIES:SpringHouse Joint Ministries,Youth
END:VEVENT
BEGIN:VEVENT
DTSTART;TZID=America/Chicago:20250112T090000
DTEND;TZID=America/Chicago:20250112T123000
DTSTAMP:20260425T194356
CREATED:20230408T120318Z
LAST-MODIFIED:20250125T161636Z
UID:10004853-1736672400-1736685000@www.fccminneapolis.org
SUMMARY:SpringHouse Youth Room Open Hours
DESCRIPTION:
URL:https://www.fccminneapolis.org/event/springhouse-youth-room-open-hours/2025-01-12/
LOCATION:SHMC Youth Room
CATEGORIES:SpringHouse Joint Ministries,Youth
END:VEVENT
BEGIN:VEVENT
DTSTART;TZID=America/Chicago:20250105T090000
DTEND;TZID=America/Chicago:20250105T123000
DTSTAMP:20260425T194356
CREATED:20230408T120318Z
LAST-MODIFIED:20250125T161636Z
UID:10004852-1736067600-1736080200@www.fccminneapolis.org
SUMMARY:SpringHouse Youth Room Open Hours
DESCRIPTION:
URL:https://www.fccminneapolis.org/event/springhouse-youth-room-open-hours/2025-01-05/
LOCATION:SHMC Youth Room
CATEGORIES:SpringHouse Joint Ministries,Youth
END:VEVENT
BEGIN:VEVENT
DTSTART;TZID=America/Chicago:20241229T090000
DTEND;TZID=America/Chicago:20241229T123000
DTSTAMP:20260425T194356
CREATED:20230408T120318Z
LAST-MODIFIED:20250125T161636Z
UID:10003596-1735462800-1735475400@www.fccminneapolis.org
SUMMARY:SpringHouse Youth Room Open Hours
DESCRIPTION:
URL:https://www.fccminneapolis.org/event/springhouse-youth-room-open-hours/2024-12-29/
LOCATION:SHMC Youth Room
CATEGORIES:SpringHouse Joint Ministries,Youth
END:VEVENT
BEGIN:VEVENT
DTSTART;TZID=America/Chicago:20241222T090000
DTEND;TZID=America/Chicago:20241222T123000
DTSTAMP:20260425T194356
CREATED:20230408T120318Z
LAST-MODIFIED:20250125T161636Z
UID:10003595-1734858000-1734870600@www.fccminneapolis.org
SUMMARY:SpringHouse Youth Room Open Hours
DESCRIPTION:
URL:https://www.fccminneapolis.org/event/springhouse-youth-room-open-hours/2024-12-22/
LOCATION:SHMC Youth Room
CATEGORIES:SpringHouse Joint Ministries,Youth
END:VEVENT
BEGIN:VEVENT
DTSTART;TZID=America/Chicago:20241215T140000
DTEND;TZID=America/Chicago:20241215T160000
DTSTAMP:20260425T194356
CREATED:20241203T135646Z
LAST-MODIFIED:20241203T135646Z
UID:10004846-1734271200-1734278400@www.fccminneapolis.org
SUMMARY:"Once On This Island" - Edison HS
DESCRIPTION:Dec. 12 – 13 – 14\, 7 PM; Dec. 15\, 2PM. $15 Adults\, $7 students \nEdison HS Auditorium\, 700 22nd Ave NE\, Minneapolis \nOnce on This Island is a coming-of-age one-act stage musical that is a Caribbean-set retelling of Hans Christian Andersen’s fairy tale The Little Mermaid. It concerns a peasant girl in the French Antilles who falls in love with a rich boy and makes a deal with the gods to save his life. Jimmy Tucker and Moxie Tucker are both in the show! He’s a narrator\, she’s the Earth Goddess.
URL:https://www.fccminneapolis.org/event/once-on-this-island-edison-hs/2024-12-15/
LOCATION:Edison High School\, 700 22nd Ave NE\, Minneapolis\, MN\, 55418\, United States
CATEGORIES:Music,Youth
END:VEVENT
BEGIN:VEVENT
DTSTART;TZID=America/Chicago:20241215T090000
DTEND;TZID=America/Chicago:20241215T123000
DTSTAMP:20260425T194356
CREATED:20230408T120318Z
LAST-MODIFIED:20250125T161636Z
UID:10003594-1734253200-1734265800@www.fccminneapolis.org
SUMMARY:SpringHouse Youth Room Open Hours
DESCRIPTION:
URL:https://www.fccminneapolis.org/event/springhouse-youth-room-open-hours/2024-12-15/
LOCATION:SHMC Youth Room
CATEGORIES:SpringHouse Joint Ministries,Youth
END:VEVENT
BEGIN:VEVENT
DTSTART;TZID=America/Chicago:20241214T190000
DTEND;TZID=America/Chicago:20241214T210000
DTSTAMP:20260425T194356
CREATED:20241203T135646Z
LAST-MODIFIED:20241203T135646Z
UID:10004845-1734202800-1734210000@www.fccminneapolis.org
SUMMARY:"Once On This Island" - Edison HS
DESCRIPTION:Dec. 12 – 13 – 14\, 7 PM; Dec. 15\, 2PM. $15 Adults\, $7 students \nEdison HS Auditorium\, 700 22nd Ave NE\, Minneapolis \nOnce on This Island is a coming-of-age one-act stage musical that is a Caribbean-set retelling of Hans Christian Andersen’s fairy tale The Little Mermaid. It concerns a peasant girl in the French Antilles who falls in love with a rich boy and makes a deal with the gods to save his life. Jimmy Tucker and Moxie Tucker are both in the show! He’s a narrator\, she’s the Earth Goddess.
URL:https://www.fccminneapolis.org/event/once-on-this-island-edison-hs/2024-12-14/
LOCATION:Edison High School\, 700 22nd Ave NE\, Minneapolis\, MN\, 55418\, United States
CATEGORIES:Music,Youth
END:VEVENT
BEGIN:VEVENT
DTSTART;TZID=America/Chicago:20241213T190000
DTEND;TZID=America/Chicago:20241213T210000
DTSTAMP:20260425T194356
CREATED:20241203T135646Z
LAST-MODIFIED:20241203T135646Z
UID:10004844-1734116400-1734123600@www.fccminneapolis.org
SUMMARY:"Once On This Island" - Edison HS
DESCRIPTION:Dec. 12 – 13 – 14\, 7 PM; Dec. 15\, 2PM. $15 Adults\, $7 students \nEdison HS Auditorium\, 700 22nd Ave NE\, Minneapolis \nOnce on This Island is a coming-of-age one-act stage musical that is a Caribbean-set retelling of Hans Christian Andersen’s fairy tale The Little Mermaid. It concerns a peasant girl in the French Antilles who falls in love with a rich boy and makes a deal with the gods to save his life. Jimmy Tucker and Moxie Tucker are both in the show! He’s a narrator\, she’s the Earth Goddess.
URL:https://www.fccminneapolis.org/event/once-on-this-island-edison-hs/2024-12-13/
LOCATION:Edison High School\, 700 22nd Ave NE\, Minneapolis\, MN\, 55418\, United States
CATEGORIES:Music,Youth
END:VEVENT
BEGIN:VEVENT
DTSTART;TZID=America/Chicago:20241212T190000
DTEND;TZID=America/Chicago:20241212T210000
DTSTAMP:20260425T194356
CREATED:20241203T135646Z
LAST-MODIFIED:20241203T135646Z
UID:10004843-1734030000-1734037200@www.fccminneapolis.org
SUMMARY:"Once On This Island" - Edison HS
DESCRIPTION:Dec. 12 – 13 – 14\, 7 PM; Dec. 15\, 2PM. $15 Adults\, $7 students \nEdison HS Auditorium\, 700 22nd Ave NE\, Minneapolis \nOnce on This Island is a coming-of-age one-act stage musical that is a Caribbean-set retelling of Hans Christian Andersen’s fairy tale The Little Mermaid. It concerns a peasant girl in the French Antilles who falls in love with a rich boy and makes a deal with the gods to save his life. Jimmy Tucker and Moxie Tucker are both in the show! He’s a narrator\, she’s the Earth Goddess.
URL:https://www.fccminneapolis.org/event/once-on-this-island-edison-hs/2024-12-12/
LOCATION:Edison High School\, 700 22nd Ave NE\, Minneapolis\, MN\, 55418\, United States
CATEGORIES:Music,Youth
END:VEVENT
BEGIN:VEVENT
DTSTART;TZID=America/Chicago:20241208T090000
DTEND;TZID=America/Chicago:20241208T123000
DTSTAMP:20260425T194356
CREATED:20230408T120318Z
LAST-MODIFIED:20250125T161636Z
UID:10003593-1733648400-1733661000@www.fccminneapolis.org
SUMMARY:SpringHouse Youth Room Open Hours
DESCRIPTION:
URL:https://www.fccminneapolis.org/event/springhouse-youth-room-open-hours/2024-12-08/
LOCATION:SHMC Youth Room
CATEGORIES:SpringHouse Joint Ministries,Youth
END:VEVENT
BEGIN:VEVENT
DTSTART;TZID=America/Chicago:20241201T090000
DTEND;TZID=America/Chicago:20241201T123000
DTSTAMP:20260425T194356
CREATED:20230408T120318Z
LAST-MODIFIED:20250125T161636Z
UID:10003592-1733043600-1733056200@www.fccminneapolis.org
SUMMARY:SpringHouse Youth Room Open Hours
DESCRIPTION:
URL:https://www.fccminneapolis.org/event/springhouse-youth-room-open-hours/2024-12-01/
LOCATION:SHMC Youth Room
CATEGORIES:SpringHouse Joint Ministries,Youth
END:VEVENT
BEGIN:VEVENT
DTSTART;TZID=America/Chicago:20241124T090000
DTEND;TZID=America/Chicago:20241124T123000
DTSTAMP:20260425T194356
CREATED:20230408T120318Z
LAST-MODIFIED:20250125T161636Z
UID:10003591-1732438800-1732451400@www.fccminneapolis.org
SUMMARY:SpringHouse Youth Room Open Hours
DESCRIPTION:
URL:https://www.fccminneapolis.org/event/springhouse-youth-room-open-hours/2024-11-24/
LOCATION:SHMC Youth Room
CATEGORIES:SpringHouse Joint Ministries,Youth
END:VEVENT
BEGIN:VEVENT
DTSTART;TZID=America/Chicago:20241117T090000
DTEND;TZID=America/Chicago:20241117T123000
DTSTAMP:20260425T194356
CREATED:20230408T120318Z
LAST-MODIFIED:20250125T161636Z
UID:10003590-1731834000-1731846600@www.fccminneapolis.org
SUMMARY:SpringHouse Youth Room Open Hours
DESCRIPTION:
URL:https://www.fccminneapolis.org/event/springhouse-youth-room-open-hours/2024-11-17/
LOCATION:SHMC Youth Room
CATEGORIES:SpringHouse Joint Ministries,Youth
END:VEVENT
BEGIN:VEVENT
DTSTART;TZID=America/Chicago:20241110T090000
DTEND;TZID=America/Chicago:20241110T123000
DTSTAMP:20260425T194356
CREATED:20230408T120318Z
LAST-MODIFIED:20250125T161636Z
UID:10003589-1731229200-1731241800@www.fccminneapolis.org
SUMMARY:SpringHouse Youth Room Open Hours
DESCRIPTION:
URL:https://www.fccminneapolis.org/event/springhouse-youth-room-open-hours/2024-11-10/
LOCATION:SHMC Youth Room
CATEGORIES:SpringHouse Joint Ministries,Youth
END:VEVENT
BEGIN:VEVENT
DTSTART;TZID=America/Chicago:20241103T090000
DTEND;TZID=America/Chicago:20241103T123000
DTSTAMP:20260425T194356
CREATED:20230408T120318Z
LAST-MODIFIED:20250125T161636Z
UID:10003588-1730624400-1730637000@www.fccminneapolis.org
SUMMARY:SpringHouse Youth Room Open Hours
DESCRIPTION:
URL:https://www.fccminneapolis.org/event/springhouse-youth-room-open-hours/2024-11-03/
LOCATION:SHMC Youth Room
CATEGORIES:SpringHouse Joint Ministries,Youth
END:VEVENT
BEGIN:VEVENT
DTSTART;TZID=America/Chicago:20241027T090000
DTEND;TZID=America/Chicago:20241027T123000
DTSTAMP:20260425T194356
CREATED:20230408T120318Z
LAST-MODIFIED:20250125T161636Z
UID:10003587-1730019600-1730032200@www.fccminneapolis.org
SUMMARY:SpringHouse Youth Room Open Hours
DESCRIPTION:
URL:https://www.fccminneapolis.org/event/springhouse-youth-room-open-hours/2024-10-27/
LOCATION:SHMC Youth Room
CATEGORIES:SpringHouse Joint Ministries,Youth
END:VEVENT
BEGIN:VEVENT
DTSTART;TZID=America/Chicago:20241020T090000
DTEND;TZID=America/Chicago:20241020T123000
DTSTAMP:20260425T194356
CREATED:20230408T120318Z
LAST-MODIFIED:20250125T161636Z
UID:10003586-1729414800-1729427400@www.fccminneapolis.org
SUMMARY:SpringHouse Youth Room Open Hours
DESCRIPTION:
URL:https://www.fccminneapolis.org/event/springhouse-youth-room-open-hours/2024-10-20/
LOCATION:SHMC Youth Room
CATEGORIES:SpringHouse Joint Ministries,Youth
END:VEVENT
END:VCALENDAR