BEGIN:VCALENDAR
VERSION:2.0
PRODID:-//First Christian Church (Disciples of Christ) - ECPv6.15.13//NONSGML v1.0//EN
CALSCALE:GREGORIAN
METHOD:PUBLISH
X-WR-CALNAME:First Christian Church (Disciples of Christ)
X-ORIGINAL-URL:https://www.fccminneapolis.org
X-WR-CALDESC:Events for First Christian Church (Disciples of Christ)
REFRESH-INTERVAL;VALUE=DURATION:PT1H
X-Robots-Tag:noindex
X-PUBLISHED-TTL:PT1H
BEGIN:VTIMEZONE
TZID:America/Chicago
BEGIN:DAYLIGHT
TZOFFSETFROM:-0600
TZOFFSETTO:-0500
TZNAME:CDT
DTSTART:20200308T080000
END:DAYLIGHT
BEGIN:STANDARD
TZOFFSETFROM:-0500
TZOFFSETTO:-0600
TZNAME:CST
DTSTART:20201101T070000
END:STANDARD
BEGIN:DAYLIGHT
TZOFFSETFROM:-0600
TZOFFSETTO:-0500
TZNAME:CDT
DTSTART:20210314T080000
END:DAYLIGHT
BEGIN:STANDARD
TZOFFSETFROM:-0500
TZOFFSETTO:-0600
TZNAME:CST
DTSTART:20211107T070000
END:STANDARD
BEGIN:DAYLIGHT
TZOFFSETFROM:-0600
TZOFFSETTO:-0500
TZNAME:CDT
DTSTART:20220313T080000
END:DAYLIGHT
BEGIN:STANDARD
TZOFFSETFROM:-0500
TZOFFSETTO:-0600
TZNAME:CST
DTSTART:20221106T070000
END:STANDARD
BEGIN:DAYLIGHT
TZOFFSETFROM:-0600
TZOFFSETTO:-0500
TZNAME:CDT
DTSTART:20230312T080000
END:DAYLIGHT
BEGIN:STANDARD
TZOFFSETFROM:-0500
TZOFFSETTO:-0600
TZNAME:CST
DTSTART:20231105T070000
END:STANDARD
BEGIN:DAYLIGHT
TZOFFSETFROM:-0600
TZOFFSETTO:-0500
TZNAME:CDT
DTSTART:20240310T080000
END:DAYLIGHT
BEGIN:STANDARD
TZOFFSETFROM:-0500
TZOFFSETTO:-0600
TZNAME:CST
DTSTART:20241103T070000
END:STANDARD
END:VTIMEZONE
BEGIN:VEVENT
DTSTART;TZID=America/Chicago:20210425T190000
DTEND;TZID=America/Chicago:20210425T200000
DTSTAMP:20260425T182301
CREATED:20210406T191916Z
LAST-MODIFIED:20210406T191916Z
UID:10000504-1619377200-1619380800@www.fccminneapolis.org
SUMMARY:SpringHouse Youth Group - Zoom
DESCRIPTION:
URL:https://www.fccminneapolis.org/event/springhouse-youth-group-zoom/2021-04-25/
LOCATION:Virtual Zoom Youth Room
CATEGORIES:SpringHouse Joint Ministries,Youth
END:VEVENT
BEGIN:VEVENT
DTSTART;TZID=America/Chicago:20210523T190000
DTEND;TZID=America/Chicago:20210523T200000
DTSTAMP:20260425T182301
CREATED:20210406T191916Z
LAST-MODIFIED:20210406T191916Z
UID:10000505-1621796400-1621800000@www.fccminneapolis.org
SUMMARY:SpringHouse Youth Group - Zoom
DESCRIPTION:
URL:https://www.fccminneapolis.org/event/springhouse-youth-group-zoom/2021-05-23/
LOCATION:Virtual Zoom Youth Room
CATEGORIES:SpringHouse Joint Ministries,Youth
END:VEVENT
BEGIN:VEVENT
DTSTART;TZID=America/Chicago:20210627T190000
DTEND;TZID=America/Chicago:20210627T200000
DTSTAMP:20260425T182301
CREATED:20210406T191916Z
LAST-MODIFIED:20210406T191916Z
UID:10000506-1624820400-1624824000@www.fccminneapolis.org
SUMMARY:SpringHouse Youth Group - Zoom
DESCRIPTION:
URL:https://www.fccminneapolis.org/event/springhouse-youth-group-zoom/2021-06-27/
LOCATION:Virtual Zoom Youth Room
CATEGORIES:SpringHouse Joint Ministries,Youth
END:VEVENT
BEGIN:VEVENT
DTSTART;TZID=America/Chicago:20210725T190000
DTEND;TZID=America/Chicago:20210725T200000
DTSTAMP:20260425T182301
CREATED:20210406T191916Z
LAST-MODIFIED:20210406T191916Z
UID:10000507-1627239600-1627243200@www.fccminneapolis.org
SUMMARY:SpringHouse Youth Group - Zoom
DESCRIPTION:
URL:https://www.fccminneapolis.org/event/springhouse-youth-group-zoom/2021-07-25/
LOCATION:Virtual Zoom Youth Room
CATEGORIES:SpringHouse Joint Ministries,Youth
END:VEVENT
BEGIN:VEVENT
DTSTART;TZID=America/Chicago:20210822T190000
DTEND;TZID=America/Chicago:20210822T200000
DTSTAMP:20260425T182301
CREATED:20210406T191916Z
LAST-MODIFIED:20210406T191916Z
UID:10000508-1629658800-1629662400@www.fccminneapolis.org
SUMMARY:SpringHouse Youth Group - Zoom
DESCRIPTION:
URL:https://www.fccminneapolis.org/event/springhouse-youth-group-zoom/2021-08-22/
LOCATION:Virtual Zoom Youth Room
CATEGORIES:SpringHouse Joint Ministries,Youth
END:VEVENT
BEGIN:VEVENT
DTSTART;TZID=America/Chicago:20230409T090000
DTEND;TZID=America/Chicago:20230409T123000
DTSTAMP:20260425T182301
CREATED:20230408T120318Z
LAST-MODIFIED:20250125T161636Z
UID:10002600-1681030800-1681043400@www.fccminneapolis.org
SUMMARY:SpringHouse Youth Room Open Hours
DESCRIPTION:
URL:https://www.fccminneapolis.org/event/springhouse-youth-room-open-hours/2023-04-09/
LOCATION:SHMC Youth Room
CATEGORIES:SpringHouse Joint Ministries,Youth
END:VEVENT
BEGIN:VEVENT
DTSTART;TZID=America/Chicago:20230416T090000
DTEND;TZID=America/Chicago:20230416T123000
DTSTAMP:20260425T182301
CREATED:20230408T120318Z
LAST-MODIFIED:20250125T161636Z
UID:10002601-1681635600-1681648200@www.fccminneapolis.org
SUMMARY:SpringHouse Youth Room Open Hours
DESCRIPTION:
URL:https://www.fccminneapolis.org/event/springhouse-youth-room-open-hours/2023-04-16/
LOCATION:SHMC Youth Room
CATEGORIES:SpringHouse Joint Ministries,Youth
END:VEVENT
BEGIN:VEVENT
DTSTART;TZID=America/Chicago:20230423T090000
DTEND;TZID=America/Chicago:20230423T123000
DTSTAMP:20260425T182301
CREATED:20230408T120318Z
LAST-MODIFIED:20250125T161636Z
UID:10002602-1682240400-1682253000@www.fccminneapolis.org
SUMMARY:SpringHouse Youth Room Open Hours
DESCRIPTION:
URL:https://www.fccminneapolis.org/event/springhouse-youth-room-open-hours/2023-04-23/
LOCATION:SHMC Youth Room
CATEGORIES:SpringHouse Joint Ministries,Youth
END:VEVENT
BEGIN:VEVENT
DTSTART;TZID=America/Chicago:20230430T090000
DTEND;TZID=America/Chicago:20230430T123000
DTSTAMP:20260425T182301
CREATED:20230408T120318Z
LAST-MODIFIED:20250125T161636Z
UID:10002603-1682845200-1682857800@www.fccminneapolis.org
SUMMARY:SpringHouse Youth Room Open Hours
DESCRIPTION:
URL:https://www.fccminneapolis.org/event/springhouse-youth-room-open-hours/2023-04-30/
LOCATION:SHMC Youth Room
CATEGORIES:SpringHouse Joint Ministries,Youth
END:VEVENT
BEGIN:VEVENT
DTSTART;TZID=America/Chicago:20230507T090000
DTEND;TZID=America/Chicago:20230507T123000
DTSTAMP:20260425T182301
CREATED:20230408T120318Z
LAST-MODIFIED:20250125T161636Z
UID:10002604-1683450000-1683462600@www.fccminneapolis.org
SUMMARY:SpringHouse Youth Room Open Hours
DESCRIPTION:
URL:https://www.fccminneapolis.org/event/springhouse-youth-room-open-hours/2023-05-07/
LOCATION:SHMC Youth Room
CATEGORIES:SpringHouse Joint Ministries,Youth
END:VEVENT
BEGIN:VEVENT
DTSTART;TZID=America/Chicago:20230514T090000
DTEND;TZID=America/Chicago:20230514T123000
DTSTAMP:20260425T182301
CREATED:20230408T120318Z
LAST-MODIFIED:20250125T161636Z
UID:10002605-1684054800-1684067400@www.fccminneapolis.org
SUMMARY:SpringHouse Youth Room Open Hours
DESCRIPTION:
URL:https://www.fccminneapolis.org/event/springhouse-youth-room-open-hours/2023-05-14/
LOCATION:SHMC Youth Room
CATEGORIES:SpringHouse Joint Ministries,Youth
END:VEVENT
BEGIN:VEVENT
DTSTART;TZID=America/Chicago:20230521T090000
DTEND;TZID=America/Chicago:20230521T123000
DTSTAMP:20260425T182301
CREATED:20230408T120318Z
LAST-MODIFIED:20250125T161636Z
UID:10002606-1684659600-1684672200@www.fccminneapolis.org
SUMMARY:SpringHouse Youth Room Open Hours
DESCRIPTION:
URL:https://www.fccminneapolis.org/event/springhouse-youth-room-open-hours/2023-05-21/
LOCATION:SHMC Youth Room
CATEGORIES:SpringHouse Joint Ministries,Youth
END:VEVENT
BEGIN:VEVENT
DTSTART;TZID=America/Chicago:20230528T090000
DTEND;TZID=America/Chicago:20230528T123000
DTSTAMP:20260425T182301
CREATED:20230408T120318Z
LAST-MODIFIED:20250125T161636Z
UID:10002607-1685264400-1685277000@www.fccminneapolis.org
SUMMARY:SpringHouse Youth Room Open Hours
DESCRIPTION:
URL:https://www.fccminneapolis.org/event/springhouse-youth-room-open-hours/2023-05-28/
LOCATION:SHMC Youth Room
CATEGORIES:SpringHouse Joint Ministries,Youth
END:VEVENT
BEGIN:VEVENT
DTSTART;TZID=America/Chicago:20230603T120000
DTEND;TZID=America/Chicago:20230603T180000
DTSTAMP:20260425T182301
CREATED:20230321T123609Z
LAST-MODIFIED:20230321T123609Z
UID:10002588-1685793600-1685815200@www.fccminneapolis.org
SUMMARY:Youth Pride
DESCRIPTION:
URL:https://www.fccminneapolis.org/event/youth-pride-2/
CATEGORIES:LGBTQ+,Pride Events,Youth
END:VEVENT
BEGIN:VEVENT
DTSTART;TZID=America/Chicago:20230604T090000
DTEND;TZID=America/Chicago:20230604T123000
DTSTAMP:20260425T182301
CREATED:20230408T120318Z
LAST-MODIFIED:20250125T161636Z
UID:10002608-1685869200-1685881800@www.fccminneapolis.org
SUMMARY:SpringHouse Youth Room Open Hours
DESCRIPTION:
URL:https://www.fccminneapolis.org/event/springhouse-youth-room-open-hours/2023-06-04/
LOCATION:SHMC Youth Room
CATEGORIES:SpringHouse Joint Ministries,Youth
END:VEVENT
BEGIN:VEVENT
DTSTART;TZID=America/Chicago:20230611T090000
DTEND;TZID=America/Chicago:20230611T123000
DTSTAMP:20260425T182301
CREATED:20230408T120318Z
LAST-MODIFIED:20250125T161636Z
UID:10002609-1686474000-1686486600@www.fccminneapolis.org
SUMMARY:SpringHouse Youth Room Open Hours
DESCRIPTION:
URL:https://www.fccminneapolis.org/event/springhouse-youth-room-open-hours/2023-06-11/
LOCATION:SHMC Youth Room
CATEGORIES:SpringHouse Joint Ministries,Youth
END:VEVENT
BEGIN:VEVENT
DTSTART;TZID=America/Chicago:20230618T090000
DTEND;TZID=America/Chicago:20230618T123000
DTSTAMP:20260425T182301
CREATED:20230408T120318Z
LAST-MODIFIED:20250125T161636Z
UID:10002610-1687078800-1687091400@www.fccminneapolis.org
SUMMARY:SpringHouse Youth Room Open Hours
DESCRIPTION:
URL:https://www.fccminneapolis.org/event/springhouse-youth-room-open-hours/2023-06-18/
LOCATION:SHMC Youth Room
CATEGORIES:SpringHouse Joint Ministries,Youth
END:VEVENT
BEGIN:VEVENT
DTSTART;TZID=America/Chicago:20230620T090000
DTEND;TZID=America/Chicago:20230620T160000
DTSTAMP:20260425T182301
CREATED:20221228T185138Z
LAST-MODIFIED:20230615T123710Z
UID:10002822-1687251600-1687276800@www.fccminneapolis.org
SUMMARY:South Minneapolis Day Camp
DESCRIPTION:
URL:https://www.fccminneapolis.org/event/south-minneapolis-day-camp/2023-06-20/
LOCATION:Bethel Lutheran Church\, 4120 17th Ave S\, Minneapolis\, MN\, 55407\, United States
CATEGORIES:Child Ministries,Youth
END:VEVENT
BEGIN:VEVENT
DTSTART;TZID=America/Chicago:20230621T090000
DTEND;TZID=America/Chicago:20230621T160000
DTSTAMP:20260425T182301
CREATED:20221228T185138Z
LAST-MODIFIED:20230615T123710Z
UID:10002823-1687338000-1687363200@www.fccminneapolis.org
SUMMARY:South Minneapolis Day Camp
DESCRIPTION:
URL:https://www.fccminneapolis.org/event/south-minneapolis-day-camp/2023-06-21/
LOCATION:Bethel Lutheran Church\, 4120 17th Ave S\, Minneapolis\, MN\, 55407\, United States
CATEGORIES:Child Ministries,Youth
END:VEVENT
BEGIN:VEVENT
DTSTART;TZID=America/Chicago:20230622T090000
DTEND;TZID=America/Chicago:20230622T160000
DTSTAMP:20260425T182301
CREATED:20221228T185138Z
LAST-MODIFIED:20230615T123710Z
UID:10002824-1687424400-1687449600@www.fccminneapolis.org
SUMMARY:South Minneapolis Day Camp
DESCRIPTION:
URL:https://www.fccminneapolis.org/event/south-minneapolis-day-camp/2023-06-22/
LOCATION:Bethel Lutheran Church\, 4120 17th Ave S\, Minneapolis\, MN\, 55407\, United States
CATEGORIES:Child Ministries,Youth
END:VEVENT
BEGIN:VEVENT
DTSTART;TZID=America/Chicago:20230623T090000
DTEND;TZID=America/Chicago:20230623T160000
DTSTAMP:20260425T182301
CREATED:20221228T185138Z
LAST-MODIFIED:20230615T123710Z
UID:10002825-1687510800-1687536000@www.fccminneapolis.org
SUMMARY:South Minneapolis Day Camp
DESCRIPTION:
URL:https://www.fccminneapolis.org/event/south-minneapolis-day-camp/2023-06-23/
LOCATION:Bethel Lutheran Church\, 4120 17th Ave S\, Minneapolis\, MN\, 55407\, United States
CATEGORIES:Child Ministries,Youth
END:VEVENT
BEGIN:VEVENT
DTSTART;TZID=America/Chicago:20230625T090000
DTEND;TZID=America/Chicago:20230625T123000
DTSTAMP:20260425T182301
CREATED:20230408T120318Z
LAST-MODIFIED:20250125T161636Z
UID:10002611-1687683600-1687696200@www.fccminneapolis.org
SUMMARY:SpringHouse Youth Room Open Hours
DESCRIPTION:
URL:https://www.fccminneapolis.org/event/springhouse-youth-room-open-hours/2023-06-25/
LOCATION:SHMC Youth Room
CATEGORIES:SpringHouse Joint Ministries,Youth
END:VEVENT
BEGIN:VEVENT
DTSTART;TZID=America/Chicago:20230702T090000
DTEND;TZID=America/Chicago:20230702T123000
DTSTAMP:20260425T182301
CREATED:20230408T120318Z
LAST-MODIFIED:20250125T161636Z
UID:10002612-1688288400-1688301000@www.fccminneapolis.org
SUMMARY:SpringHouse Youth Room Open Hours
DESCRIPTION:
URL:https://www.fccminneapolis.org/event/springhouse-youth-room-open-hours/2023-07-02/
LOCATION:SHMC Youth Room
CATEGORIES:SpringHouse Joint Ministries,Youth
END:VEVENT
BEGIN:VEVENT
DTSTART;TZID=America/Chicago:20230709T090000
DTEND;TZID=America/Chicago:20230709T123000
DTSTAMP:20260425T182301
CREATED:20230408T120318Z
LAST-MODIFIED:20250125T161636Z
UID:10002613-1688893200-1688905800@www.fccminneapolis.org
SUMMARY:SpringHouse Youth Room Open Hours
DESCRIPTION:
URL:https://www.fccminneapolis.org/event/springhouse-youth-room-open-hours/2023-07-09/
LOCATION:SHMC Youth Room
CATEGORIES:SpringHouse Joint Ministries,Youth
END:VEVENT
BEGIN:VEVENT
DTSTART;TZID=America/Chicago:20230716T090000
DTEND;TZID=America/Chicago:20230716T123000
DTSTAMP:20260425T182301
CREATED:20230408T120318Z
LAST-MODIFIED:20250125T161636Z
UID:10002614-1689498000-1689510600@www.fccminneapolis.org
SUMMARY:SpringHouse Youth Room Open Hours
DESCRIPTION:
URL:https://www.fccminneapolis.org/event/springhouse-youth-room-open-hours/2023-07-16/
LOCATION:SHMC Youth Room
CATEGORIES:SpringHouse Joint Ministries,Youth
END:VEVENT
BEGIN:VEVENT
DTSTART;TZID=America/Chicago:20230723T090000
DTEND;TZID=America/Chicago:20230723T123000
DTSTAMP:20260425T182301
CREATED:20230408T120318Z
LAST-MODIFIED:20250125T161636Z
UID:10002615-1690102800-1690115400@www.fccminneapolis.org
SUMMARY:SpringHouse Youth Room Open Hours
DESCRIPTION:
URL:https://www.fccminneapolis.org/event/springhouse-youth-room-open-hours/2023-07-23/
LOCATION:SHMC Youth Room
CATEGORIES:SpringHouse Joint Ministries,Youth
END:VEVENT
BEGIN:VEVENT
DTSTART;TZID=America/Chicago:20230730T090000
DTEND;TZID=America/Chicago:20230730T123000
DTSTAMP:20260425T182301
CREATED:20230408T120318Z
LAST-MODIFIED:20250125T161636Z
UID:10002616-1690707600-1690720200@www.fccminneapolis.org
SUMMARY:SpringHouse Youth Room Open Hours
DESCRIPTION:
URL:https://www.fccminneapolis.org/event/springhouse-youth-room-open-hours/2023-07-30/
LOCATION:SHMC Youth Room
CATEGORIES:SpringHouse Joint Ministries,Youth
END:VEVENT
BEGIN:VEVENT
DTSTART;TZID=America/Chicago:20230806T090000
DTEND;TZID=America/Chicago:20230806T123000
DTSTAMP:20260425T182301
CREATED:20230408T120318Z
LAST-MODIFIED:20250125T161636Z
UID:10002617-1691312400-1691325000@www.fccminneapolis.org
SUMMARY:SpringHouse Youth Room Open Hours
DESCRIPTION:
URL:https://www.fccminneapolis.org/event/springhouse-youth-room-open-hours/2023-08-06/
LOCATION:SHMC Youth Room
CATEGORIES:SpringHouse Joint Ministries,Youth
END:VEVENT
BEGIN:VEVENT
DTSTART;TZID=America/Chicago:20230813T090000
DTEND;TZID=America/Chicago:20230813T123000
DTSTAMP:20260425T182301
CREATED:20230408T120318Z
LAST-MODIFIED:20250125T161636Z
UID:10002618-1691917200-1691929800@www.fccminneapolis.org
SUMMARY:SpringHouse Youth Room Open Hours
DESCRIPTION:
URL:https://www.fccminneapolis.org/event/springhouse-youth-room-open-hours/2023-08-13/
LOCATION:SHMC Youth Room
CATEGORIES:SpringHouse Joint Ministries,Youth
END:VEVENT
BEGIN:VEVENT
DTSTART;TZID=America/Chicago:20230820T090000
DTEND;TZID=America/Chicago:20230820T123000
DTSTAMP:20260425T182301
CREATED:20230408T120318Z
LAST-MODIFIED:20250125T161636Z
UID:10002619-1692522000-1692534600@www.fccminneapolis.org
SUMMARY:SpringHouse Youth Room Open Hours
DESCRIPTION:
URL:https://www.fccminneapolis.org/event/springhouse-youth-room-open-hours/2023-08-20/
LOCATION:SHMC Youth Room
CATEGORIES:SpringHouse Joint Ministries,Youth
END:VEVENT
END:VCALENDAR