BEGIN:VCALENDAR
VERSION:2.0
PRODID:-//First Christian Church (Disciples of Christ) - ECPv6.15.13//NONSGML v1.0//EN
CALSCALE:GREGORIAN
METHOD:PUBLISH
X-WR-CALNAME:First Christian Church (Disciples of Christ)
X-ORIGINAL-URL:https://www.fccminneapolis.org
X-WR-CALDESC:Events for First Christian Church (Disciples of Christ)
REFRESH-INTERVAL;VALUE=DURATION:PT1H
X-Robots-Tag:noindex
X-PUBLISHED-TTL:PT1H
BEGIN:VTIMEZONE
TZID:America/Chicago
BEGIN:DAYLIGHT
TZOFFSETFROM:-0600
TZOFFSETTO:-0500
TZNAME:CDT
DTSTART:20290311T080000
END:DAYLIGHT
BEGIN:STANDARD
TZOFFSETFROM:-0500
TZOFFSETTO:-0600
TZNAME:CST
DTSTART:20291104T070000
END:STANDARD
BEGIN:DAYLIGHT
TZOFFSETFROM:-0600
TZOFFSETTO:-0500
TZNAME:CDT
DTSTART:20300310T080000
END:DAYLIGHT
BEGIN:STANDARD
TZOFFSETFROM:-0500
TZOFFSETTO:-0600
TZNAME:CST
DTSTART:20301103T070000
END:STANDARD
BEGIN:DAYLIGHT
TZOFFSETFROM:-0600
TZOFFSETTO:-0500
TZNAME:CDT
DTSTART:20310309T080000
END:DAYLIGHT
BEGIN:STANDARD
TZOFFSETFROM:-0500
TZOFFSETTO:-0600
TZNAME:CST
DTSTART:20311102T070000
END:STANDARD
END:VTIMEZONE
BEGIN:VEVENT
DTSTART;TZID=America/Chicago:20300701T190000
DTEND;TZID=America/Chicago:20300701T200000
DTSTAMP:20260425T211608
CREATED:20251230T182526Z
LAST-MODIFIED:20251230T183554Z
UID:10007748-1909162800-1909166400@www.fccminneapolis.org
SUMMARY:Women's Fellowship
DESCRIPTION:FCC’s Women’s Fellowship meets on Zoom the first Monday of each month. All members and friends of FCC are welcome to join us. Contact Kathy H. for a Zoom link.
URL:https://www.fccminneapolis.org/event/womens-fellowship-8-2-2-2-2-2/2030-07-01/
CATEGORIES:Fellowship,Women's Fellowship
END:VEVENT
BEGIN:VEVENT
DTSTART;TZID=America/Chicago:20300805T190000
DTEND;TZID=America/Chicago:20300805T200000
DTSTAMP:20260425T211608
CREATED:20251230T182526Z
LAST-MODIFIED:20251230T183554Z
UID:10007749-1912186800-1912190400@www.fccminneapolis.org
SUMMARY:Women's Fellowship
DESCRIPTION:FCC’s Women’s Fellowship meets on Zoom the first Monday of each month. All members and friends of FCC are welcome to join us. Contact Kathy H. for a Zoom link.
URL:https://www.fccminneapolis.org/event/womens-fellowship-8-2-2-2-2-2/2030-08-05/
CATEGORIES:Fellowship,Women's Fellowship
END:VEVENT
BEGIN:VEVENT
DTSTART;TZID=America/Chicago:20300902T190000
DTEND;TZID=America/Chicago:20300902T200000
DTSTAMP:20260425T211608
CREATED:20251230T182526Z
LAST-MODIFIED:20251230T183554Z
UID:10007750-1914606000-1914609600@www.fccminneapolis.org
SUMMARY:Women's Fellowship
DESCRIPTION:FCC’s Women’s Fellowship meets on Zoom the first Monday of each month. All members and friends of FCC are welcome to join us. Contact Kathy H. for a Zoom link.
URL:https://www.fccminneapolis.org/event/womens-fellowship-8-2-2-2-2-2/2030-09-02/
CATEGORIES:Fellowship,Women's Fellowship
END:VEVENT
BEGIN:VEVENT
DTSTART;TZID=America/Chicago:20301007T190000
DTEND;TZID=America/Chicago:20301007T200000
DTSTAMP:20260425T211608
CREATED:20251230T182526Z
LAST-MODIFIED:20251230T183554Z
UID:10007751-1917630000-1917633600@www.fccminneapolis.org
SUMMARY:Women's Fellowship
DESCRIPTION:FCC’s Women’s Fellowship meets on Zoom the first Monday of each month. All members and friends of FCC are welcome to join us. Contact Kathy H. for a Zoom link.
URL:https://www.fccminneapolis.org/event/womens-fellowship-8-2-2-2-2-2/2030-10-07/
CATEGORIES:Fellowship,Women's Fellowship
END:VEVENT
BEGIN:VEVENT
DTSTART;TZID=America/Chicago:20301104T190000
DTEND;TZID=America/Chicago:20301104T200000
DTSTAMP:20260425T211608
CREATED:20251230T182526Z
LAST-MODIFIED:20251230T183554Z
UID:10007752-1920049200-1920052800@www.fccminneapolis.org
SUMMARY:Women's Fellowship
DESCRIPTION:FCC’s Women’s Fellowship meets on Zoom the first Monday of each month. All members and friends of FCC are welcome to join us. Contact Kathy H. for a Zoom link.
URL:https://www.fccminneapolis.org/event/womens-fellowship-8-2-2-2-2-2/2030-11-04/
CATEGORIES:Fellowship,Women's Fellowship
END:VEVENT
BEGIN:VEVENT
DTSTART;TZID=America/Chicago:20301202T190000
DTEND;TZID=America/Chicago:20301202T200000
DTSTAMP:20260425T211608
CREATED:20251230T182526Z
LAST-MODIFIED:20251230T183554Z
UID:10007753-1922468400-1922472000@www.fccminneapolis.org
SUMMARY:Women's Fellowship
DESCRIPTION:FCC’s Women’s Fellowship meets on Zoom the first Monday of each month. All members and friends of FCC are welcome to join us. Contact Kathy H. for a Zoom link.
URL:https://www.fccminneapolis.org/event/womens-fellowship-8-2-2-2-2-2/2030-12-02/
CATEGORIES:Fellowship,Women's Fellowship
END:VEVENT
END:VCALENDAR