BEGIN:VCALENDAR
VERSION:2.0
PRODID:-//First Christian Church (Disciples of Christ) - ECPv6.15.13//NONSGML v1.0//EN
CALSCALE:GREGORIAN
METHOD:PUBLISH
X-ORIGINAL-URL:https://www.fccminneapolis.org
X-WR-CALDESC:Events for First Christian Church (Disciples of Christ)
REFRESH-INTERVAL;VALUE=DURATION:PT1H
X-Robots-Tag:noindex
X-PUBLISHED-TTL:PT1H
BEGIN:VTIMEZONE
TZID:America/Chicago
BEGIN:DAYLIGHT
TZOFFSETFROM:-0600
TZOFFSETTO:-0500
TZNAME:CDT
DTSTART:20190310T080000
END:DAYLIGHT
BEGIN:STANDARD
TZOFFSETFROM:-0500
TZOFFSETTO:-0600
TZNAME:CST
DTSTART:20191103T070000
END:STANDARD
BEGIN:DAYLIGHT
TZOFFSETFROM:-0600
TZOFFSETTO:-0500
TZNAME:CDT
DTSTART:20200308T080000
END:DAYLIGHT
BEGIN:STANDARD
TZOFFSETFROM:-0500
TZOFFSETTO:-0600
TZNAME:CST
DTSTART:20201101T070000
END:STANDARD
BEGIN:DAYLIGHT
TZOFFSETFROM:-0600
TZOFFSETTO:-0500
TZNAME:CDT
DTSTART:20210314T080000
END:DAYLIGHT
BEGIN:STANDARD
TZOFFSETFROM:-0500
TZOFFSETTO:-0600
TZNAME:CST
DTSTART:20211107T070000
END:STANDARD
END:VTIMEZONE
BEGIN:VEVENT
DTSTART;TZID=America/Chicago:20200504T190000
DTEND;TZID=America/Chicago:20200504T210000
DTSTAMP:20260425T221750
CREATED:20200206T181800Z
LAST-MODIFIED:20200504T011015Z
UID:10000513-1588618800-1588626000@www.fccminneapolis.org
SUMMARY:Women's Fellowship
DESCRIPTION:2020-21 Study Guide: Hope\, Healing and Wholeness \nLesson 3: Job’s Wife \nFacilitator: Dee Ward
URL:https://www.fccminneapolis.org/event/womens-fellowship-4/
LOCATION:FCC Zoom Channel
CATEGORIES:Fellowship,Online Community Gatherings,Studies,Women's Fellowship
END:VEVENT
BEGIN:VEVENT
DTSTART;TZID=America/Chicago:20200406T190000
DTEND;TZID=America/Chicago:20200406T210000
DTSTAMP:20260425T221750
CREATED:20200206T181629Z
LAST-MODIFIED:20200206T181943Z
UID:10000512-1586199600-1586206800@www.fccminneapolis.org
SUMMARY:Women's Fellowship
DESCRIPTION:2020-21 Study Guide: Hope\, Healing and Wholeness \nLesson 2: Women Called to Lead \nFacilitator: Kathy Hintz \nLocation: Ann Wolverton’s house \nFood: Ann Wolverton
URL:https://www.fccminneapolis.org/event/womens-fellowship-3/
CATEGORIES:Fellowship,Studies,Women's Fellowship
END:VEVENT
BEGIN:VEVENT
DTSTART;TZID=America/Chicago:20200302T190000
DTEND;TZID=America/Chicago:20200302T210000
DTSTAMP:20260425T221750
CREATED:20200206T181457Z
LAST-MODIFIED:20200206T181457Z
UID:10000511-1583175600-1583182800@www.fccminneapolis.org
SUMMARY:Women's Fellowship
DESCRIPTION:2020-21 Study Guide: Hope\, Healing and Wholeness \nLesson 1: Rediscovering Hagar \nFacilitator: Bobbie Hall \nLocation: Val Dunham’s house \nFood: Kathy Hintz
URL:https://www.fccminneapolis.org/event/womens-fellowship-2/
CATEGORIES:Fellowship,Studies,Women's Fellowship
END:VEVENT
BEGIN:VEVENT
DTSTART;VALUE=DATE:20200111
DTEND;VALUE=DATE:20200112
DTSTAMP:20260425T221750
CREATED:20191226T193457Z
LAST-MODIFIED:20191226T193457Z
UID:10000110-1578700800-1578787199@www.fccminneapolis.org
SUMMARY:Women's Fellowship: Women's Lunch Out
DESCRIPTION:
URL:https://www.fccminneapolis.org/event/womens-fellowship-womens-lunch-out/
CATEGORIES:Fellowship,Women's Fellowship
END:VEVENT
END:VCALENDAR