BEGIN:VCALENDAR
VERSION:2.0
PRODID:-//First Christian Church (Disciples of Christ) - ECPv6.15.13//NONSGML v1.0//EN
CALSCALE:GREGORIAN
METHOD:PUBLISH
X-WR-CALNAME:First Christian Church (Disciples of Christ)
X-ORIGINAL-URL:https://www.fccminneapolis.org
X-WR-CALDESC:Events for First Christian Church (Disciples of Christ)
REFRESH-INTERVAL;VALUE=DURATION:PT1H
X-Robots-Tag:noindex
X-PUBLISHED-TTL:PT1H
BEGIN:VTIMEZONE
TZID:America/Chicago
BEGIN:DAYLIGHT
TZOFFSETFROM:-0600
TZOFFSETTO:-0500
TZNAME:CDT
DTSTART:20210314T080000
END:DAYLIGHT
BEGIN:STANDARD
TZOFFSETFROM:-0500
TZOFFSETTO:-0600
TZNAME:CST
DTSTART:20211107T070000
END:STANDARD
BEGIN:DAYLIGHT
TZOFFSETFROM:-0600
TZOFFSETTO:-0500
TZNAME:CDT
DTSTART:20220313T080000
END:DAYLIGHT
BEGIN:STANDARD
TZOFFSETFROM:-0500
TZOFFSETTO:-0600
TZNAME:CST
DTSTART:20221106T070000
END:STANDARD
BEGIN:DAYLIGHT
TZOFFSETFROM:-0600
TZOFFSETTO:-0500
TZNAME:CDT
DTSTART:20230312T080000
END:DAYLIGHT
BEGIN:STANDARD
TZOFFSETFROM:-0500
TZOFFSETTO:-0600
TZNAME:CST
DTSTART:20231105T070000
END:STANDARD
BEGIN:DAYLIGHT
TZOFFSETFROM:-0600
TZOFFSETTO:-0500
TZNAME:CDT
DTSTART:20240310T080000
END:DAYLIGHT
BEGIN:STANDARD
TZOFFSETFROM:-0500
TZOFFSETTO:-0600
TZNAME:CST
DTSTART:20241103T070000
END:STANDARD
BEGIN:DAYLIGHT
TZOFFSETFROM:-0600
TZOFFSETTO:-0500
TZNAME:CDT
DTSTART:20250309T080000
END:DAYLIGHT
BEGIN:STANDARD
TZOFFSETFROM:-0500
TZOFFSETTO:-0600
TZNAME:CST
DTSTART:20251102T070000
END:STANDARD
END:VTIMEZONE
BEGIN:VEVENT
DTSTART;TZID=America/Chicago:20241202T190000
DTEND;TZID=America/Chicago:20241202T200000
DTSTAMP:20260425T162234
CREATED:20230629T160840Z
LAST-MODIFIED:20250705T124437Z
UID:10004413-1733166000-1733169600@www.fccminneapolis.org
SUMMARY:Women's Fellowship
DESCRIPTION:FCC’s Women’s Fellowship meets on Zoom the first Monday of each month. The group is currently reading and discussing the book Learning to Walk in the Dark by Barbara Brown Taylor. The fall meeting dates are September 9 (later due to Labor Day)\, October 7\, November 4\, and December 2. All members and friends of FCC are welcome to join us. Contact Kathy H. for a Zoom link.
URL:https://www.fccminneapolis.org/event/womens-fellowship-8-2-2/2024-12-02/
CATEGORIES:Fellowship,Women's Fellowship
END:VEVENT
BEGIN:VEVENT
DTSTART;TZID=America/Chicago:20241104T190000
DTEND;TZID=America/Chicago:20241104T200000
DTSTAMP:20260425T162234
CREATED:20230629T160840Z
LAST-MODIFIED:20250705T124437Z
UID:10004412-1730746800-1730750400@www.fccminneapolis.org
SUMMARY:Women's Fellowship
DESCRIPTION:FCC’s Women’s Fellowship meets on Zoom the first Monday of each month. The group is currently reading and discussing the book Learning to Walk in the Dark by Barbara Brown Taylor. The fall meeting dates are September 9 (later due to Labor Day)\, October 7\, November 4\, and December 2. All members and friends of FCC are welcome to join us. Contact Kathy H. for a Zoom link.
URL:https://www.fccminneapolis.org/event/womens-fellowship-8-2-2/2024-11-04/
CATEGORIES:Fellowship,Women's Fellowship
END:VEVENT
BEGIN:VEVENT
DTSTART;TZID=America/Chicago:20241007T190000
DTEND;TZID=America/Chicago:20241007T200000
DTSTAMP:20260425T162234
CREATED:20230629T160840Z
LAST-MODIFIED:20250705T124437Z
UID:10004411-1728327600-1728331200@www.fccminneapolis.org
SUMMARY:Women's Fellowship
DESCRIPTION:FCC’s Women’s Fellowship meets on Zoom the first Monday of each month. The group is currently reading and discussing the book Learning to Walk in the Dark by Barbara Brown Taylor. The fall meeting dates are September 9 (later due to Labor Day)\, October 7\, November 4\, and December 2. All members and friends of FCC are welcome to join us. Contact Kathy H. for a Zoom link.
URL:https://www.fccminneapolis.org/event/womens-fellowship-8-2-2/2024-10-07/
CATEGORIES:Fellowship,Women's Fellowship
END:VEVENT
BEGIN:VEVENT
DTSTART;TZID=America/Chicago:20240909T190000
DTEND;TZID=America/Chicago:20240909T200000
DTSTAMP:20260425T162234
CREATED:20230629T160840Z
LAST-MODIFIED:20250705T124437Z
UID:10004400-1725908400-1725912000@www.fccminneapolis.org
SUMMARY:Women's Fellowship
DESCRIPTION:FCC’s Women’s Fellowship meets on Zoom the first Monday of each month. The group is currently reading and discussing the book Learning to Walk in the Dark by Barbara Brown Taylor. The fall meeting dates are September 9 (later due to Labor Day)\, October 7\, November 4\, and December 2. All members and friends of FCC are welcome to join us. Contact Kathy H. for a Zoom link.
URL:https://www.fccminneapolis.org/event/womens-fellowship-8-2-2/2024-09-09/
CATEGORIES:Fellowship,Women's Fellowship
END:VEVENT
BEGIN:VEVENT
DTSTART;TZID=America/Chicago:20240805T190000
DTEND;TZID=America/Chicago:20240805T200000
DTSTAMP:20260425T162234
CREATED:20230629T160840Z
LAST-MODIFIED:20250705T124437Z
UID:10004410-1722884400-1722888000@www.fccminneapolis.org
SUMMARY:Women's Fellowship
DESCRIPTION:FCC’s Women’s Fellowship meets on Zoom the first Monday of each month. The group is currently reading and discussing the book Learning to Walk in the Dark by Barbara Brown Taylor. The fall meeting dates are September 9 (later due to Labor Day)\, October 7\, November 4\, and December 2. All members and friends of FCC are welcome to join us. Contact Kathy H. for a Zoom link.
URL:https://www.fccminneapolis.org/event/womens-fellowship-8-2-2/2024-08-05/
CATEGORIES:Fellowship,Women's Fellowship
END:VEVENT
BEGIN:VEVENT
DTSTART;TZID=America/Chicago:20240603T190000
DTEND;TZID=America/Chicago:20240603T200000
DTSTAMP:20260425T162234
CREATED:20230629T160840Z
LAST-MODIFIED:20250705T124437Z
UID:10004409-1717441200-1717444800@www.fccminneapolis.org
SUMMARY:Women's Fellowship
DESCRIPTION:FCC’s Women’s Fellowship meets on Zoom the first Monday of each month. The group is currently reading and discussing the book Learning to Walk in the Dark by Barbara Brown Taylor. The fall meeting dates are September 9 (later due to Labor Day)\, October 7\, November 4\, and December 2. All members and friends of FCC are welcome to join us. Contact Kathy H. for a Zoom link.
URL:https://www.fccminneapolis.org/event/womens-fellowship-8-2-2/2024-06-03/
CATEGORIES:Fellowship,Women's Fellowship
END:VEVENT
BEGIN:VEVENT
DTSTART;TZID=America/Chicago:20240506T190000
DTEND;TZID=America/Chicago:20240506T200000
DTSTAMP:20260425T162234
CREATED:20230629T160840Z
LAST-MODIFIED:20250705T124437Z
UID:10004408-1715022000-1715025600@www.fccminneapolis.org
SUMMARY:Women's Fellowship
DESCRIPTION:FCC’s Women’s Fellowship meets on Zoom the first Monday of each month. The group is currently reading and discussing the book Learning to Walk in the Dark by Barbara Brown Taylor. The fall meeting dates are September 9 (later due to Labor Day)\, October 7\, November 4\, and December 2. All members and friends of FCC are welcome to join us. Contact Kathy H. for a Zoom link.
URL:https://www.fccminneapolis.org/event/womens-fellowship-8-2-2/2024-05-06/
CATEGORIES:Fellowship,Women's Fellowship
END:VEVENT
BEGIN:VEVENT
DTSTART;TZID=America/Chicago:20240401T190000
DTEND;TZID=America/Chicago:20240401T200000
DTSTAMP:20260425T162234
CREATED:20230629T160840Z
LAST-MODIFIED:20250705T124437Z
UID:10004407-1711998000-1712001600@www.fccminneapolis.org
SUMMARY:Women's Fellowship
DESCRIPTION:FCC’s Women’s Fellowship meets on Zoom the first Monday of each month. The group is currently reading and discussing the book Learning to Walk in the Dark by Barbara Brown Taylor. The fall meeting dates are September 9 (later due to Labor Day)\, October 7\, November 4\, and December 2. All members and friends of FCC are welcome to join us. Contact Kathy H. for a Zoom link.
URL:https://www.fccminneapolis.org/event/womens-fellowship-8-2-2/2024-04-01/
CATEGORIES:Fellowship,Women's Fellowship
END:VEVENT
BEGIN:VEVENT
DTSTART;TZID=America/Chicago:20240304T190000
DTEND;TZID=America/Chicago:20240304T200000
DTSTAMP:20260425T162234
CREATED:20230629T160840Z
LAST-MODIFIED:20250705T124437Z
UID:10004406-1709578800-1709582400@www.fccminneapolis.org
SUMMARY:Women's Fellowship
DESCRIPTION:FCC’s Women’s Fellowship meets on Zoom the first Monday of each month. The group is currently reading and discussing the book Learning to Walk in the Dark by Barbara Brown Taylor. The fall meeting dates are September 9 (later due to Labor Day)\, October 7\, November 4\, and December 2. All members and friends of FCC are welcome to join us. Contact Kathy H. for a Zoom link.
URL:https://www.fccminneapolis.org/event/womens-fellowship-8-2-2/2024-03-04/
CATEGORIES:Fellowship,Women's Fellowship
END:VEVENT
BEGIN:VEVENT
DTSTART;TZID=America/Chicago:20240205T190000
DTEND;TZID=America/Chicago:20240205T200000
DTSTAMP:20260425T162234
CREATED:20230629T160840Z
LAST-MODIFIED:20250705T124437Z
UID:10004405-1707159600-1707163200@www.fccminneapolis.org
SUMMARY:Women's Fellowship
DESCRIPTION:FCC’s Women’s Fellowship meets on Zoom the first Monday of each month. The group is currently reading and discussing the book Learning to Walk in the Dark by Barbara Brown Taylor. The fall meeting dates are September 9 (later due to Labor Day)\, October 7\, November 4\, and December 2. All members and friends of FCC are welcome to join us. Contact Kathy H. for a Zoom link.
URL:https://www.fccminneapolis.org/event/womens-fellowship-8-2-2/2024-02-05/
CATEGORIES:Fellowship,Women's Fellowship
END:VEVENT
BEGIN:VEVENT
DTSTART;TZID=America/Chicago:20240101T190000
DTEND;TZID=America/Chicago:20240101T200000
DTSTAMP:20260425T162234
CREATED:20230629T160840Z
LAST-MODIFIED:20250705T124437Z
UID:10004404-1704135600-1704139200@www.fccminneapolis.org
SUMMARY:Women's Fellowship
DESCRIPTION:FCC’s Women’s Fellowship meets on Zoom the first Monday of each month. The group is currently reading and discussing the book Learning to Walk in the Dark by Barbara Brown Taylor. The fall meeting dates are September 9 (later due to Labor Day)\, October 7\, November 4\, and December 2. All members and friends of FCC are welcome to join us. Contact Kathy H. for a Zoom link.
URL:https://www.fccminneapolis.org/event/womens-fellowship-8-2-2/2024-01-01/
CATEGORIES:Fellowship,Women's Fellowship
END:VEVENT
BEGIN:VEVENT
DTSTART;TZID=America/Chicago:20231204T190000
DTEND;TZID=America/Chicago:20231204T200000
DTSTAMP:20260425T162234
CREATED:20230629T160840Z
LAST-MODIFIED:20250705T124437Z
UID:10004403-1701716400-1701720000@www.fccminneapolis.org
SUMMARY:Women's Fellowship
DESCRIPTION:FCC’s Women’s Fellowship meets on Zoom the first Monday of each month. The group is currently reading and discussing the book Learning to Walk in the Dark by Barbara Brown Taylor. The fall meeting dates are September 9 (later due to Labor Day)\, October 7\, November 4\, and December 2. All members and friends of FCC are welcome to join us. Contact Kathy H. for a Zoom link.
URL:https://www.fccminneapolis.org/event/womens-fellowship-8-2-2/2023-12-04/
CATEGORIES:Fellowship,Women's Fellowship
END:VEVENT
BEGIN:VEVENT
DTSTART;TZID=America/Chicago:20231106T190000
DTEND;TZID=America/Chicago:20231106T200000
DTSTAMP:20260425T162234
CREATED:20230629T160840Z
LAST-MODIFIED:20250705T124437Z
UID:10004402-1699297200-1699300800@www.fccminneapolis.org
SUMMARY:Women's Fellowship
DESCRIPTION:FCC’s Women’s Fellowship meets on Zoom the first Monday of each month. The group is currently reading and discussing the book Learning to Walk in the Dark by Barbara Brown Taylor. The fall meeting dates are September 9 (later due to Labor Day)\, October 7\, November 4\, and December 2. All members and friends of FCC are welcome to join us. Contact Kathy H. for a Zoom link.
URL:https://www.fccminneapolis.org/event/womens-fellowship-8-2-2/2023-11-06/
CATEGORIES:Fellowship,Women's Fellowship
END:VEVENT
BEGIN:VEVENT
DTSTART;TZID=America/Chicago:20231002T190000
DTEND;TZID=America/Chicago:20231002T200000
DTSTAMP:20260425T162234
CREATED:20230629T160840Z
LAST-MODIFIED:20250705T124437Z
UID:10004401-1696273200-1696276800@www.fccminneapolis.org
SUMMARY:Women's Fellowship
DESCRIPTION:FCC’s Women’s Fellowship meets on Zoom the first Monday of each month. The group is currently reading and discussing the book Learning to Walk in the Dark by Barbara Brown Taylor. The fall meeting dates are September 9 (later due to Labor Day)\, October 7\, November 4\, and December 2. All members and friends of FCC are welcome to join us. Contact Kathy H. for a Zoom link.
URL:https://www.fccminneapolis.org/event/womens-fellowship-8-2-2/2023-10-02/
CATEGORIES:Fellowship,Women's Fellowship
END:VEVENT
BEGIN:VEVENT
DTSTART;TZID=America/Chicago:20230911T190000
DTEND;TZID=America/Chicago:20230911T200000
DTSTAMP:20260425T162234
CREATED:20230629T160706Z
LAST-MODIFIED:20230629T160706Z
UID:10002543-1694458800-1694462400@www.fccminneapolis.org
SUMMARY:Women's Fellowship
DESCRIPTION:
URL:https://www.fccminneapolis.org/event/womens-fellowship-8-2/
CATEGORIES:Fellowship,Women's Fellowship
END:VEVENT
BEGIN:VEVENT
DTSTART;TZID=America/Chicago:20230610T100000
DTEND;TZID=America/Chicago:20230610T130000
DTSTAMP:20260425T162234
CREATED:20230531T211222Z
LAST-MODIFIED:20230531T211222Z
UID:10002791-1686391200-1686402000@www.fccminneapolis.org
SUMMARY:Women's Fellowship Brunch
DESCRIPTION:
URL:https://www.fccminneapolis.org/event/womens-fellowship-brunch-2/
LOCATION:Amy Dunlop’s house
CATEGORIES:Fellowship,Women's Fellowship
END:VEVENT
BEGIN:VEVENT
DTSTART;TZID=America/Chicago:20230501T190000
DTEND;TZID=America/Chicago:20230501T200000
DTSTAMP:20260425T162234
CREATED:20221228T184515Z
LAST-MODIFIED:20230629T160502Z
UID:10002539-1682967600-1682971200@www.fccminneapolis.org
SUMMARY:Women's Fellowship
DESCRIPTION:
URL:https://www.fccminneapolis.org/event/womens-fellowship-8/2023-05-01/
CATEGORIES:Fellowship,Women's Fellowship
END:VEVENT
BEGIN:VEVENT
DTSTART;TZID=America/Chicago:20230403T190000
DTEND;TZID=America/Chicago:20230403T200000
DTSTAMP:20260425T162234
CREATED:20221228T184515Z
LAST-MODIFIED:20230629T160502Z
UID:10002538-1680548400-1680552000@www.fccminneapolis.org
SUMMARY:Women's Fellowship
DESCRIPTION:
URL:https://www.fccminneapolis.org/event/womens-fellowship-8/2023-04-03/
CATEGORIES:Fellowship,Women's Fellowship
END:VEVENT
BEGIN:VEVENT
DTSTART;TZID=America/Chicago:20230306T190000
DTEND;TZID=America/Chicago:20230306T200000
DTSTAMP:20260425T162234
CREATED:20221228T184515Z
LAST-MODIFIED:20230629T160502Z
UID:10002537-1678129200-1678132800@www.fccminneapolis.org
SUMMARY:Women's Fellowship
DESCRIPTION:
URL:https://www.fccminneapolis.org/event/womens-fellowship-8/2023-03-06/
CATEGORIES:Fellowship,Women's Fellowship
END:VEVENT
BEGIN:VEVENT
DTSTART;TZID=America/Chicago:20230206T190000
DTEND;TZID=America/Chicago:20230206T200000
DTSTAMP:20260425T162234
CREATED:20221228T184515Z
LAST-MODIFIED:20230629T160502Z
UID:10002536-1675710000-1675713600@www.fccminneapolis.org
SUMMARY:Women's Fellowship
DESCRIPTION:
URL:https://www.fccminneapolis.org/event/womens-fellowship-8/2023-02-06/
CATEGORIES:Fellowship,Women's Fellowship
END:VEVENT
BEGIN:VEVENT
DTSTART;TZID=America/Chicago:20230128T100000
DTEND;TZID=America/Chicago:20230128T120000
DTSTAMP:20260425T162234
CREATED:20221215T194144Z
LAST-MODIFIED:20221228T184457Z
UID:10001497-1674900000-1674907200@www.fccminneapolis.org
SUMMARY:Women's Lunch
DESCRIPTION:IT’S JUST LUNCH! \nBefore pandemic\, FCC women annually gathered together for lunch on a Saturday in January. We are\ninvolved with the church in different ways and this was a time for us to get together just because\, to\ncatch up\, to laugh and enjoy a yummy (self-paid) meal. \nOur 2023 January lunch will be at The Hilltop Restaurant (5101 Arcadia Ave\, Edina) from 10 am to noon\,\non Saturday January 28. All women\, cis and trans\, who are connected to the church are welcome – nay\nencouraged! to RSVP and join the crowd. \nRSVP to Kathy Hintz at kathymsw@msn.com by January 15. Let me know if you have any questions.
URL:https://www.fccminneapolis.org/event/womens-lunch/
LOCATION:The Hilltop Restaurant\, 5101 Arcadia Ave\, Edina\, MN\, United States
CATEGORIES:Fellowship,Women's Fellowship
END:VEVENT
BEGIN:VEVENT
DTSTART;TZID=America/Chicago:20221205T190000
DTEND;TZID=America/Chicago:20221205T210000
DTSTAMP:20260425T162234
CREATED:20220930T115734Z
LAST-MODIFIED:20220930T115734Z
UID:10001411-1670266800-1670274000@www.fccminneapolis.org
SUMMARY:Women's Fellowship
DESCRIPTION:
URL:https://www.fccminneapolis.org/event/womens-fellowship-7/2022-12-05/
LOCATION:Online
CATEGORIES:Women's Fellowship
END:VEVENT
BEGIN:VEVENT
DTSTART;TZID=America/Chicago:20221107T190000
DTEND;TZID=America/Chicago:20221107T210000
DTSTAMP:20260425T162234
CREATED:20220930T115734Z
LAST-MODIFIED:20220930T115734Z
UID:10001410-1667847600-1667854800@www.fccminneapolis.org
SUMMARY:Women's Fellowship
DESCRIPTION:
URL:https://www.fccminneapolis.org/event/womens-fellowship-7/2022-11-07/
LOCATION:Online
CATEGORIES:Women's Fellowship
END:VEVENT
BEGIN:VEVENT
DTSTART;TZID=America/Chicago:20221003T190000
DTEND;TZID=America/Chicago:20221003T210000
DTSTAMP:20260425T162234
CREATED:20220930T115734Z
LAST-MODIFIED:20220930T115734Z
UID:10001409-1664823600-1664830800@www.fccminneapolis.org
SUMMARY:Women's Fellowship
DESCRIPTION:
URL:https://www.fccminneapolis.org/event/womens-fellowship-7/2022-10-03/
LOCATION:Online
CATEGORIES:Women's Fellowship
END:VEVENT
BEGIN:VEVENT
DTSTART;VALUE=DATE:20220930
DTEND;VALUE=DATE:20221003
DTSTAMP:20260425T162234
CREATED:20220906T134901Z
LAST-MODIFIED:20220906T134901Z
UID:10000895-1664496000-1664755199@www.fccminneapolis.org
SUMMARY:Upper Midwest Women's Retreat
DESCRIPTION:For more information and registration information click here
URL:https://www.fccminneapolis.org/event/upper-midwest-womens-retreat/
LOCATION:Lake Koronis Assembly Grounds\, 51612 Co Hwy 20\, Paynesville\, MN\, 56362\, United States
CATEGORIES:UMW Region,Women's Fellowship
END:VEVENT
BEGIN:VEVENT
DTSTART;TZID=America/Chicago:20220611T100000
DTEND;TZID=America/Chicago:20220611T130000
DTSTAMP:20260425T162234
CREATED:20211230T144709Z
LAST-MODIFIED:20211230T144709Z
UID:10001248-1654941600-1654952400@www.fccminneapolis.org
SUMMARY:Women's Fellowship Brunch
DESCRIPTION:
URL:https://www.fccminneapolis.org/event/womens-fellowship-brunch/
LOCATION:Pat Dunlop’s house
CATEGORIES:Fellowship,Women's Fellowship
END:VEVENT
BEGIN:VEVENT
DTSTART;TZID=America/Chicago:20220502T190000
DTEND;TZID=America/Chicago:20220502T200000
DTSTAMP:20260425T162234
CREATED:20211230T144509Z
LAST-MODIFIED:20211230T144509Z
UID:10001247-1651518000-1651521600@www.fccminneapolis.org
SUMMARY:Women's Fellowship
DESCRIPTION:
URL:https://www.fccminneapolis.org/event/womens-fellowship-6/2022-05-02/
CATEGORIES:Women's Fellowship
END:VEVENT
BEGIN:VEVENT
DTSTART;TZID=America/Chicago:20220404T190000
DTEND;TZID=America/Chicago:20220404T200000
DTSTAMP:20260425T162234
CREATED:20211230T144509Z
LAST-MODIFIED:20211230T144509Z
UID:10001246-1649098800-1649102400@www.fccminneapolis.org
SUMMARY:Women's Fellowship
DESCRIPTION:
URL:https://www.fccminneapolis.org/event/womens-fellowship-6/2022-04-04/
CATEGORIES:Women's Fellowship
END:VEVENT
BEGIN:VEVENT
DTSTART;TZID=America/Chicago:20220307T190000
DTEND;TZID=America/Chicago:20220307T200000
DTSTAMP:20260425T162234
CREATED:20211230T144509Z
LAST-MODIFIED:20211230T144509Z
UID:10001245-1646679600-1646683200@www.fccminneapolis.org
SUMMARY:Women's Fellowship
DESCRIPTION:
URL:https://www.fccminneapolis.org/event/womens-fellowship-6/2022-03-07/
CATEGORIES:Women's Fellowship
END:VEVENT
BEGIN:VEVENT
DTSTART;TZID=America/Chicago:20220207T190000
DTEND;TZID=America/Chicago:20220207T200000
DTSTAMP:20260425T162234
CREATED:20211230T144509Z
LAST-MODIFIED:20211230T144509Z
UID:10001244-1644260400-1644264000@www.fccminneapolis.org
SUMMARY:Women's Fellowship
DESCRIPTION:
URL:https://www.fccminneapolis.org/event/womens-fellowship-6/2022-02-07/
CATEGORIES:Women's Fellowship
END:VEVENT
END:VCALENDAR