BEGIN:VCALENDAR
VERSION:2.0
PRODID:-//First Christian Church (Disciples of Christ) - ECPv6.15.13//NONSGML v1.0//EN
CALSCALE:GREGORIAN
METHOD:PUBLISH
X-ORIGINAL-URL:https://www.fccminneapolis.org
X-WR-CALDESC:Events for First Christian Church (Disciples of Christ)
REFRESH-INTERVAL;VALUE=DURATION:PT1H
X-Robots-Tag:noindex
X-PUBLISHED-TTL:PT1H
BEGIN:VTIMEZONE
TZID:America/Chicago
BEGIN:DAYLIGHT
TZOFFSETFROM:-0600
TZOFFSETTO:-0500
TZNAME:CDT
DTSTART:20230312T080000
END:DAYLIGHT
BEGIN:STANDARD
TZOFFSETFROM:-0500
TZOFFSETTO:-0600
TZNAME:CST
DTSTART:20231105T070000
END:STANDARD
BEGIN:DAYLIGHT
TZOFFSETFROM:-0600
TZOFFSETTO:-0500
TZNAME:CDT
DTSTART:20240310T080000
END:DAYLIGHT
BEGIN:STANDARD
TZOFFSETFROM:-0500
TZOFFSETTO:-0600
TZNAME:CST
DTSTART:20241103T070000
END:STANDARD
BEGIN:DAYLIGHT
TZOFFSETFROM:-0600
TZOFFSETTO:-0500
TZNAME:CDT
DTSTART:20250309T080000
END:DAYLIGHT
BEGIN:STANDARD
TZOFFSETFROM:-0500
TZOFFSETTO:-0600
TZNAME:CST
DTSTART:20251102T070000
END:STANDARD
BEGIN:DAYLIGHT
TZOFFSETFROM:-0600
TZOFFSETTO:-0500
TZNAME:CDT
DTSTART:20260308T080000
END:DAYLIGHT
BEGIN:STANDARD
TZOFFSETFROM:-0500
TZOFFSETTO:-0600
TZNAME:CST
DTSTART:20261101T070000
END:STANDARD
BEGIN:DAYLIGHT
TZOFFSETFROM:-0600
TZOFFSETTO:-0500
TZNAME:CDT
DTSTART:20270314T080000
END:DAYLIGHT
BEGIN:STANDARD
TZOFFSETFROM:-0500
TZOFFSETTO:-0600
TZNAME:CST
DTSTART:20271107T070000
END:STANDARD
END:VTIMEZONE
BEGIN:VEVENT
DTSTART;TZID=America/Chicago:20240909T190000
DTEND;TZID=America/Chicago:20240909T200000
DTSTAMP:20260425T161840
CREATED:20230629T160840Z
LAST-MODIFIED:20250705T124437Z
UID:10004400-1725908400-1725912000@www.fccminneapolis.org
SUMMARY:Women's Fellowship
DESCRIPTION:FCC’s Women’s Fellowship meets on Zoom the first Monday of each month. The group is currently reading and discussing the book Learning to Walk in the Dark by Barbara Brown Taylor. The fall meeting dates are September 9 (later due to Labor Day)\, October 7\, November 4\, and December 2. All members and friends of FCC are welcome to join us. Contact Kathy H. for a Zoom link.
URL:https://www.fccminneapolis.org/event/womens-fellowship-8-2-2/2024-09-09/
CATEGORIES:Fellowship,Women's Fellowship
END:VEVENT
BEGIN:VEVENT
DTSTART;TZID=America/Chicago:20241007T190000
DTEND;TZID=America/Chicago:20241007T200000
DTSTAMP:20260425T161840
CREATED:20230629T160840Z
LAST-MODIFIED:20250705T124437Z
UID:10004411-1728327600-1728331200@www.fccminneapolis.org
SUMMARY:Women's Fellowship
DESCRIPTION:FCC’s Women’s Fellowship meets on Zoom the first Monday of each month. The group is currently reading and discussing the book Learning to Walk in the Dark by Barbara Brown Taylor. The fall meeting dates are September 9 (later due to Labor Day)\, October 7\, November 4\, and December 2. All members and friends of FCC are welcome to join us. Contact Kathy H. for a Zoom link.
URL:https://www.fccminneapolis.org/event/womens-fellowship-8-2-2/2024-10-07/
CATEGORIES:Fellowship,Women's Fellowship
END:VEVENT
BEGIN:VEVENT
DTSTART;TZID=America/Chicago:20241104T190000
DTEND;TZID=America/Chicago:20241104T200000
DTSTAMP:20260425T161840
CREATED:20230629T160840Z
LAST-MODIFIED:20250705T124437Z
UID:10004412-1730746800-1730750400@www.fccminneapolis.org
SUMMARY:Women's Fellowship
DESCRIPTION:FCC’s Women’s Fellowship meets on Zoom the first Monday of each month. The group is currently reading and discussing the book Learning to Walk in the Dark by Barbara Brown Taylor. The fall meeting dates are September 9 (later due to Labor Day)\, October 7\, November 4\, and December 2. All members and friends of FCC are welcome to join us. Contact Kathy H. for a Zoom link.
URL:https://www.fccminneapolis.org/event/womens-fellowship-8-2-2/2024-11-04/
CATEGORIES:Fellowship,Women's Fellowship
END:VEVENT
BEGIN:VEVENT
DTSTART;TZID=America/Chicago:20241202T190000
DTEND;TZID=America/Chicago:20241202T200000
DTSTAMP:20260425T161840
CREATED:20230629T160840Z
LAST-MODIFIED:20250705T124437Z
UID:10004413-1733166000-1733169600@www.fccminneapolis.org
SUMMARY:Women's Fellowship
DESCRIPTION:FCC’s Women’s Fellowship meets on Zoom the first Monday of each month. The group is currently reading and discussing the book Learning to Walk in the Dark by Barbara Brown Taylor. The fall meeting dates are September 9 (later due to Labor Day)\, October 7\, November 4\, and December 2. All members and friends of FCC are welcome to join us. Contact Kathy H. for a Zoom link.
URL:https://www.fccminneapolis.org/event/womens-fellowship-8-2-2/2024-12-02/
CATEGORIES:Fellowship,Women's Fellowship
END:VEVENT
BEGIN:VEVENT
DTSTART;TZID=America/Chicago:20250203T190000
DTEND;TZID=America/Chicago:20250203T200000
DTSTAMP:20260425T161840
CREATED:20230629T160840Z
LAST-MODIFIED:20250705T124437Z
UID:10005007-1738609200-1738612800@www.fccminneapolis.org
SUMMARY:Women's Fellowship
DESCRIPTION:FCC’s Women’s Fellowship meets on Zoom the first Monday of each month. The group is currently reading and discussing the book Learning to Walk in the Dark by Barbara Brown Taylor. The fall meeting dates are September 9 (later due to Labor Day)\, October 7\, November 4\, and December 2. All members and friends of FCC are welcome to join us. Contact Kathy H. for a Zoom link.
URL:https://www.fccminneapolis.org/event/womens-fellowship-8-2-2/2025-02-03/
CATEGORIES:Fellowship,Women's Fellowship
END:VEVENT
BEGIN:VEVENT
DTSTART;TZID=America/Chicago:20250303T190000
DTEND;TZID=America/Chicago:20250303T200000
DTSTAMP:20260425T161840
CREATED:20230629T160840Z
LAST-MODIFIED:20250705T124437Z
UID:10005008-1741028400-1741032000@www.fccminneapolis.org
SUMMARY:Women's Fellowship
DESCRIPTION:FCC’s Women’s Fellowship meets on Zoom the first Monday of each month. The group is currently reading and discussing the book Learning to Walk in the Dark by Barbara Brown Taylor. The fall meeting dates are September 9 (later due to Labor Day)\, October 7\, November 4\, and December 2. All members and friends of FCC are welcome to join us. Contact Kathy H. for a Zoom link.
URL:https://www.fccminneapolis.org/event/womens-fellowship-8-2-2/2025-03-03/
CATEGORIES:Fellowship,Women's Fellowship
END:VEVENT
BEGIN:VEVENT
DTSTART;TZID=America/Chicago:20250407T190000
DTEND;TZID=America/Chicago:20250407T200000
DTSTAMP:20260425T161840
CREATED:20230629T160840Z
LAST-MODIFIED:20250705T124437Z
UID:10005009-1744052400-1744056000@www.fccminneapolis.org
SUMMARY:Women's Fellowship
DESCRIPTION:FCC’s Women’s Fellowship meets on Zoom the first Monday of each month. The group is currently reading and discussing the book Learning to Walk in the Dark by Barbara Brown Taylor. The fall meeting dates are September 9 (later due to Labor Day)\, October 7\, November 4\, and December 2. All members and friends of FCC are welcome to join us. Contact Kathy H. for a Zoom link.
URL:https://www.fccminneapolis.org/event/womens-fellowship-8-2-2/2025-04-07/
CATEGORIES:Fellowship,Women's Fellowship
END:VEVENT
BEGIN:VEVENT
DTSTART;TZID=America/Chicago:20250505T190000
DTEND;TZID=America/Chicago:20250505T200000
DTSTAMP:20260425T161840
CREATED:20230629T160840Z
LAST-MODIFIED:20250705T124437Z
UID:10005010-1746471600-1746475200@www.fccminneapolis.org
SUMMARY:Women's Fellowship
DESCRIPTION:FCC’s Women’s Fellowship meets on Zoom the first Monday of each month. The group is currently reading and discussing the book Learning to Walk in the Dark by Barbara Brown Taylor. The fall meeting dates are September 9 (later due to Labor Day)\, October 7\, November 4\, and December 2. All members and friends of FCC are welcome to join us. Contact Kathy H. for a Zoom link.
URL:https://www.fccminneapolis.org/event/womens-fellowship-8-2-2/2025-05-05/
CATEGORIES:Fellowship,Women's Fellowship
END:VEVENT
BEGIN:VEVENT
DTSTART;TZID=America/Chicago:20250602T190000
DTEND;TZID=America/Chicago:20250602T200000
DTSTAMP:20260425T161840
CREATED:20230629T160840Z
LAST-MODIFIED:20250705T124437Z
UID:10005011-1748890800-1748894400@www.fccminneapolis.org
SUMMARY:Women's Fellowship
DESCRIPTION:FCC’s Women’s Fellowship meets on Zoom the first Monday of each month. The group is currently reading and discussing the book Learning to Walk in the Dark by Barbara Brown Taylor. The fall meeting dates are September 9 (later due to Labor Day)\, October 7\, November 4\, and December 2. All members and friends of FCC are welcome to join us. Contact Kathy H. for a Zoom link.
URL:https://www.fccminneapolis.org/event/womens-fellowship-8-2-2/2025-06-02/
CATEGORIES:Fellowship,Women's Fellowship
END:VEVENT
BEGIN:VEVENT
DTSTART;TZID=America/Chicago:20250908T190000
DTEND;TZID=America/Chicago:20250908T200000
DTSTAMP:20260425T161840
CREATED:20250701T154824Z
LAST-MODIFIED:20250701T154830Z
UID:10005014-1757358000-1757361600@www.fccminneapolis.org
SUMMARY:Women's Fellowship
DESCRIPTION:FCC’s Women’s Fellowship meets on Zoom the first Monday of each month. The group is currently reading and discussing the book Learning to Walk in the Dark by Barbara Brown Taylor. The fall meeting dates are September 9 (later due to Labor Day)\, October 7\, November 4\, and December 2. All members and friends of FCC are welcome to join us. Contact Kathy H. for a Zoom link.
URL:https://www.fccminneapolis.org/event/womens-fellowship-8-2-2-2/
CATEGORIES:Fellowship,Women's Fellowship
END:VEVENT
BEGIN:VEVENT
DTSTART;TZID=America/Chicago:20251006T190000
DTEND;TZID=America/Chicago:20251006T200000
DTSTAMP:20260425T161840
CREATED:20250701T154954Z
LAST-MODIFIED:20250701T154956Z
UID:10005826-1759777200-1759780800@www.fccminneapolis.org
SUMMARY:Women's Fellowship
DESCRIPTION:FCC’s Women’s Fellowship meets on Zoom the first Monday of each month. The group is currently reading and discussing the book Learning to Walk in the Dark by Barbara Brown Taylor. The fall meeting dates are September 9 (later due to Labor Day)\, October 7\, November 4\, and December 2. All members and friends of FCC are welcome to join us. Contact Kathy H. for a Zoom link.
URL:https://www.fccminneapolis.org/event/womens-fellowship-8-2-2-2-2/2025-10-06/
CATEGORIES:Fellowship,Women's Fellowship
END:VEVENT
BEGIN:VEVENT
DTSTART;TZID=America/Chicago:20251103T190000
DTEND;TZID=America/Chicago:20251103T200000
DTSTAMP:20260425T161840
CREATED:20250701T154954Z
LAST-MODIFIED:20250701T154956Z
UID:10005829-1762196400-1762200000@www.fccminneapolis.org
SUMMARY:Women's Fellowship
DESCRIPTION:FCC’s Women’s Fellowship meets on Zoom the first Monday of each month. The group is currently reading and discussing the book Learning to Walk in the Dark by Barbara Brown Taylor. The fall meeting dates are September 9 (later due to Labor Day)\, October 7\, November 4\, and December 2. All members and friends of FCC are welcome to join us. Contact Kathy H. for a Zoom link.
URL:https://www.fccminneapolis.org/event/womens-fellowship-8-2-2-2-2/2025-11-03/
CATEGORIES:Fellowship,Women's Fellowship
END:VEVENT
BEGIN:VEVENT
DTSTART;TZID=America/Chicago:20251201T190000
DTEND;TZID=America/Chicago:20251201T200000
DTSTAMP:20260425T161840
CREATED:20251230T182526Z
LAST-MODIFIED:20251230T183554Z
UID:10005830-1764615600-1764619200@www.fccminneapolis.org
SUMMARY:Women's Fellowship
DESCRIPTION:FCC’s Women’s Fellowship meets on Zoom the first Monday of each month. All members and friends of FCC are welcome to join us. Contact Kathy H. for a Zoom link.
URL:https://www.fccminneapolis.org/event/womens-fellowship-8-2-2-2-2-2/2025-12-01/
CATEGORIES:Fellowship,Women's Fellowship
END:VEVENT
BEGIN:VEVENT
DTSTART;TZID=America/Chicago:20260202T190000
DTEND;TZID=America/Chicago:20260202T200000
DTSTAMP:20260425T161840
CREATED:20251230T182526Z
LAST-MODIFIED:20251230T183554Z
UID:10007695-1770058800-1770062400@www.fccminneapolis.org
SUMMARY:Women's Fellowship
DESCRIPTION:FCC’s Women’s Fellowship meets on Zoom the first Monday of each month. All members and friends of FCC are welcome to join us. Contact Kathy H. for a Zoom link.
URL:https://www.fccminneapolis.org/event/womens-fellowship-8-2-2-2-2-2/2026-02-02/
CATEGORIES:Fellowship,Women's Fellowship
END:VEVENT
BEGIN:VEVENT
DTSTART;TZID=America/Chicago:20260302T190000
DTEND;TZID=America/Chicago:20260302T200000
DTSTAMP:20260425T161840
CREATED:20251230T182526Z
LAST-MODIFIED:20251230T183554Z
UID:10007696-1772478000-1772481600@www.fccminneapolis.org
SUMMARY:Women's Fellowship
DESCRIPTION:FCC’s Women’s Fellowship meets on Zoom the first Monday of each month. All members and friends of FCC are welcome to join us. Contact Kathy H. for a Zoom link.
URL:https://www.fccminneapolis.org/event/womens-fellowship-8-2-2-2-2-2/2026-03-02/
CATEGORIES:Fellowship,Women's Fellowship
END:VEVENT
BEGIN:VEVENT
DTSTART;TZID=America/Chicago:20260406T190000
DTEND;TZID=America/Chicago:20260406T200000
DTSTAMP:20260425T161840
CREATED:20251230T182526Z
LAST-MODIFIED:20251230T183554Z
UID:10007697-1775502000-1775505600@www.fccminneapolis.org
SUMMARY:Women's Fellowship
DESCRIPTION:FCC’s Women’s Fellowship meets on Zoom the first Monday of each month. All members and friends of FCC are welcome to join us. Contact Kathy H. for a Zoom link.
URL:https://www.fccminneapolis.org/event/womens-fellowship-8-2-2-2-2-2/2026-04-06/
CATEGORIES:Fellowship,Women's Fellowship
END:VEVENT
END:VCALENDAR