BEGIN:VCALENDAR
VERSION:2.0
PRODID:-//First Christian Church (Disciples of Christ) - ECPv6.15.13//NONSGML v1.0//EN
CALSCALE:GREGORIAN
METHOD:PUBLISH
X-WR-CALNAME:First Christian Church (Disciples of Christ)
X-ORIGINAL-URL:https://www.fccminneapolis.org
X-WR-CALDESC:Events for First Christian Church (Disciples of Christ)
REFRESH-INTERVAL;VALUE=DURATION:PT1H
X-Robots-Tag:noindex
X-PUBLISHED-TTL:PT1H
BEGIN:VTIMEZONE
TZID:America/Chicago
BEGIN:DAYLIGHT
TZOFFSETFROM:-0600
TZOFFSETTO:-0500
TZNAME:CDT
DTSTART:20270314T080000
END:DAYLIGHT
BEGIN:STANDARD
TZOFFSETFROM:-0500
TZOFFSETTO:-0600
TZNAME:CST
DTSTART:20271107T070000
END:STANDARD
BEGIN:DAYLIGHT
TZOFFSETFROM:-0600
TZOFFSETTO:-0500
TZNAME:CDT
DTSTART:20280312T080000
END:DAYLIGHT
BEGIN:STANDARD
TZOFFSETFROM:-0500
TZOFFSETTO:-0600
TZNAME:CST
DTSTART:20281105T070000
END:STANDARD
BEGIN:DAYLIGHT
TZOFFSETFROM:-0600
TZOFFSETTO:-0500
TZNAME:CDT
DTSTART:20290311T080000
END:DAYLIGHT
BEGIN:STANDARD
TZOFFSETFROM:-0500
TZOFFSETTO:-0600
TZNAME:CST
DTSTART:20291104T070000
END:STANDARD
BEGIN:DAYLIGHT
TZOFFSETFROM:-0600
TZOFFSETTO:-0500
TZNAME:CDT
DTSTART:20300310T080000
END:DAYLIGHT
BEGIN:STANDARD
TZOFFSETFROM:-0500
TZOFFSETTO:-0600
TZNAME:CST
DTSTART:20301103T070000
END:STANDARD
END:VTIMEZONE
BEGIN:VEVENT
DTSTART;TZID=America/Chicago:20280410T170000
DTEND;TZID=America/Chicago:20280410T183000
DTSTAMP:20260425T180628
CREATED:20251230T183152Z
LAST-MODIFIED:20251230T183152Z
UID:10007601-1838998800-1839004200@www.fccminneapolis.org
SUMMARY:SHMC Building Committee
DESCRIPTION:
URL:https://www.fccminneapolis.org/event/shmc-building-committee-5-2/2028-04-10/
LOCATION:Online
CATEGORIES:SpringHouse Joint Ministries
END:VEVENT
BEGIN:VEVENT
DTSTART;TZID=America/Chicago:20280410T190000
DTEND;TZID=America/Chicago:20280410T210000
DTSTAMP:20260425T180628
CREATED:20251230T183339Z
LAST-MODIFIED:20251230T183441Z
UID:10007661-1839006000-1839013200@www.fccminneapolis.org
SUMMARY:SHMC Finance Committee
DESCRIPTION:
URL:https://www.fccminneapolis.org/event/shmc-finance-committee-4-2/2028-04-10/
LOCATION:Online
CATEGORIES:SpringHouse Joint Ministries
END:VEVENT
BEGIN:VEVENT
DTSTART;TZID=America/Chicago:20280508T170000
DTEND;TZID=America/Chicago:20280508T183000
DTSTAMP:20260425T180628
CREATED:20251230T183152Z
LAST-MODIFIED:20251230T183152Z
UID:10007602-1841418000-1841423400@www.fccminneapolis.org
SUMMARY:SHMC Building Committee
DESCRIPTION:
URL:https://www.fccminneapolis.org/event/shmc-building-committee-5-2/2028-05-08/
LOCATION:Online
CATEGORIES:SpringHouse Joint Ministries
END:VEVENT
BEGIN:VEVENT
DTSTART;TZID=America/Chicago:20280508T190000
DTEND;TZID=America/Chicago:20280508T210000
DTSTAMP:20260425T180628
CREATED:20251230T183339Z
LAST-MODIFIED:20251230T183441Z
UID:10007662-1841425200-1841432400@www.fccminneapolis.org
SUMMARY:SHMC Finance Committee
DESCRIPTION:
URL:https://www.fccminneapolis.org/event/shmc-finance-committee-4-2/2028-05-08/
LOCATION:Online
CATEGORIES:SpringHouse Joint Ministries
END:VEVENT
BEGIN:VEVENT
DTSTART;TZID=America/Chicago:20280612T170000
DTEND;TZID=America/Chicago:20280612T183000
DTSTAMP:20260425T180628
CREATED:20251230T183152Z
LAST-MODIFIED:20251230T183152Z
UID:10007603-1844442000-1844447400@www.fccminneapolis.org
SUMMARY:SHMC Building Committee
DESCRIPTION:
URL:https://www.fccminneapolis.org/event/shmc-building-committee-5-2/2028-06-12/
LOCATION:Online
CATEGORIES:SpringHouse Joint Ministries
END:VEVENT
BEGIN:VEVENT
DTSTART;TZID=America/Chicago:20280612T190000
DTEND;TZID=America/Chicago:20280612T210000
DTSTAMP:20260425T180628
CREATED:20251230T183339Z
LAST-MODIFIED:20251230T183441Z
UID:10007663-1844449200-1844456400@www.fccminneapolis.org
SUMMARY:SHMC Finance Committee
DESCRIPTION:
URL:https://www.fccminneapolis.org/event/shmc-finance-committee-4-2/2028-06-12/
LOCATION:Online
CATEGORIES:SpringHouse Joint Ministries
END:VEVENT
BEGIN:VEVENT
DTSTART;TZID=America/Chicago:20280710T170000
DTEND;TZID=America/Chicago:20280710T183000
DTSTAMP:20260425T180628
CREATED:20251230T183152Z
LAST-MODIFIED:20251230T183152Z
UID:10007604-1846861200-1846866600@www.fccminneapolis.org
SUMMARY:SHMC Building Committee
DESCRIPTION:
URL:https://www.fccminneapolis.org/event/shmc-building-committee-5-2/2028-07-10/
LOCATION:Online
CATEGORIES:SpringHouse Joint Ministries
END:VEVENT
BEGIN:VEVENT
DTSTART;TZID=America/Chicago:20280710T190000
DTEND;TZID=America/Chicago:20280710T210000
DTSTAMP:20260425T180628
CREATED:20251230T183339Z
LAST-MODIFIED:20251230T183441Z
UID:10007664-1846868400-1846875600@www.fccminneapolis.org
SUMMARY:SHMC Finance Committee
DESCRIPTION:
URL:https://www.fccminneapolis.org/event/shmc-finance-committee-4-2/2028-07-10/
LOCATION:Online
CATEGORIES:SpringHouse Joint Ministries
END:VEVENT
BEGIN:VEVENT
DTSTART;TZID=America/Chicago:20280814T170000
DTEND;TZID=America/Chicago:20280814T183000
DTSTAMP:20260425T180628
CREATED:20251230T183152Z
LAST-MODIFIED:20251230T183152Z
UID:10007605-1849885200-1849890600@www.fccminneapolis.org
SUMMARY:SHMC Building Committee
DESCRIPTION:
URL:https://www.fccminneapolis.org/event/shmc-building-committee-5-2/2028-08-14/
LOCATION:Online
CATEGORIES:SpringHouse Joint Ministries
END:VEVENT
BEGIN:VEVENT
DTSTART;TZID=America/Chicago:20280814T190000
DTEND;TZID=America/Chicago:20280814T210000
DTSTAMP:20260425T180628
CREATED:20251230T183339Z
LAST-MODIFIED:20251230T183441Z
UID:10007665-1849892400-1849899600@www.fccminneapolis.org
SUMMARY:SHMC Finance Committee
DESCRIPTION:
URL:https://www.fccminneapolis.org/event/shmc-finance-committee-4-2/2028-08-14/
LOCATION:Online
CATEGORIES:SpringHouse Joint Ministries
END:VEVENT
BEGIN:VEVENT
DTSTART;TZID=America/Chicago:20280911T170000
DTEND;TZID=America/Chicago:20280911T183000
DTSTAMP:20260425T180628
CREATED:20251230T183152Z
LAST-MODIFIED:20251230T183152Z
UID:10007606-1852304400-1852309800@www.fccminneapolis.org
SUMMARY:SHMC Building Committee
DESCRIPTION:
URL:https://www.fccminneapolis.org/event/shmc-building-committee-5-2/2028-09-11/
LOCATION:Online
CATEGORIES:SpringHouse Joint Ministries
END:VEVENT
BEGIN:VEVENT
DTSTART;TZID=America/Chicago:20280911T190000
DTEND;TZID=America/Chicago:20280911T210000
DTSTAMP:20260425T180628
CREATED:20251230T183339Z
LAST-MODIFIED:20251230T183441Z
UID:10007666-1852311600-1852318800@www.fccminneapolis.org
SUMMARY:SHMC Finance Committee
DESCRIPTION:
URL:https://www.fccminneapolis.org/event/shmc-finance-committee-4-2/2028-09-11/
LOCATION:Online
CATEGORIES:SpringHouse Joint Ministries
END:VEVENT
BEGIN:VEVENT
DTSTART;TZID=America/Chicago:20281009T170000
DTEND;TZID=America/Chicago:20281009T183000
DTSTAMP:20260425T180628
CREATED:20251230T183152Z
LAST-MODIFIED:20251230T183152Z
UID:10007607-1854723600-1854729000@www.fccminneapolis.org
SUMMARY:SHMC Building Committee
DESCRIPTION:
URL:https://www.fccminneapolis.org/event/shmc-building-committee-5-2/2028-10-09/
LOCATION:Online
CATEGORIES:SpringHouse Joint Ministries
END:VEVENT
BEGIN:VEVENT
DTSTART;TZID=America/Chicago:20281009T190000
DTEND;TZID=America/Chicago:20281009T210000
DTSTAMP:20260425T180628
CREATED:20251230T183339Z
LAST-MODIFIED:20251230T183441Z
UID:10007667-1854730800-1854738000@www.fccminneapolis.org
SUMMARY:SHMC Finance Committee
DESCRIPTION:
URL:https://www.fccminneapolis.org/event/shmc-finance-committee-4-2/2028-10-09/
LOCATION:Online
CATEGORIES:SpringHouse Joint Ministries
END:VEVENT
BEGIN:VEVENT
DTSTART;TZID=America/Chicago:20281113T170000
DTEND;TZID=America/Chicago:20281113T183000
DTSTAMP:20260425T180628
CREATED:20251230T183152Z
LAST-MODIFIED:20251230T183152Z
UID:10007608-1857747600-1857753000@www.fccminneapolis.org
SUMMARY:SHMC Building Committee
DESCRIPTION:
URL:https://www.fccminneapolis.org/event/shmc-building-committee-5-2/2028-11-13/
LOCATION:Online
CATEGORIES:SpringHouse Joint Ministries
END:VEVENT
BEGIN:VEVENT
DTSTART;TZID=America/Chicago:20281113T190000
DTEND;TZID=America/Chicago:20281113T210000
DTSTAMP:20260425T180628
CREATED:20251230T183339Z
LAST-MODIFIED:20251230T183441Z
UID:10007668-1857754800-1857762000@www.fccminneapolis.org
SUMMARY:SHMC Finance Committee
DESCRIPTION:
URL:https://www.fccminneapolis.org/event/shmc-finance-committee-4-2/2028-11-13/
LOCATION:Online
CATEGORIES:SpringHouse Joint Ministries
END:VEVENT
BEGIN:VEVENT
DTSTART;TZID=America/Chicago:20281211T170000
DTEND;TZID=America/Chicago:20281211T183000
DTSTAMP:20260425T180628
CREATED:20251230T183152Z
LAST-MODIFIED:20251230T183152Z
UID:10007609-1860166800-1860172200@www.fccminneapolis.org
SUMMARY:SHMC Building Committee
DESCRIPTION:
URL:https://www.fccminneapolis.org/event/shmc-building-committee-5-2/2028-12-11/
LOCATION:Online
CATEGORIES:SpringHouse Joint Ministries
END:VEVENT
BEGIN:VEVENT
DTSTART;TZID=America/Chicago:20281211T190000
DTEND;TZID=America/Chicago:20281211T210000
DTSTAMP:20260425T180628
CREATED:20251230T183339Z
LAST-MODIFIED:20251230T183441Z
UID:10007669-1860174000-1860181200@www.fccminneapolis.org
SUMMARY:SHMC Finance Committee
DESCRIPTION:
URL:https://www.fccminneapolis.org/event/shmc-finance-committee-4-2/2028-12-11/
LOCATION:Online
CATEGORIES:SpringHouse Joint Ministries
END:VEVENT
BEGIN:VEVENT
DTSTART;TZID=America/Chicago:20290108T170000
DTEND;TZID=America/Chicago:20290108T183000
DTSTAMP:20260425T180628
CREATED:20251230T183152Z
LAST-MODIFIED:20251230T183152Z
UID:10007610-1862586000-1862591400@www.fccminneapolis.org
SUMMARY:SHMC Building Committee
DESCRIPTION:
URL:https://www.fccminneapolis.org/event/shmc-building-committee-5-2/2029-01-08/
LOCATION:Online
CATEGORIES:SpringHouse Joint Ministries
END:VEVENT
BEGIN:VEVENT
DTSTART;TZID=America/Chicago:20290108T190000
DTEND;TZID=America/Chicago:20290108T210000
DTSTAMP:20260425T180628
CREATED:20251230T183339Z
LAST-MODIFIED:20251230T183441Z
UID:10007670-1862593200-1862600400@www.fccminneapolis.org
SUMMARY:SHMC Finance Committee
DESCRIPTION:
URL:https://www.fccminneapolis.org/event/shmc-finance-committee-4-2/2029-01-08/
LOCATION:Online
CATEGORIES:SpringHouse Joint Ministries
END:VEVENT
BEGIN:VEVENT
DTSTART;TZID=America/Chicago:20290212T170000
DTEND;TZID=America/Chicago:20290212T183000
DTSTAMP:20260425T180628
CREATED:20251230T183152Z
LAST-MODIFIED:20251230T183152Z
UID:10007611-1865610000-1865615400@www.fccminneapolis.org
SUMMARY:SHMC Building Committee
DESCRIPTION:
URL:https://www.fccminneapolis.org/event/shmc-building-committee-5-2/2029-02-12/
LOCATION:Online
CATEGORIES:SpringHouse Joint Ministries
END:VEVENT
BEGIN:VEVENT
DTSTART;TZID=America/Chicago:20290212T190000
DTEND;TZID=America/Chicago:20290212T210000
DTSTAMP:20260425T180628
CREATED:20251230T183339Z
LAST-MODIFIED:20251230T183441Z
UID:10007671-1865617200-1865624400@www.fccminneapolis.org
SUMMARY:SHMC Finance Committee
DESCRIPTION:
URL:https://www.fccminneapolis.org/event/shmc-finance-committee-4-2/2029-02-12/
LOCATION:Online
CATEGORIES:SpringHouse Joint Ministries
END:VEVENT
BEGIN:VEVENT
DTSTART;TZID=America/Chicago:20290312T170000
DTEND;TZID=America/Chicago:20290312T183000
DTSTAMP:20260425T180628
CREATED:20251230T183152Z
LAST-MODIFIED:20251230T183152Z
UID:10007612-1868029200-1868034600@www.fccminneapolis.org
SUMMARY:SHMC Building Committee
DESCRIPTION:
URL:https://www.fccminneapolis.org/event/shmc-building-committee-5-2/2029-03-12/
LOCATION:Online
CATEGORIES:SpringHouse Joint Ministries
END:VEVENT
BEGIN:VEVENT
DTSTART;TZID=America/Chicago:20290312T190000
DTEND;TZID=America/Chicago:20290312T210000
DTSTAMP:20260425T180628
CREATED:20251230T183339Z
LAST-MODIFIED:20251230T183441Z
UID:10007672-1868036400-1868043600@www.fccminneapolis.org
SUMMARY:SHMC Finance Committee
DESCRIPTION:
URL:https://www.fccminneapolis.org/event/shmc-finance-committee-4-2/2029-03-12/
LOCATION:Online
CATEGORIES:SpringHouse Joint Ministries
END:VEVENT
BEGIN:VEVENT
DTSTART;TZID=America/Chicago:20290409T170000
DTEND;TZID=America/Chicago:20290409T183000
DTSTAMP:20260425T180628
CREATED:20251230T183152Z
LAST-MODIFIED:20251230T183152Z
UID:10007613-1870448400-1870453800@www.fccminneapolis.org
SUMMARY:SHMC Building Committee
DESCRIPTION:
URL:https://www.fccminneapolis.org/event/shmc-building-committee-5-2/2029-04-09/
LOCATION:Online
CATEGORIES:SpringHouse Joint Ministries
END:VEVENT
BEGIN:VEVENT
DTSTART;TZID=America/Chicago:20290409T190000
DTEND;TZID=America/Chicago:20290409T210000
DTSTAMP:20260425T180628
CREATED:20251230T183339Z
LAST-MODIFIED:20251230T183441Z
UID:10007673-1870455600-1870462800@www.fccminneapolis.org
SUMMARY:SHMC Finance Committee
DESCRIPTION:
URL:https://www.fccminneapolis.org/event/shmc-finance-committee-4-2/2029-04-09/
LOCATION:Online
CATEGORIES:SpringHouse Joint Ministries
END:VEVENT
BEGIN:VEVENT
DTSTART;TZID=America/Chicago:20290514T170000
DTEND;TZID=America/Chicago:20290514T183000
DTSTAMP:20260425T180628
CREATED:20251230T183152Z
LAST-MODIFIED:20251230T183152Z
UID:10007614-1873472400-1873477800@www.fccminneapolis.org
SUMMARY:SHMC Building Committee
DESCRIPTION:
URL:https://www.fccminneapolis.org/event/shmc-building-committee-5-2/2029-05-14/
LOCATION:Online
CATEGORIES:SpringHouse Joint Ministries
END:VEVENT
BEGIN:VEVENT
DTSTART;TZID=America/Chicago:20290514T190000
DTEND;TZID=America/Chicago:20290514T210000
DTSTAMP:20260425T180628
CREATED:20251230T183339Z
LAST-MODIFIED:20251230T183441Z
UID:10007674-1873479600-1873486800@www.fccminneapolis.org
SUMMARY:SHMC Finance Committee
DESCRIPTION:
URL:https://www.fccminneapolis.org/event/shmc-finance-committee-4-2/2029-05-14/
LOCATION:Online
CATEGORIES:SpringHouse Joint Ministries
END:VEVENT
BEGIN:VEVENT
DTSTART;TZID=America/Chicago:20290611T170000
DTEND;TZID=America/Chicago:20290611T183000
DTSTAMP:20260425T180628
CREATED:20251230T183152Z
LAST-MODIFIED:20251230T183152Z
UID:10007615-1875891600-1875897000@www.fccminneapolis.org
SUMMARY:SHMC Building Committee
DESCRIPTION:
URL:https://www.fccminneapolis.org/event/shmc-building-committee-5-2/2029-06-11/
LOCATION:Online
CATEGORIES:SpringHouse Joint Ministries
END:VEVENT
BEGIN:VEVENT
DTSTART;TZID=America/Chicago:20290611T190000
DTEND;TZID=America/Chicago:20290611T210000
DTSTAMP:20260425T180628
CREATED:20251230T183339Z
LAST-MODIFIED:20251230T183441Z
UID:10007675-1875898800-1875906000@www.fccminneapolis.org
SUMMARY:SHMC Finance Committee
DESCRIPTION:
URL:https://www.fccminneapolis.org/event/shmc-finance-committee-4-2/2029-06-11/
LOCATION:Online
CATEGORIES:SpringHouse Joint Ministries
END:VEVENT
END:VCALENDAR