BEGIN:VCALENDAR
VERSION:2.0
PRODID:-//First Christian Church (Disciples of Christ) - ECPv6.15.13//NONSGML v1.0//EN
CALSCALE:GREGORIAN
METHOD:PUBLISH
X-WR-CALNAME:First Christian Church (Disciples of Christ)
X-ORIGINAL-URL:https://www.fccminneapolis.org
X-WR-CALDESC:Events for First Christian Church (Disciples of Christ)
REFRESH-INTERVAL;VALUE=DURATION:PT1H
X-Robots-Tag:noindex
X-PUBLISHED-TTL:PT1H
BEGIN:VTIMEZONE
TZID:America/Chicago
BEGIN:DAYLIGHT
TZOFFSETFROM:-0600
TZOFFSETTO:-0500
TZNAME:CDT
DTSTART:20190310T080000
END:DAYLIGHT
BEGIN:STANDARD
TZOFFSETFROM:-0500
TZOFFSETTO:-0600
TZNAME:CST
DTSTART:20191103T070000
END:STANDARD
BEGIN:DAYLIGHT
TZOFFSETFROM:-0600
TZOFFSETTO:-0500
TZNAME:CDT
DTSTART:20200308T080000
END:DAYLIGHT
BEGIN:STANDARD
TZOFFSETFROM:-0500
TZOFFSETTO:-0600
TZNAME:CST
DTSTART:20201101T070000
END:STANDARD
BEGIN:DAYLIGHT
TZOFFSETFROM:-0600
TZOFFSETTO:-0500
TZNAME:CDT
DTSTART:20210314T080000
END:DAYLIGHT
BEGIN:STANDARD
TZOFFSETFROM:-0500
TZOFFSETTO:-0600
TZNAME:CST
DTSTART:20211107T070000
END:STANDARD
END:VTIMEZONE
BEGIN:VEVENT
DTSTART;TZID=America/Chicago:20200302T184500
DTEND;TZID=America/Chicago:20200302T203000
DTSTAMP:20260425T205310
CREATED:20191226T184819Z
LAST-MODIFIED:20191226T184819Z
UID:10000449-1583174700-1583181000@www.fccminneapolis.org
SUMMARY:SHMC Building Committee
DESCRIPTION:
URL:https://www.fccminneapolis.org/event/shmc-building-committee-2/2020-03-02/
LOCATION:SHMC Timothy Meeting Room (Lower Level)
CATEGORIES:SpringHouse Joint Ministries
END:VEVENT
BEGIN:VEVENT
DTSTART;TZID=America/Chicago:20200316T190000
DTEND;TZID=America/Chicago:20200316T210000
DTSTAMP:20260425T205311
CREATED:20191112T162235Z
LAST-MODIFIED:20191226T155645Z
UID:10000308-1584385200-1584392400@www.fccminneapolis.org
SUMMARY:SHMC Finance Committee
DESCRIPTION:
URL:https://www.fccminneapolis.org/event/shmc-finance-committee-2/2020-03-16/
LOCATION:SHMC Timothy Meeting Room (Lower Level)
CATEGORIES:SpringHouse Joint Ministries
END:VEVENT
BEGIN:VEVENT
DTSTART;TZID=America/Chicago:20200322T093000
DTEND;TZID=America/Chicago:20200322T103000
DTSTAMP:20260425T205311
CREATED:20191226T185209Z
LAST-MODIFIED:20200319T184206Z
UID:10000479-1584869400-1584873000@www.fccminneapolis.org
SUMMARY:Virtual SpringHouse Youth Group
DESCRIPTION:Due to the COVID-19 pandemic\, SpringHouse Youth Group will be done virtually. \nFor more information\, contact Lara Moll\, SpringHouse Youth Minister.
URL:https://www.fccminneapolis.org/event/springhouse-youth-group-2-2020-03-22/
LOCATION:Virtual Zoom Youth Room
CATEGORIES:SpringHouse Joint Ministries,Youth
END:VEVENT
BEGIN:VEVENT
DTSTART;TZID=America/Chicago:20200329T093000
DTEND;TZID=America/Chicago:20200329T103000
DTSTAMP:20260425T205311
CREATED:20191226T185209Z
LAST-MODIFIED:20200319T184346Z
UID:10000480-1585474200-1585477800@www.fccminneapolis.org
SUMMARY:Virtual SpringHouse Youth Group
DESCRIPTION:Due to the COVID-19 pandemic\, SpringHouse Youth Group will be done virtually. \nFor more information\, contact Lara Moll\, SpringHouse Youth Minister.
URL:https://www.fccminneapolis.org/event/springhouse-youth-group-2-2020-03-29/
LOCATION:Virtual Zoom Youth Room
CATEGORIES:SpringHouse Joint Ministries,Youth
END:VEVENT
BEGIN:VEVENT
DTSTART;TZID=America/Chicago:20200406T184500
DTEND;TZID=America/Chicago:20200406T203000
DTSTAMP:20260425T205311
CREATED:20191226T184819Z
LAST-MODIFIED:20191226T184819Z
UID:10000450-1586198700-1586205000@www.fccminneapolis.org
SUMMARY:SHMC Building Committee
DESCRIPTION:
URL:https://www.fccminneapolis.org/event/shmc-building-committee-2/2020-04-06/
LOCATION:SHMC Timothy Meeting Room (Lower Level)
CATEGORIES:SpringHouse Joint Ministries
END:VEVENT
BEGIN:VEVENT
DTSTART;TZID=America/Chicago:20200420T190000
DTEND;TZID=America/Chicago:20200420T210000
DTSTAMP:20260425T205311
CREATED:20191112T162235Z
LAST-MODIFIED:20200420T014422Z
UID:10000317-1587409200-1587416400@www.fccminneapolis.org
SUMMARY:Virtual SHMC Finance Committee via Zoom
DESCRIPTION:
URL:https://www.fccminneapolis.org/event/shmc-finance-committee-2-2020-04-20/
LOCATION:Online
CATEGORIES:SpringHouse Joint Ministries
END:VEVENT
BEGIN:VEVENT
DTSTART;TZID=America/Chicago:20200426T093000
DTEND;TZID=America/Chicago:20200426T103000
DTSTAMP:20260425T205311
CREATED:20191226T185209Z
LAST-MODIFIED:20200423T232823Z
UID:10000482-1587893400-1587897000@www.fccminneapolis.org
SUMMARY:Virtual SpringHouse Youth Group via Zoom
DESCRIPTION:
URL:https://www.fccminneapolis.org/event/springhouse-youth-group-2-2020-04-26/
LOCATION:Virtual Zoom Youth Room
CATEGORIES:SpringHouse Joint Ministries,Youth
END:VEVENT
BEGIN:VEVENT
DTSTART;TZID=America/Chicago:20200503T090000
DTEND;TZID=America/Chicago:20200503T100000
DTSTAMP:20260425T205311
CREATED:20191226T185209Z
LAST-MODIFIED:20200423T232637Z
UID:10000483-1588496400-1588500000@www.fccminneapolis.org
SUMMARY:Virtual SpringHouse Youth Group via Zoom
DESCRIPTION:
URL:https://www.fccminneapolis.org/event/springhouse-youth-group-2-2020-05-03/
LOCATION:Virtual Zoom Youth Room
CATEGORIES:SpringHouse Joint Ministries,Youth
END:VEVENT
BEGIN:VEVENT
DTSTART;TZID=America/Chicago:20200504T184500
DTEND;TZID=America/Chicago:20200504T203000
DTSTAMP:20260425T205311
CREATED:20191226T184819Z
LAST-MODIFIED:20200504T010510Z
UID:10000458-1588617900-1588624200@www.fccminneapolis.org
SUMMARY:SHMC Building Committee
DESCRIPTION:
URL:https://www.fccminneapolis.org/event/shmc-building-committee-2-2020-05-04/
LOCATION:Online
CATEGORIES:SpringHouse Joint Ministries
END:VEVENT
BEGIN:VEVENT
DTSTART;TZID=America/Chicago:20200510T090000
DTEND;TZID=America/Chicago:20200510T100000
DTSTAMP:20260425T205311
CREATED:20191226T185209Z
LAST-MODIFIED:20200423T232728Z
UID:10000488-1589101200-1589104800@www.fccminneapolis.org
SUMMARY:Virtual SpringHouse Youth Group via Zoom
DESCRIPTION:
URL:https://www.fccminneapolis.org/event/springhouse-youth-group-2-2020-05-10/
LOCATION:Virtual Zoom Youth Room
CATEGORIES:SpringHouse Joint Ministries,Youth
END:VEVENT
BEGIN:VEVENT
DTSTART;TZID=America/Chicago:20200513T170000
DTEND;TZID=America/Chicago:20200513T183000
DTSTAMP:20260425T205311
CREATED:20200513T161828Z
LAST-MODIFIED:20200513T161828Z
UID:10000190-1589389200-1589394600@www.fccminneapolis.org
SUMMARY:SpringHouse Youth Ministry planning meeting
DESCRIPTION:If you did not receive the link via email\, please contact Lara Moll\, SpringHouse Youth Minister.
URL:https://www.fccminneapolis.org/event/springhouse-youth-ministry-planning-meeting/
CATEGORIES:Online Community Gatherings,SpringHouse Joint Ministries,Youth
END:VEVENT
BEGIN:VEVENT
DTSTART;TZID=America/Chicago:20200518T190000
DTEND;TZID=America/Chicago:20200518T210000
DTSTAMP:20260425T205311
CREATED:20191112T162235Z
LAST-MODIFIED:20200515T124647Z
UID:10000320-1589828400-1589835600@www.fccminneapolis.org
SUMMARY:Virtual SHMC Finance Committee
DESCRIPTION:
URL:https://www.fccminneapolis.org/event/shmc-finance-committee-2-2020-05-18/
LOCATION:Online
CATEGORIES:SpringHouse Joint Ministries
END:VEVENT
BEGIN:VEVENT
DTSTART;TZID=America/Chicago:20200601T184500
DTEND;TZID=America/Chicago:20200601T203000
DTSTAMP:20260425T205311
CREATED:20191226T184819Z
LAST-MODIFIED:20191226T184819Z
UID:10000451-1591037100-1591043400@www.fccminneapolis.org
SUMMARY:SHMC Building Committee
DESCRIPTION:
URL:https://www.fccminneapolis.org/event/shmc-building-committee-2/2020-06-01/
LOCATION:SHMC Timothy Meeting Room (Lower Level)
CATEGORIES:SpringHouse Joint Ministries
END:VEVENT
BEGIN:VEVENT
DTSTART;TZID=America/Chicago:20200615T190000
DTEND;TZID=America/Chicago:20200615T210000
DTSTAMP:20260425T205311
CREATED:20191112T162235Z
LAST-MODIFIED:20191226T155645Z
UID:10000309-1592247600-1592254800@www.fccminneapolis.org
SUMMARY:SHMC Finance Committee
DESCRIPTION:
URL:https://www.fccminneapolis.org/event/shmc-finance-committee-2/2020-06-15/
LOCATION:SHMC Timothy Meeting Room (Lower Level)
CATEGORIES:SpringHouse Joint Ministries
END:VEVENT
BEGIN:VEVENT
DTSTART;TZID=America/Chicago:20200706T184500
DTEND;TZID=America/Chicago:20200706T203000
DTSTAMP:20260425T205311
CREATED:20191226T184819Z
LAST-MODIFIED:20200702T143327Z
UID:10000461-1594061100-1594067400@www.fccminneapolis.org
SUMMARY:SHMC Building Committee via Zoom
DESCRIPTION:
URL:https://www.fccminneapolis.org/event/shmc-building-committee-2-2020-07-06/
LOCATION:Online
CATEGORIES:SpringHouse Joint Ministries
END:VEVENT
BEGIN:VEVENT
DTSTART;TZID=America/Chicago:20200708T090000
DTEND;TZID=America/Chicago:20200708T103000
DTSTAMP:20260425T205311
CREATED:20200702T143033Z
LAST-MODIFIED:20200702T143033Z
UID:10000205-1594198800-1594204200@www.fccminneapolis.org
SUMMARY:Water Wednesdays (South Minneapolis Day Camp Summer Extension)
DESCRIPTION:Our one week in June of virtual Day Camp was such a success that we are extending it. Introducing Water Wednesday gatherings\, 9-10 am every Wednesday morning from July 8-August 26. This opportunity is geared for elementary aged kids (K-5) but middle schoolers are welcome to tune in as well.\n\nThe theme will continue to be “Water is Life.” We will continue our learning and fun around water. There will be videos\, songs\, art\, prayer flags\, and water fun. Again\, we will have an ASL interpreter for our segments & videos. We will also be learning some ASL.\n\nWe now have our website ready for you to register your kid(s) for Water Wednesdays. If your kids will be participating\, please sign them up!\nRegister here: https://sites.google.com/view/southminneapolisdaycamp2020/home .
URL:https://www.fccminneapolis.org/event/water-wednesdays-south-minneapolis-day-camp-summer-extension/2020-07-08/
LOCATION:Day Camp Zoom Channel
CATEGORIES:Child Ministries,Ecumenical,Online Community Gatherings,SpringHouse Joint Ministries
END:VEVENT
BEGIN:VEVENT
DTSTART;TZID=America/Chicago:20200715T090000
DTEND;TZID=America/Chicago:20200715T103000
DTSTAMP:20260425T205311
CREATED:20200702T143033Z
LAST-MODIFIED:20200702T143033Z
UID:10000206-1594803600-1594809000@www.fccminneapolis.org
SUMMARY:Water Wednesdays (South Minneapolis Day Camp Summer Extension)
DESCRIPTION:Our one week in June of virtual Day Camp was such a success that we are extending it. Introducing Water Wednesday gatherings\, 9-10 am every Wednesday morning from July 8-August 26. This opportunity is geared for elementary aged kids (K-5) but middle schoolers are welcome to tune in as well.\n\nThe theme will continue to be “Water is Life.” We will continue our learning and fun around water. There will be videos\, songs\, art\, prayer flags\, and water fun. Again\, we will have an ASL interpreter for our segments & videos. We will also be learning some ASL.\n\nWe now have our website ready for you to register your kid(s) for Water Wednesdays. If your kids will be participating\, please sign them up!\nRegister here: https://sites.google.com/view/southminneapolisdaycamp2020/home .
URL:https://www.fccminneapolis.org/event/water-wednesdays-south-minneapolis-day-camp-summer-extension/2020-07-15/
LOCATION:Day Camp Zoom Channel
CATEGORIES:Child Ministries,Ecumenical,Online Community Gatherings,SpringHouse Joint Ministries
END:VEVENT
BEGIN:VEVENT
DTSTART;TZID=America/Chicago:20200720T190000
DTEND;TZID=America/Chicago:20200720T210000
DTSTAMP:20260425T205311
CREATED:20191112T162235Z
LAST-MODIFIED:20200719T224804Z
UID:10000324-1595271600-1595278800@www.fccminneapolis.org
SUMMARY:Virtual SHMC Finance Committee
DESCRIPTION:
URL:https://www.fccminneapolis.org/event/shmc-finance-committee-2-2020-07-20/
LOCATION:Online
CATEGORIES:SpringHouse Joint Ministries
END:VEVENT
BEGIN:VEVENT
DTSTART;TZID=America/Chicago:20200722T090000
DTEND;TZID=America/Chicago:20200722T103000
DTSTAMP:20260425T205311
CREATED:20200702T143033Z
LAST-MODIFIED:20200702T143033Z
UID:10000207-1595408400-1595413800@www.fccminneapolis.org
SUMMARY:Water Wednesdays (South Minneapolis Day Camp Summer Extension)
DESCRIPTION:Our one week in June of virtual Day Camp was such a success that we are extending it. Introducing Water Wednesday gatherings\, 9-10 am every Wednesday morning from July 8-August 26. This opportunity is geared for elementary aged kids (K-5) but middle schoolers are welcome to tune in as well.\n\nThe theme will continue to be “Water is Life.” We will continue our learning and fun around water. There will be videos\, songs\, art\, prayer flags\, and water fun. Again\, we will have an ASL interpreter for our segments & videos. We will also be learning some ASL.\n\nWe now have our website ready for you to register your kid(s) for Water Wednesdays. If your kids will be participating\, please sign them up!\nRegister here: https://sites.google.com/view/southminneapolisdaycamp2020/home .
URL:https://www.fccminneapolis.org/event/water-wednesdays-south-minneapolis-day-camp-summer-extension/2020-07-22/
LOCATION:Day Camp Zoom Channel
CATEGORIES:Child Ministries,Ecumenical,Online Community Gatherings,SpringHouse Joint Ministries
END:VEVENT
BEGIN:VEVENT
DTSTART;TZID=America/Chicago:20200726T120000
DTEND;TZID=America/Chicago:20200726T130000
DTSTAMP:20260425T205311
CREATED:20200722T224644Z
LAST-MODIFIED:20200722T224644Z
UID:10000716-1595764800-1595768400@www.fccminneapolis.org
SUMMARY:SpringHouse Board Meeting
DESCRIPTION:
URL:https://www.fccminneapolis.org/event/springhouse-board-meeting/
LOCATION:Online
CATEGORIES:SpringHouse Joint Ministries
END:VEVENT
BEGIN:VEVENT
DTSTART;TZID=America/Chicago:20200729T090000
DTEND;TZID=America/Chicago:20200729T103000
DTSTAMP:20260425T205311
CREATED:20200702T143033Z
LAST-MODIFIED:20200702T143033Z
UID:10000208-1596013200-1596018600@www.fccminneapolis.org
SUMMARY:Water Wednesdays (South Minneapolis Day Camp Summer Extension)
DESCRIPTION:Our one week in June of virtual Day Camp was such a success that we are extending it. Introducing Water Wednesday gatherings\, 9-10 am every Wednesday morning from July 8-August 26. This opportunity is geared for elementary aged kids (K-5) but middle schoolers are welcome to tune in as well.\n\nThe theme will continue to be “Water is Life.” We will continue our learning and fun around water. There will be videos\, songs\, art\, prayer flags\, and water fun. Again\, we will have an ASL interpreter for our segments & videos. We will also be learning some ASL.\n\nWe now have our website ready for you to register your kid(s) for Water Wednesdays. If your kids will be participating\, please sign them up!\nRegister here: https://sites.google.com/view/southminneapolisdaycamp2020/home .
URL:https://www.fccminneapolis.org/event/water-wednesdays-south-minneapolis-day-camp-summer-extension/2020-07-29/
LOCATION:Day Camp Zoom Channel
CATEGORIES:Child Ministries,Ecumenical,Online Community Gatherings,SpringHouse Joint Ministries
END:VEVENT
BEGIN:VEVENT
DTSTART;TZID=America/Chicago:20200803T184500
DTEND;TZID=America/Chicago:20200803T203000
DTSTAMP:20260425T205311
CREATED:20191226T184819Z
LAST-MODIFIED:20200730T143746Z
UID:10000465-1596480300-1596486600@www.fccminneapolis.org
SUMMARY:Virtual SHMC Building Committee
DESCRIPTION:
URL:https://www.fccminneapolis.org/event/shmc-building-committee-2-2020-08-03/
LOCATION:Online
CATEGORIES:SpringHouse Joint Ministries
END:VEVENT
BEGIN:VEVENT
DTSTART;TZID=America/Chicago:20200805T090000
DTEND;TZID=America/Chicago:20200805T103000
DTSTAMP:20260425T205311
CREATED:20200702T143033Z
LAST-MODIFIED:20200702T143033Z
UID:10000209-1596618000-1596623400@www.fccminneapolis.org
SUMMARY:Water Wednesdays (South Minneapolis Day Camp Summer Extension)
DESCRIPTION:Our one week in June of virtual Day Camp was such a success that we are extending it. Introducing Water Wednesday gatherings\, 9-10 am every Wednesday morning from July 8-August 26. This opportunity is geared for elementary aged kids (K-5) but middle schoolers are welcome to tune in as well.\n\nThe theme will continue to be “Water is Life.” We will continue our learning and fun around water. There will be videos\, songs\, art\, prayer flags\, and water fun. Again\, we will have an ASL interpreter for our segments & videos. We will also be learning some ASL.\n\nWe now have our website ready for you to register your kid(s) for Water Wednesdays. If your kids will be participating\, please sign them up!\nRegister here: https://sites.google.com/view/southminneapolisdaycamp2020/home .
URL:https://www.fccminneapolis.org/event/water-wednesdays-south-minneapolis-day-camp-summer-extension/2020-08-05/
LOCATION:Day Camp Zoom Channel
CATEGORIES:Child Ministries,Ecumenical,Online Community Gatherings,SpringHouse Joint Ministries
END:VEVENT
BEGIN:VEVENT
DTSTART;TZID=America/Chicago:20200811T073000
DTEND;TZID=America/Chicago:20200811T090000
DTSTAMP:20260425T205311
CREATED:20200809T223346Z
LAST-MODIFIED:20200809T223504Z
UID:10000765-1597131000-1597136400@www.fccminneapolis.org
SUMMARY:ICOM/SpringHouse Immigration Vigil
DESCRIPTION:SpringHouse Ministry Center is co-sponsoring the next ICOM (Interfaith Coalition on Immigration) vigil at the Bishop Whipple Federal Building on Tuesday\, August11 at 7:30 am. Please wear masks and stand 6 feet apart.  \n\nLimited to 40 participants. Please RSVP here: https://bit.ly/3gtHHzA \nTHEME: FREE THEM ALL \nCosponsored by: Springhouse Ministry Center\nFeatured Guest speaker: Minnesota Freedom Fund Representative \nMinnesota prisons hold approximately 10\,000 inmates\, including hundreds of ICE detainees\, and all of these detainees and inmates are vulnerable to COVID-19 due to overcrowding\, inmate movement and a lack of testing. We also knew that it was just a matter of time before COVID-19 would infect ICE detainees in Minnesota and now two ICE detainees in the Freeborn County jail have tested positive. Among the organizations leading the way on this issue is the Minnesota Freedom Fund. They call on elected officials to release more people and stop new admissions. We are honored that a Minnesota Freedom Fund representative will speak at the August vigil.
URL:https://www.fccminneapolis.org/event/icom-springhouse-immigration-vigil/
LOCATION:Bishop Whipple Federal Building\, 1 Federal Dr\, St. Paul\, MN\, 55111\, United States
CATEGORIES:Ecumenical,Social Justice,SpringHouse Joint Ministries
END:VEVENT
BEGIN:VEVENT
DTSTART;TZID=America/Chicago:20200812T090000
DTEND;TZID=America/Chicago:20200812T103000
DTSTAMP:20260425T205311
CREATED:20200702T143033Z
LAST-MODIFIED:20200702T143033Z
UID:10000210-1597222800-1597228200@www.fccminneapolis.org
SUMMARY:Water Wednesdays (South Minneapolis Day Camp Summer Extension)
DESCRIPTION:Our one week in June of virtual Day Camp was such a success that we are extending it. Introducing Water Wednesday gatherings\, 9-10 am every Wednesday morning from July 8-August 26. This opportunity is geared for elementary aged kids (K-5) but middle schoolers are welcome to tune in as well.\n\nThe theme will continue to be “Water is Life.” We will continue our learning and fun around water. There will be videos\, songs\, art\, prayer flags\, and water fun. Again\, we will have an ASL interpreter for our segments & videos. We will also be learning some ASL.\n\nWe now have our website ready for you to register your kid(s) for Water Wednesdays. If your kids will be participating\, please sign them up!\nRegister here: https://sites.google.com/view/southminneapolisdaycamp2020/home .
URL:https://www.fccminneapolis.org/event/water-wednesdays-south-minneapolis-day-camp-summer-extension/2020-08-12/
LOCATION:Day Camp Zoom Channel
CATEGORIES:Child Ministries,Ecumenical,Online Community Gatherings,SpringHouse Joint Ministries
END:VEVENT
BEGIN:VEVENT
DTSTART;TZID=America/Chicago:20200817T190000
DTEND;TZID=America/Chicago:20200817T210000
DTSTAMP:20260425T205311
CREATED:20191112T162235Z
LAST-MODIFIED:20200730T144125Z
UID:10000325-1597690800-1597698000@www.fccminneapolis.org
SUMMARY:Virtual SHMC Finance Committee
DESCRIPTION:
URL:https://www.fccminneapolis.org/event/shmc-finance-committee-2-2020-08-17/
LOCATION:Online
CATEGORIES:SpringHouse Joint Ministries
END:VEVENT
BEGIN:VEVENT
DTSTART;TZID=America/Chicago:20200819T090000
DTEND;TZID=America/Chicago:20200819T103000
DTSTAMP:20260425T205311
CREATED:20200702T143033Z
LAST-MODIFIED:20200702T143033Z
UID:10000211-1597827600-1597833000@www.fccminneapolis.org
SUMMARY:Water Wednesdays (South Minneapolis Day Camp Summer Extension)
DESCRIPTION:Our one week in June of virtual Day Camp was such a success that we are extending it. Introducing Water Wednesday gatherings\, 9-10 am every Wednesday morning from July 8-August 26. This opportunity is geared for elementary aged kids (K-5) but middle schoolers are welcome to tune in as well.\n\nThe theme will continue to be “Water is Life.” We will continue our learning and fun around water. There will be videos\, songs\, art\, prayer flags\, and water fun. Again\, we will have an ASL interpreter for our segments & videos. We will also be learning some ASL.\n\nWe now have our website ready for you to register your kid(s) for Water Wednesdays. If your kids will be participating\, please sign them up!\nRegister here: https://sites.google.com/view/southminneapolisdaycamp2020/home .
URL:https://www.fccminneapolis.org/event/water-wednesdays-south-minneapolis-day-camp-summer-extension/2020-08-19/
LOCATION:Day Camp Zoom Channel
CATEGORIES:Child Ministries,Ecumenical,Online Community Gatherings,SpringHouse Joint Ministries
END:VEVENT
BEGIN:VEVENT
DTSTART;TZID=America/Chicago:20200826T090000
DTEND;TZID=America/Chicago:20200826T103000
DTSTAMP:20260425T205311
CREATED:20200702T143033Z
LAST-MODIFIED:20200702T143033Z
UID:10000212-1598432400-1598437800@www.fccminneapolis.org
SUMMARY:Water Wednesdays (South Minneapolis Day Camp Summer Extension)
DESCRIPTION:Our one week in June of virtual Day Camp was such a success that we are extending it. Introducing Water Wednesday gatherings\, 9-10 am every Wednesday morning from July 8-August 26. This opportunity is geared for elementary aged kids (K-5) but middle schoolers are welcome to tune in as well.\n\nThe theme will continue to be “Water is Life.” We will continue our learning and fun around water. There will be videos\, songs\, art\, prayer flags\, and water fun. Again\, we will have an ASL interpreter for our segments & videos. We will also be learning some ASL.\n\nWe now have our website ready for you to register your kid(s) for Water Wednesdays. If your kids will be participating\, please sign them up!\nRegister here: https://sites.google.com/view/southminneapolisdaycamp2020/home .
URL:https://www.fccminneapolis.org/event/water-wednesdays-south-minneapolis-day-camp-summer-extension/2020-08-26/
LOCATION:Day Camp Zoom Channel
CATEGORIES:Child Ministries,Ecumenical,Online Community Gatherings,SpringHouse Joint Ministries
END:VEVENT
BEGIN:VEVENT
DTSTART;TZID=America/Chicago:20200909T184500
DTEND;TZID=America/Chicago:20200909T203000
DTSTAMP:20260425T205311
CREATED:20191226T184819Z
LAST-MODIFIED:20200904T153803Z
UID:10000468-1599677100-1599683400@www.fccminneapolis.org
SUMMARY:SHMC Building Committee
DESCRIPTION:
URL:https://www.fccminneapolis.org/event/shmc-building-committee-2-2020-09-07/
LOCATION:SHMC Timothy Meeting Room (Lower Level)
CATEGORIES:SpringHouse Joint Ministries
END:VEVENT
BEGIN:VEVENT
DTSTART;TZID=America/Chicago:20200920T180000
DTEND;TZID=America/Chicago:20200920T193000
DTSTAMP:20260425T205311
CREATED:20191226T185209Z
LAST-MODIFIED:20200919T200631Z
UID:10000491-1600624800-1600630200@www.fccminneapolis.org
SUMMARY:Virtual SpringHouse Youth Group
DESCRIPTION:
URL:https://www.fccminneapolis.org/event/springhouse-youth-group-2-2020-05-17/2020-09-20/
LOCATION:Virtual Zoom Youth Room
CATEGORIES:SpringHouse Joint Ministries,Youth
END:VEVENT
END:VCALENDAR