BEGIN:VCALENDAR
VERSION:2.0
PRODID:-//First Christian Church (Disciples of Christ) - ECPv6.15.13//NONSGML v1.0//EN
CALSCALE:GREGORIAN
METHOD:PUBLISH
X-ORIGINAL-URL:https://www.fccminneapolis.org
X-WR-CALDESC:Events for First Christian Church (Disciples of Christ)
REFRESH-INTERVAL;VALUE=DURATION:PT1H
X-Robots-Tag:noindex
X-PUBLISHED-TTL:PT1H
BEGIN:VTIMEZONE
TZID:America/Chicago
BEGIN:DAYLIGHT
TZOFFSETFROM:-0600
TZOFFSETTO:-0500
TZNAME:CDT
DTSTART:20220313T080000
END:DAYLIGHT
BEGIN:STANDARD
TZOFFSETFROM:-0500
TZOFFSETTO:-0600
TZNAME:CST
DTSTART:20221106T070000
END:STANDARD
BEGIN:DAYLIGHT
TZOFFSETFROM:-0600
TZOFFSETTO:-0500
TZNAME:CDT
DTSTART:20230312T080000
END:DAYLIGHT
BEGIN:STANDARD
TZOFFSETFROM:-0500
TZOFFSETTO:-0600
TZNAME:CST
DTSTART:20231105T070000
END:STANDARD
BEGIN:DAYLIGHT
TZOFFSETFROM:-0600
TZOFFSETTO:-0500
TZNAME:CDT
DTSTART:20240310T080000
END:DAYLIGHT
BEGIN:STANDARD
TZOFFSETFROM:-0500
TZOFFSETTO:-0600
TZNAME:CST
DTSTART:20241103T070000
END:STANDARD
BEGIN:DAYLIGHT
TZOFFSETFROM:-0600
TZOFFSETTO:-0500
TZNAME:CDT
DTSTART:20250309T080000
END:DAYLIGHT
BEGIN:STANDARD
TZOFFSETFROM:-0500
TZOFFSETTO:-0600
TZNAME:CST
DTSTART:20251102T070000
END:STANDARD
BEGIN:DAYLIGHT
TZOFFSETFROM:-0600
TZOFFSETTO:-0500
TZNAME:CDT
DTSTART:20260308T080000
END:DAYLIGHT
BEGIN:STANDARD
TZOFFSETFROM:-0500
TZOFFSETTO:-0600
TZNAME:CST
DTSTART:20261101T070000
END:STANDARD
BEGIN:DAYLIGHT
TZOFFSETFROM:-0600
TZOFFSETTO:-0500
TZNAME:CDT
DTSTART:20270314T080000
END:DAYLIGHT
BEGIN:STANDARD
TZOFFSETFROM:-0500
TZOFFSETTO:-0600
TZNAME:CST
DTSTART:20271107T070000
END:STANDARD
END:VTIMEZONE
BEGIN:VEVENT
DTSTART;TZID=America/Chicago:20260324T130000
DTEND;TZID=America/Chicago:20260324T140000
DTSTAMP:20260425T105602
CREATED:20260127T201219Z
LAST-MODIFIED:20260127T201220Z
UID:10007846-1774357200-1774360800@www.fccminneapolis.org
SUMMARY:Mission & Outreach
DESCRIPTION:
URL:https://www.fccminneapolis.org/event/mission-outreach-4-2-2-2-2/2026-03-24/
LOCATION:FCC Zoom Channel
CATEGORIES:FCC Meetings,Mission & Outreach
END:VEVENT
BEGIN:VEVENT
DTSTART;TZID=America/Chicago:20260224T130000
DTEND;TZID=America/Chicago:20260224T140000
DTSTAMP:20260425T105602
CREATED:20260127T201219Z
LAST-MODIFIED:20260127T201220Z
UID:10007845-1771938000-1771941600@www.fccminneapolis.org
SUMMARY:Mission & Outreach
DESCRIPTION:
URL:https://www.fccminneapolis.org/event/mission-outreach-4-2-2-2-2/2026-02-24/
LOCATION:FCC Zoom Channel
CATEGORIES:FCC Meetings,Mission & Outreach
END:VEVENT
BEGIN:VEVENT
DTSTART;TZID=America/Chicago:20260127T130000
DTEND;TZID=America/Chicago:20260127T140000
DTSTAMP:20260425T105602
CREATED:20260127T201219Z
LAST-MODIFIED:20260127T201220Z
UID:10007264-1769518800-1769522400@www.fccminneapolis.org
SUMMARY:Mission & Outreach
DESCRIPTION:
URL:https://www.fccminneapolis.org/event/mission-outreach-4-2-2-2-2/2026-01-27/
LOCATION:FCC Zoom Channel
CATEGORIES:FCC Meetings,Mission & Outreach
END:VEVENT
BEGIN:VEVENT
DTSTART;TZID=America/Chicago:20251202T130000
DTEND;TZID=America/Chicago:20251202T140000
DTSTAMP:20260425T105602
CREATED:20251106T195955Z
LAST-MODIFIED:20251230T182028Z
UID:10006489-1764680400-1764684000@www.fccminneapolis.org
SUMMARY:Mission & Outreach
DESCRIPTION:
URL:https://www.fccminneapolis.org/event/mission-outreach-4-2-2-2/
LOCATION:FCC Zoom Channel
CATEGORIES:FCC Meetings,Mission & Outreach
END:VEVENT
BEGIN:VEVENT
DTSTART;TZID=America/Chicago:20251104T143000
DTEND;TZID=America/Chicago:20251104T153000
DTSTAMP:20260425T105602
CREATED:20251014T162023Z
LAST-MODIFIED:20251014T162024Z
UID:10005248-1762266600-1762270200@www.fccminneapolis.org
SUMMARY:Mission & Outreach
DESCRIPTION:
URL:https://www.fccminneapolis.org/event/mission-outreach-4-2-2/2025-11-04/
LOCATION:FCC Zoom Channel
CATEGORIES:FCC Meetings,Mission & Outreach
END:VEVENT
BEGIN:VEVENT
DTSTART;TZID=America/Chicago:20251002T120000
DTEND;TZID=America/Chicago:20251002T130000
DTSTAMP:20260425T105602
CREATED:20231212T171041Z
LAST-MODIFIED:20250103T155810Z
UID:10005247-1759406400-1759410000@www.fccminneapolis.org
SUMMARY:Mission & Outreach
DESCRIPTION:
URL:https://www.fccminneapolis.org/event/mission-outreach-4-2/2025-10-02/
LOCATION:FCC Zoom Channel
CATEGORIES:FCC Meetings,Mission & Outreach
END:VEVENT
BEGIN:VEVENT
DTSTART;TZID=America/Chicago:20250904T120000
DTEND;TZID=America/Chicago:20250904T130000
DTSTAMP:20260425T105602
CREATED:20231212T171041Z
LAST-MODIFIED:20250103T155810Z
UID:10005246-1756987200-1756990800@www.fccminneapolis.org
SUMMARY:Mission & Outreach
DESCRIPTION:
URL:https://www.fccminneapolis.org/event/mission-outreach-4-2/2025-09-04/
LOCATION:FCC Zoom Channel
CATEGORIES:FCC Meetings,Mission & Outreach
END:VEVENT
BEGIN:VEVENT
DTSTART;TZID=America/Chicago:20250703T120000
DTEND;TZID=America/Chicago:20250703T130000
DTSTAMP:20260425T105602
CREATED:20231212T171041Z
LAST-MODIFIED:20250103T155810Z
UID:10005244-1751544000-1751547600@www.fccminneapolis.org
SUMMARY:Mission & Outreach
DESCRIPTION:
URL:https://www.fccminneapolis.org/event/mission-outreach-4-2/2025-07-03/
LOCATION:FCC Zoom Channel
CATEGORIES:FCC Meetings,Mission & Outreach
END:VEVENT
BEGIN:VEVENT
DTSTART;TZID=America/Chicago:20250605T120000
DTEND;TZID=America/Chicago:20250605T130000
DTSTAMP:20260425T105602
CREATED:20231212T171041Z
LAST-MODIFIED:20250103T155810Z
UID:10005243-1749124800-1749128400@www.fccminneapolis.org
SUMMARY:Mission & Outreach
DESCRIPTION:
URL:https://www.fccminneapolis.org/event/mission-outreach-4-2/2025-06-05/
LOCATION:FCC Zoom Channel
CATEGORIES:FCC Meetings,Mission & Outreach
END:VEVENT
BEGIN:VEVENT
DTSTART;TZID=America/Chicago:20250501T120000
DTEND;TZID=America/Chicago:20250501T130000
DTSTAMP:20260425T105602
CREATED:20231212T171041Z
LAST-MODIFIED:20250103T155810Z
UID:10005242-1746100800-1746104400@www.fccminneapolis.org
SUMMARY:Mission & Outreach
DESCRIPTION:
URL:https://www.fccminneapolis.org/event/mission-outreach-4-2/2025-05-01/
LOCATION:FCC Zoom Channel
CATEGORIES:FCC Meetings,Mission & Outreach
END:VEVENT
BEGIN:VEVENT
DTSTART;TZID=America/Chicago:20250403T120000
DTEND;TZID=America/Chicago:20250403T130000
DTSTAMP:20260425T105602
CREATED:20231212T171041Z
LAST-MODIFIED:20250103T155810Z
UID:10005241-1743681600-1743685200@www.fccminneapolis.org
SUMMARY:Mission & Outreach
DESCRIPTION:
URL:https://www.fccminneapolis.org/event/mission-outreach-4-2/2025-04-03/
LOCATION:FCC Zoom Channel
CATEGORIES:FCC Meetings,Mission & Outreach
END:VEVENT
BEGIN:VEVENT
DTSTART;TZID=America/Chicago:20250306T120000
DTEND;TZID=America/Chicago:20250306T130000
DTSTAMP:20260425T105602
CREATED:20231212T171041Z
LAST-MODIFIED:20250103T155810Z
UID:10005240-1741262400-1741266000@www.fccminneapolis.org
SUMMARY:Mission & Outreach
DESCRIPTION:
URL:https://www.fccminneapolis.org/event/mission-outreach-4-2/2025-03-06/
LOCATION:FCC Zoom Channel
CATEGORIES:FCC Meetings,Mission & Outreach
END:VEVENT
BEGIN:VEVENT
DTSTART;TZID=America/Chicago:20250206T120000
DTEND;TZID=America/Chicago:20250206T130000
DTSTAMP:20260425T105602
CREATED:20231212T171041Z
LAST-MODIFIED:20250103T155810Z
UID:10005239-1738843200-1738846800@www.fccminneapolis.org
SUMMARY:Mission & Outreach
DESCRIPTION:
URL:https://www.fccminneapolis.org/event/mission-outreach-4-2/2025-02-06/
LOCATION:FCC Zoom Channel
CATEGORIES:FCC Meetings,Mission & Outreach
END:VEVENT
BEGIN:VEVENT
DTSTART;TZID=America/Chicago:20250109T120000
DTEND;TZID=America/Chicago:20250109T130000
DTSTAMP:20260425T105602
CREATED:20231212T171041Z
LAST-MODIFIED:20250103T155810Z
UID:10005386-1736424000-1736427600@www.fccminneapolis.org
SUMMARY:Mission & Outreach
DESCRIPTION:
URL:https://www.fccminneapolis.org/event/mission-outreach-4-2/2025-01-09/
LOCATION:FCC Zoom Channel
CATEGORIES:FCC Meetings,Mission & Outreach
END:VEVENT
BEGIN:VEVENT
DTSTART;TZID=America/Chicago:20241205T120000
DTEND;TZID=America/Chicago:20241205T130000
DTSTAMP:20260425T105602
CREATED:20231212T171041Z
LAST-MODIFIED:20250103T155810Z
UID:10003683-1733400000-1733403600@www.fccminneapolis.org
SUMMARY:Mission & Outreach
DESCRIPTION:
URL:https://www.fccminneapolis.org/event/mission-outreach-4-2/2024-12-05/
LOCATION:FCC Zoom Channel
CATEGORIES:FCC Meetings,Mission & Outreach
END:VEVENT
BEGIN:VEVENT
DTSTART;TZID=America/Chicago:20241107T120000
DTEND;TZID=America/Chicago:20241107T130000
DTSTAMP:20260425T105602
CREATED:20231212T171041Z
LAST-MODIFIED:20250103T155810Z
UID:10003682-1730980800-1730984400@www.fccminneapolis.org
SUMMARY:Mission & Outreach
DESCRIPTION:
URL:https://www.fccminneapolis.org/event/mission-outreach-4-2/2024-11-07/
LOCATION:FCC Zoom Channel
CATEGORIES:FCC Meetings,Mission & Outreach
END:VEVENT
BEGIN:VEVENT
DTSTART;TZID=America/Chicago:20241003T120000
DTEND;TZID=America/Chicago:20241003T130000
DTSTAMP:20260425T105602
CREATED:20231212T171041Z
LAST-MODIFIED:20250103T155810Z
UID:10003681-1727956800-1727960400@www.fccminneapolis.org
SUMMARY:Mission & Outreach
DESCRIPTION:
URL:https://www.fccminneapolis.org/event/mission-outreach-4-2/2024-10-03/
LOCATION:FCC Zoom Channel
CATEGORIES:FCC Meetings,Mission & Outreach
END:VEVENT
BEGIN:VEVENT
DTSTART;TZID=America/Chicago:20240905T120000
DTEND;TZID=America/Chicago:20240905T130000
DTSTAMP:20260425T105602
CREATED:20231212T171041Z
LAST-MODIFIED:20250103T155810Z
UID:10003680-1725537600-1725541200@www.fccminneapolis.org
SUMMARY:Mission & Outreach
DESCRIPTION:
URL:https://www.fccminneapolis.org/event/mission-outreach-4-2/2024-09-05/
LOCATION:FCC Zoom Channel
CATEGORIES:FCC Meetings,Mission & Outreach
END:VEVENT
BEGIN:VEVENT
DTSTART;TZID=America/Chicago:20240801T120000
DTEND;TZID=America/Chicago:20240801T130000
DTSTAMP:20260425T105602
CREATED:20231212T171041Z
LAST-MODIFIED:20250103T155810Z
UID:10003679-1722513600-1722517200@www.fccminneapolis.org
SUMMARY:Mission & Outreach
DESCRIPTION:
URL:https://www.fccminneapolis.org/event/mission-outreach-4-2/2024-08-01/
LOCATION:FCC Zoom Channel
CATEGORIES:FCC Meetings,Mission & Outreach
END:VEVENT
BEGIN:VEVENT
DTSTART;TZID=America/Chicago:20240704T120000
DTEND;TZID=America/Chicago:20240704T130000
DTSTAMP:20260425T105602
CREATED:20231212T171041Z
LAST-MODIFIED:20250103T155810Z
UID:10003678-1720094400-1720098000@www.fccminneapolis.org
SUMMARY:Mission & Outreach
DESCRIPTION:
URL:https://www.fccminneapolis.org/event/mission-outreach-4-2/2024-07-04/
LOCATION:FCC Zoom Channel
CATEGORIES:FCC Meetings,Mission & Outreach
END:VEVENT
BEGIN:VEVENT
DTSTART;TZID=America/Chicago:20240606T120000
DTEND;TZID=America/Chicago:20240606T130000
DTSTAMP:20260425T105602
CREATED:20231212T171041Z
LAST-MODIFIED:20250103T155810Z
UID:10003677-1717675200-1717678800@www.fccminneapolis.org
SUMMARY:Mission & Outreach
DESCRIPTION:
URL:https://www.fccminneapolis.org/event/mission-outreach-4-2/2024-06-06/
LOCATION:FCC Zoom Channel
CATEGORIES:FCC Meetings,Mission & Outreach
END:VEVENT
BEGIN:VEVENT
DTSTART;TZID=America/Chicago:20240502T120000
DTEND;TZID=America/Chicago:20240502T130000
DTSTAMP:20260425T105602
CREATED:20231212T171041Z
LAST-MODIFIED:20250103T155810Z
UID:10003676-1714651200-1714654800@www.fccminneapolis.org
SUMMARY:Mission & Outreach
DESCRIPTION:
URL:https://www.fccminneapolis.org/event/mission-outreach-4-2/2024-05-02/
LOCATION:FCC Zoom Channel
CATEGORIES:FCC Meetings,Mission & Outreach
END:VEVENT
BEGIN:VEVENT
DTSTART;TZID=America/Chicago:20240404T120000
DTEND;TZID=America/Chicago:20240404T130000
DTSTAMP:20260425T105602
CREATED:20231212T171041Z
LAST-MODIFIED:20250103T155810Z
UID:10003675-1712232000-1712235600@www.fccminneapolis.org
SUMMARY:Mission & Outreach
DESCRIPTION:
URL:https://www.fccminneapolis.org/event/mission-outreach-4-2/2024-04-04/
LOCATION:FCC Zoom Channel
CATEGORIES:FCC Meetings,Mission & Outreach
END:VEVENT
BEGIN:VEVENT
DTSTART;TZID=America/Chicago:20240307T120000
DTEND;TZID=America/Chicago:20240307T130000
DTSTAMP:20260425T105602
CREATED:20231212T171041Z
LAST-MODIFIED:20250103T155810Z
UID:10003674-1709812800-1709816400@www.fccminneapolis.org
SUMMARY:Mission & Outreach
DESCRIPTION:
URL:https://www.fccminneapolis.org/event/mission-outreach-4-2/2024-03-07/
LOCATION:FCC Zoom Channel
CATEGORIES:FCC Meetings,Mission & Outreach
END:VEVENT
BEGIN:VEVENT
DTSTART;TZID=America/Chicago:20240201T120000
DTEND;TZID=America/Chicago:20240201T130000
DTSTAMP:20260425T105602
CREATED:20231212T171041Z
LAST-MODIFIED:20250103T155810Z
UID:10003673-1706788800-1706792400@www.fccminneapolis.org
SUMMARY:Mission & Outreach
DESCRIPTION:
URL:https://www.fccminneapolis.org/event/mission-outreach-4-2/2024-02-01/
LOCATION:FCC Zoom Channel
CATEGORIES:FCC Meetings,Mission & Outreach
END:VEVENT
BEGIN:VEVENT
DTSTART;TZID=America/Chicago:20240104T120000
DTEND;TZID=America/Chicago:20240104T130000
DTSTAMP:20260425T105602
CREATED:20231212T171041Z
LAST-MODIFIED:20250103T155810Z
UID:10002459-1704369600-1704373200@www.fccminneapolis.org
SUMMARY:Mission & Outreach
DESCRIPTION:
URL:https://www.fccminneapolis.org/event/mission-outreach-4-2/2024-01-04/
LOCATION:FCC Zoom Channel
CATEGORIES:FCC Meetings,Mission & Outreach
END:VEVENT
BEGIN:VEVENT
DTSTART;TZID=America/Chicago:20231109T120000
DTEND;TZID=America/Chicago:20231109T130000
DTSTAMP:20260425T105602
CREATED:20221215T224048Z
LAST-MODIFIED:20231130T210134Z
UID:10002458-1699531200-1699534800@www.fccminneapolis.org
SUMMARY:Mission & Outreach
DESCRIPTION:
URL:https://www.fccminneapolis.org/event/mission-outreach-4/2023-11-09/
LOCATION:FCC Zoom Channel
CATEGORIES:FCC Meetings,Mission & Outreach
END:VEVENT
BEGIN:VEVENT
DTSTART;TZID=America/Chicago:20231012T120000
DTEND;TZID=America/Chicago:20231012T130000
DTSTAMP:20260425T105602
CREATED:20221215T224048Z
LAST-MODIFIED:20231130T210134Z
UID:10002457-1697112000-1697115600@www.fccminneapolis.org
SUMMARY:Mission & Outreach
DESCRIPTION:
URL:https://www.fccminneapolis.org/event/mission-outreach-4/2023-10-12/
LOCATION:FCC Zoom Channel
CATEGORIES:FCC Meetings,Mission & Outreach
END:VEVENT
BEGIN:VEVENT
DTSTART;TZID=America/Chicago:20230914T120000
DTEND;TZID=America/Chicago:20230914T130000
DTSTAMP:20260425T105602
CREATED:20221215T224048Z
LAST-MODIFIED:20231130T210134Z
UID:10002456-1694692800-1694696400@www.fccminneapolis.org
SUMMARY:Mission & Outreach
DESCRIPTION:
URL:https://www.fccminneapolis.org/event/mission-outreach-4/2023-09-14/
LOCATION:FCC Zoom Channel
CATEGORIES:FCC Meetings,Mission & Outreach
END:VEVENT
BEGIN:VEVENT
DTSTART;TZID=America/Chicago:20230810T120000
DTEND;TZID=America/Chicago:20230810T130000
DTSTAMP:20260425T105602
CREATED:20221215T224048Z
LAST-MODIFIED:20231130T210134Z
UID:10002455-1691668800-1691672400@www.fccminneapolis.org
SUMMARY:Mission & Outreach
DESCRIPTION:
URL:https://www.fccminneapolis.org/event/mission-outreach-4/2023-08-10/
LOCATION:FCC Zoom Channel
CATEGORIES:FCC Meetings,Mission & Outreach
END:VEVENT
END:VCALENDAR