BEGIN:VCALENDAR
VERSION:2.0
PRODID:-//First Christian Church (Disciples of Christ) - ECPv6.15.13//NONSGML v1.0//EN
CALSCALE:GREGORIAN
METHOD:PUBLISH
X-ORIGINAL-URL:https://www.fccminneapolis.org
X-WR-CALDESC:Events for First Christian Church (Disciples of Christ)
REFRESH-INTERVAL;VALUE=DURATION:PT1H
X-Robots-Tag:noindex
X-PUBLISHED-TTL:PT1H
BEGIN:VTIMEZONE
TZID:America/Chicago
BEGIN:DAYLIGHT
TZOFFSETFROM:-0600
TZOFFSETTO:-0500
TZNAME:CDT
DTSTART:20190310T080000
END:DAYLIGHT
BEGIN:STANDARD
TZOFFSETFROM:-0500
TZOFFSETTO:-0600
TZNAME:CST
DTSTART:20191103T070000
END:STANDARD
BEGIN:DAYLIGHT
TZOFFSETFROM:-0600
TZOFFSETTO:-0500
TZNAME:CDT
DTSTART:20200308T080000
END:DAYLIGHT
BEGIN:STANDARD
TZOFFSETFROM:-0500
TZOFFSETTO:-0600
TZNAME:CST
DTSTART:20201101T070000
END:STANDARD
BEGIN:DAYLIGHT
TZOFFSETFROM:-0600
TZOFFSETTO:-0500
TZNAME:CDT
DTSTART:20210314T080000
END:DAYLIGHT
BEGIN:STANDARD
TZOFFSETFROM:-0500
TZOFFSETTO:-0600
TZNAME:CST
DTSTART:20211107T070000
END:STANDARD
BEGIN:DAYLIGHT
TZOFFSETFROM:-0600
TZOFFSETTO:-0500
TZNAME:CDT
DTSTART:20220313T080000
END:DAYLIGHT
BEGIN:STANDARD
TZOFFSETFROM:-0500
TZOFFSETTO:-0600
TZNAME:CST
DTSTART:20221106T070000
END:STANDARD
BEGIN:DAYLIGHT
TZOFFSETFROM:-0600
TZOFFSETTO:-0500
TZNAME:CDT
DTSTART:20230312T080000
END:DAYLIGHT
BEGIN:STANDARD
TZOFFSETFROM:-0500
TZOFFSETTO:-0600
TZNAME:CST
DTSTART:20231105T070000
END:STANDARD
END:VTIMEZONE
BEGIN:VEVENT
DTSTART;TZID=America/Chicago:20200104T093000
DTEND;TZID=America/Chicago:20200104T113000
DTSTAMP:20260425T173307
CREATED:20191226T194755Z
LAST-MODIFIED:20200414T132101Z
UID:10000130-1578130200-1578137400@www.fccminneapolis.org
SUMMARY:Downtown Coalition for Grief Support
DESCRIPTION:
URL:https://www.fccminneapolis.org/event/downtown-coalition-for-grief-support/2020-01-04/
LOCATION:SHMC Lower Level
CATEGORIES:Ecumenical,Grief Support
END:VEVENT
BEGIN:VEVENT
DTSTART;TZID=America/Chicago:20200111T093000
DTEND;TZID=America/Chicago:20200111T113000
DTSTAMP:20260425T173307
CREATED:20191226T194755Z
LAST-MODIFIED:20200414T132101Z
UID:10000131-1578735000-1578742200@www.fccminneapolis.org
SUMMARY:Downtown Coalition for Grief Support
DESCRIPTION:
URL:https://www.fccminneapolis.org/event/downtown-coalition-for-grief-support/2020-01-11/
LOCATION:SHMC Lower Level
CATEGORIES:Ecumenical,Grief Support
END:VEVENT
BEGIN:VEVENT
DTSTART;TZID=America/Chicago:20200118T093000
DTEND;TZID=America/Chicago:20200118T113000
DTSTAMP:20260425T173307
CREATED:20191226T194755Z
LAST-MODIFIED:20200414T132101Z
UID:10000132-1579339800-1579347000@www.fccminneapolis.org
SUMMARY:Downtown Coalition for Grief Support
DESCRIPTION:
URL:https://www.fccminneapolis.org/event/downtown-coalition-for-grief-support/2020-01-18/
LOCATION:SHMC Lower Level
CATEGORIES:Ecumenical,Grief Support
END:VEVENT
BEGIN:VEVENT
DTSTART;TZID=America/Chicago:20200125T093000
DTEND;TZID=America/Chicago:20200125T113000
DTSTAMP:20260425T173307
CREATED:20191226T194755Z
LAST-MODIFIED:20200414T132101Z
UID:10000133-1579944600-1579951800@www.fccminneapolis.org
SUMMARY:Downtown Coalition for Grief Support
DESCRIPTION:
URL:https://www.fccminneapolis.org/event/downtown-coalition-for-grief-support/2020-01-25/
LOCATION:SHMC Lower Level
CATEGORIES:Ecumenical,Grief Support
END:VEVENT
BEGIN:VEVENT
DTSTART;TZID=America/Chicago:20200201T093000
DTEND;TZID=America/Chicago:20200201T113000
DTSTAMP:20260425T173307
CREATED:20191226T194755Z
LAST-MODIFIED:20200414T132101Z
UID:10000134-1580549400-1580556600@www.fccminneapolis.org
SUMMARY:Downtown Coalition for Grief Support
DESCRIPTION:
URL:https://www.fccminneapolis.org/event/downtown-coalition-for-grief-support/2020-02-01/
LOCATION:SHMC Lower Level
CATEGORIES:Ecumenical,Grief Support
END:VEVENT
BEGIN:VEVENT
DTSTART;TZID=America/Chicago:20200208T093000
DTEND;TZID=America/Chicago:20200208T113000
DTSTAMP:20260425T173307
CREATED:20191226T194755Z
LAST-MODIFIED:20200414T132101Z
UID:10000135-1581154200-1581161400@www.fccminneapolis.org
SUMMARY:Downtown Coalition for Grief Support
DESCRIPTION:
URL:https://www.fccminneapolis.org/event/downtown-coalition-for-grief-support/2020-02-08/
LOCATION:SHMC Lower Level
CATEGORIES:Ecumenical,Grief Support
END:VEVENT
BEGIN:VEVENT
DTSTART;TZID=America/Chicago:20200215T093000
DTEND;TZID=America/Chicago:20200215T113000
DTSTAMP:20260425T173307
CREATED:20191226T194755Z
LAST-MODIFIED:20200414T132101Z
UID:10000136-1581759000-1581766200@www.fccminneapolis.org
SUMMARY:Downtown Coalition for Grief Support
DESCRIPTION:
URL:https://www.fccminneapolis.org/event/downtown-coalition-for-grief-support/2020-02-15/
LOCATION:SHMC Lower Level
CATEGORIES:Ecumenical,Grief Support
END:VEVENT
BEGIN:VEVENT
DTSTART;TZID=America/Chicago:20200222T093000
DTEND;TZID=America/Chicago:20200222T113000
DTSTAMP:20260425T173307
CREATED:20191226T194755Z
LAST-MODIFIED:20200414T132101Z
UID:10000137-1582363800-1582371000@www.fccminneapolis.org
SUMMARY:Downtown Coalition for Grief Support
DESCRIPTION:
URL:https://www.fccminneapolis.org/event/downtown-coalition-for-grief-support/2020-02-22/
LOCATION:SHMC Lower Level
CATEGORIES:Ecumenical,Grief Support
END:VEVENT
BEGIN:VEVENT
DTSTART;TZID=America/Chicago:20200229T093000
DTEND;TZID=America/Chicago:20200229T113000
DTSTAMP:20260425T173307
CREATED:20191226T194755Z
LAST-MODIFIED:20200414T132101Z
UID:10000138-1582968600-1582975800@www.fccminneapolis.org
SUMMARY:Downtown Coalition for Grief Support
DESCRIPTION:
URL:https://www.fccminneapolis.org/event/downtown-coalition-for-grief-support/2020-02-29/
LOCATION:SHMC Lower Level
CATEGORIES:Ecumenical,Grief Support
END:VEVENT
BEGIN:VEVENT
DTSTART;TZID=America/Chicago:20200307T093000
DTEND;TZID=America/Chicago:20200307T113000
DTSTAMP:20260425T173307
CREATED:20191226T194755Z
LAST-MODIFIED:20200414T132101Z
UID:10000139-1583573400-1583580600@www.fccminneapolis.org
SUMMARY:Downtown Coalition for Grief Support
DESCRIPTION:
URL:https://www.fccminneapolis.org/event/downtown-coalition-for-grief-support/2020-03-07/
LOCATION:SHMC Lower Level
CATEGORIES:Ecumenical,Grief Support
END:VEVENT
BEGIN:VEVENT
DTSTART;TZID=America/Chicago:20200314T093000
DTEND;TZID=America/Chicago:20200314T113000
DTSTAMP:20260425T173307
CREATED:20191226T194755Z
LAST-MODIFIED:20200414T132101Z
UID:10000140-1584178200-1584185400@www.fccminneapolis.org
SUMMARY:Downtown Coalition for Grief Support
DESCRIPTION:
URL:https://www.fccminneapolis.org/event/downtown-coalition-for-grief-support/2020-03-14/
LOCATION:SHMC Lower Level
CATEGORIES:Ecumenical,Grief Support
END:VEVENT
BEGIN:VEVENT
DTSTART;TZID=America/Chicago:20200425T100000
DTEND;TZID=America/Chicago:20200425T113000
DTSTAMP:20260425T173307
CREATED:20200422T012727Z
LAST-MODIFIED:20200422T012808Z
UID:10000558-1587808800-1587814200@www.fccminneapolis.org
SUMMARY:Virtual Downtown Coalition for Grief Support
DESCRIPTION:
URL:https://www.fccminneapolis.org/event/downtown-coalition-for-grief-support-2/
LOCATION:Online
CATEGORIES:Grief Support
END:VEVENT
BEGIN:VEVENT
DTSTART;TZID=America/Chicago:20210904T093000
DTEND;TZID=America/Chicago:20210904T120000
DTSTAMP:20260425T173307
CREATED:20210901T151308Z
LAST-MODIFIED:20210901T151533Z
UID:10001164-1630747800-1630756800@www.fccminneapolis.org
SUMMARY:Downtown Minneapolis Coalition for Grief Support
DESCRIPTION:Note: Masks will be required\, social distancing will be in effect \n9:30 am – Registration and Refreshments\n10:00 am – Speaker\n10:30-11:30 am – Small Group discussion* \n*At 10:30\, we break into small groups\, each led by an experienced\, trained facilitator:\nSpouse or partner loss\nFamily or friend loss\nChild loss
URL:https://www.fccminneapolis.org/event/downtown-minneapolis-coalition-for-grief-support/2021-09-04/
LOCATION:St. Mark’s Episcopal Cathedral\, 519 Oak Grove St\, Minneapolis\, MN\, 55403\, United States
CATEGORIES:Ecumenical,Grief Support
END:VEVENT
BEGIN:VEVENT
DTSTART;TZID=America/Chicago:20210911T093000
DTEND;TZID=America/Chicago:20210911T120000
DTSTAMP:20260425T173307
CREATED:20210901T151308Z
LAST-MODIFIED:20210901T151533Z
UID:10001165-1631352600-1631361600@www.fccminneapolis.org
SUMMARY:Downtown Minneapolis Coalition for Grief Support
DESCRIPTION:Note: Masks will be required\, social distancing will be in effect \n9:30 am – Registration and Refreshments\n10:00 am – Speaker\n10:30-11:30 am – Small Group discussion* \n*At 10:30\, we break into small groups\, each led by an experienced\, trained facilitator:\nSpouse or partner loss\nFamily or friend loss\nChild loss
URL:https://www.fccminneapolis.org/event/downtown-minneapolis-coalition-for-grief-support/2021-09-11/
LOCATION:St. Mark’s Episcopal Cathedral\, 519 Oak Grove St\, Minneapolis\, MN\, 55403\, United States
CATEGORIES:Ecumenical,Grief Support
END:VEVENT
BEGIN:VEVENT
DTSTART;TZID=America/Chicago:20210918T093000
DTEND;TZID=America/Chicago:20210918T120000
DTSTAMP:20260425T173307
CREATED:20210901T151308Z
LAST-MODIFIED:20210901T151533Z
UID:10001166-1631957400-1631966400@www.fccminneapolis.org
SUMMARY:Downtown Minneapolis Coalition for Grief Support
DESCRIPTION:Note: Masks will be required\, social distancing will be in effect \n9:30 am – Registration and Refreshments\n10:00 am – Speaker\n10:30-11:30 am – Small Group discussion* \n*At 10:30\, we break into small groups\, each led by an experienced\, trained facilitator:\nSpouse or partner loss\nFamily or friend loss\nChild loss
URL:https://www.fccminneapolis.org/event/downtown-minneapolis-coalition-for-grief-support/2021-09-18/
LOCATION:St. Mark’s Episcopal Cathedral\, 519 Oak Grove St\, Minneapolis\, MN\, 55403\, United States
CATEGORIES:Ecumenical,Grief Support
END:VEVENT
BEGIN:VEVENT
DTSTART;TZID=America/Chicago:20210925T093000
DTEND;TZID=America/Chicago:20210925T120000
DTSTAMP:20260425T173307
CREATED:20210901T151308Z
LAST-MODIFIED:20210901T151533Z
UID:10001167-1632562200-1632571200@www.fccminneapolis.org
SUMMARY:Downtown Minneapolis Coalition for Grief Support
DESCRIPTION:Note: Masks will be required\, social distancing will be in effect \n9:30 am – Registration and Refreshments\n10:00 am – Speaker\n10:30-11:30 am – Small Group discussion* \n*At 10:30\, we break into small groups\, each led by an experienced\, trained facilitator:\nSpouse or partner loss\nFamily or friend loss\nChild loss
URL:https://www.fccminneapolis.org/event/downtown-minneapolis-coalition-for-grief-support/2021-09-25/
LOCATION:St. Mark’s Episcopal Cathedral\, 519 Oak Grove St\, Minneapolis\, MN\, 55403\, United States
CATEGORIES:Ecumenical,Grief Support
END:VEVENT
BEGIN:VEVENT
DTSTART;TZID=America/Chicago:20211002T093000
DTEND;TZID=America/Chicago:20211002T120000
DTSTAMP:20260425T173307
CREATED:20210901T151308Z
LAST-MODIFIED:20210901T151533Z
UID:10001168-1633167000-1633176000@www.fccminneapolis.org
SUMMARY:Downtown Minneapolis Coalition for Grief Support
DESCRIPTION:Note: Masks will be required\, social distancing will be in effect \n9:30 am – Registration and Refreshments\n10:00 am – Speaker\n10:30-11:30 am – Small Group discussion* \n*At 10:30\, we break into small groups\, each led by an experienced\, trained facilitator:\nSpouse or partner loss\nFamily or friend loss\nChild loss
URL:https://www.fccminneapolis.org/event/downtown-minneapolis-coalition-for-grief-support/2021-10-02/
LOCATION:St. Mark’s Episcopal Cathedral\, 519 Oak Grove St\, Minneapolis\, MN\, 55403\, United States
CATEGORIES:Ecumenical,Grief Support
END:VEVENT
BEGIN:VEVENT
DTSTART;TZID=America/Chicago:20211009T093000
DTEND;TZID=America/Chicago:20211009T120000
DTSTAMP:20260425T173307
CREATED:20210901T151308Z
LAST-MODIFIED:20210901T151533Z
UID:10001169-1633771800-1633780800@www.fccminneapolis.org
SUMMARY:Downtown Minneapolis Coalition for Grief Support
DESCRIPTION:Note: Masks will be required\, social distancing will be in effect \n9:30 am – Registration and Refreshments\n10:00 am – Speaker\n10:30-11:30 am – Small Group discussion* \n*At 10:30\, we break into small groups\, each led by an experienced\, trained facilitator:\nSpouse or partner loss\nFamily or friend loss\nChild loss
URL:https://www.fccminneapolis.org/event/downtown-minneapolis-coalition-for-grief-support/2021-10-09/
LOCATION:St. Mark’s Episcopal Cathedral\, 519 Oak Grove St\, Minneapolis\, MN\, 55403\, United States
CATEGORIES:Ecumenical,Grief Support
END:VEVENT
BEGIN:VEVENT
DTSTART;TZID=America/Chicago:20211016T093000
DTEND;TZID=America/Chicago:20211016T120000
DTSTAMP:20260425T173307
CREATED:20210901T151308Z
LAST-MODIFIED:20210901T151533Z
UID:10001170-1634376600-1634385600@www.fccminneapolis.org
SUMMARY:Downtown Minneapolis Coalition for Grief Support
DESCRIPTION:Note: Masks will be required\, social distancing will be in effect \n9:30 am – Registration and Refreshments\n10:00 am – Speaker\n10:30-11:30 am – Small Group discussion* \n*At 10:30\, we break into small groups\, each led by an experienced\, trained facilitator:\nSpouse or partner loss\nFamily or friend loss\nChild loss
URL:https://www.fccminneapolis.org/event/downtown-minneapolis-coalition-for-grief-support/2021-10-16/
LOCATION:St. Mark’s Episcopal Cathedral\, 519 Oak Grove St\, Minneapolis\, MN\, 55403\, United States
CATEGORIES:Ecumenical,Grief Support
END:VEVENT
BEGIN:VEVENT
DTSTART;TZID=America/Chicago:20211023T093000
DTEND;TZID=America/Chicago:20211023T120000
DTSTAMP:20260425T173307
CREATED:20210901T151308Z
LAST-MODIFIED:20210901T151533Z
UID:10001171-1634981400-1634990400@www.fccminneapolis.org
SUMMARY:Downtown Minneapolis Coalition for Grief Support
DESCRIPTION:Note: Masks will be required\, social distancing will be in effect \n9:30 am – Registration and Refreshments\n10:00 am – Speaker\n10:30-11:30 am – Small Group discussion* \n*At 10:30\, we break into small groups\, each led by an experienced\, trained facilitator:\nSpouse or partner loss\nFamily or friend loss\nChild loss
URL:https://www.fccminneapolis.org/event/downtown-minneapolis-coalition-for-grief-support/2021-10-23/
LOCATION:St. Mark’s Episcopal Cathedral\, 519 Oak Grove St\, Minneapolis\, MN\, 55403\, United States
CATEGORIES:Ecumenical,Grief Support
END:VEVENT
BEGIN:VEVENT
DTSTART;TZID=America/Chicago:20211030T093000
DTEND;TZID=America/Chicago:20211030T120000
DTSTAMP:20260425T173307
CREATED:20210901T151308Z
LAST-MODIFIED:20210901T151533Z
UID:10001172-1635586200-1635595200@www.fccminneapolis.org
SUMMARY:Downtown Minneapolis Coalition for Grief Support
DESCRIPTION:Note: Masks will be required\, social distancing will be in effect \n9:30 am – Registration and Refreshments\n10:00 am – Speaker\n10:30-11:30 am – Small Group discussion* \n*At 10:30\, we break into small groups\, each led by an experienced\, trained facilitator:\nSpouse or partner loss\nFamily or friend loss\nChild loss
URL:https://www.fccminneapolis.org/event/downtown-minneapolis-coalition-for-grief-support/2021-10-30/
LOCATION:St. Mark’s Episcopal Cathedral\, 519 Oak Grove St\, Minneapolis\, MN\, 55403\, United States
CATEGORIES:Ecumenical,Grief Support
END:VEVENT
BEGIN:VEVENT
DTSTART;TZID=America/Chicago:20211106T093000
DTEND;TZID=America/Chicago:20211106T120000
DTSTAMP:20260425T173307
CREATED:20210901T151308Z
LAST-MODIFIED:20210901T151533Z
UID:10001173-1636191000-1636200000@www.fccminneapolis.org
SUMMARY:Downtown Minneapolis Coalition for Grief Support
DESCRIPTION:Note: Masks will be required\, social distancing will be in effect \n9:30 am – Registration and Refreshments\n10:00 am – Speaker\n10:30-11:30 am – Small Group discussion* \n*At 10:30\, we break into small groups\, each led by an experienced\, trained facilitator:\nSpouse or partner loss\nFamily or friend loss\nChild loss
URL:https://www.fccminneapolis.org/event/downtown-minneapolis-coalition-for-grief-support/2021-11-06/
LOCATION:St. Mark’s Episcopal Cathedral\, 519 Oak Grove St\, Minneapolis\, MN\, 55403\, United States
CATEGORIES:Ecumenical,Grief Support
END:VEVENT
BEGIN:VEVENT
DTSTART;TZID=America/Chicago:20211113T093000
DTEND;TZID=America/Chicago:20211113T120000
DTSTAMP:20260425T173307
CREATED:20210901T151308Z
LAST-MODIFIED:20210901T151533Z
UID:10001174-1636795800-1636804800@www.fccminneapolis.org
SUMMARY:Downtown Minneapolis Coalition for Grief Support
DESCRIPTION:Note: Masks will be required\, social distancing will be in effect \n9:30 am – Registration and Refreshments\n10:00 am – Speaker\n10:30-11:30 am – Small Group discussion* \n*At 10:30\, we break into small groups\, each led by an experienced\, trained facilitator:\nSpouse or partner loss\nFamily or friend loss\nChild loss
URL:https://www.fccminneapolis.org/event/downtown-minneapolis-coalition-for-grief-support/2021-11-13/
LOCATION:St. Mark’s Episcopal Cathedral\, 519 Oak Grove St\, Minneapolis\, MN\, 55403\, United States
CATEGORIES:Ecumenical,Grief Support
END:VEVENT
BEGIN:VEVENT
DTSTART;TZID=America/Chicago:20211120T093000
DTEND;TZID=America/Chicago:20211120T120000
DTSTAMP:20260425T173307
CREATED:20210901T151308Z
LAST-MODIFIED:20210901T151533Z
UID:10001175-1637400600-1637409600@www.fccminneapolis.org
SUMMARY:Downtown Minneapolis Coalition for Grief Support
DESCRIPTION:Note: Masks will be required\, social distancing will be in effect \n9:30 am – Registration and Refreshments\n10:00 am – Speaker\n10:30-11:30 am – Small Group discussion* \n*At 10:30\, we break into small groups\, each led by an experienced\, trained facilitator:\nSpouse or partner loss\nFamily or friend loss\nChild loss
URL:https://www.fccminneapolis.org/event/downtown-minneapolis-coalition-for-grief-support/2021-11-20/
LOCATION:St. Mark’s Episcopal Cathedral\, 519 Oak Grove St\, Minneapolis\, MN\, 55403\, United States
CATEGORIES:Ecumenical,Grief Support
END:VEVENT
BEGIN:VEVENT
DTSTART;TZID=America/Chicago:20211127T093000
DTEND;TZID=America/Chicago:20211127T120000
DTSTAMP:20260425T173307
CREATED:20210901T151308Z
LAST-MODIFIED:20210901T151533Z
UID:10001176-1638005400-1638014400@www.fccminneapolis.org
SUMMARY:Downtown Minneapolis Coalition for Grief Support
DESCRIPTION:Note: Masks will be required\, social distancing will be in effect \n9:30 am – Registration and Refreshments\n10:00 am – Speaker\n10:30-11:30 am – Small Group discussion* \n*At 10:30\, we break into small groups\, each led by an experienced\, trained facilitator:\nSpouse or partner loss\nFamily or friend loss\nChild loss
URL:https://www.fccminneapolis.org/event/downtown-minneapolis-coalition-for-grief-support/2021-11-27/
LOCATION:St. Mark’s Episcopal Cathedral\, 519 Oak Grove St\, Minneapolis\, MN\, 55403\, United States
CATEGORIES:Ecumenical,Grief Support
END:VEVENT
BEGIN:VEVENT
DTSTART;TZID=America/Chicago:20211204T093000
DTEND;TZID=America/Chicago:20211204T120000
DTSTAMP:20260425T173307
CREATED:20210901T151308Z
LAST-MODIFIED:20210901T151533Z
UID:10001177-1638610200-1638619200@www.fccminneapolis.org
SUMMARY:Downtown Minneapolis Coalition for Grief Support
DESCRIPTION:Note: Masks will be required\, social distancing will be in effect \n9:30 am – Registration and Refreshments\n10:00 am – Speaker\n10:30-11:30 am – Small Group discussion* \n*At 10:30\, we break into small groups\, each led by an experienced\, trained facilitator:\nSpouse or partner loss\nFamily or friend loss\nChild loss
URL:https://www.fccminneapolis.org/event/downtown-minneapolis-coalition-for-grief-support/2021-12-04/
LOCATION:St. Mark’s Episcopal Cathedral\, 519 Oak Grove St\, Minneapolis\, MN\, 55403\, United States
CATEGORIES:Ecumenical,Grief Support
END:VEVENT
BEGIN:VEVENT
DTSTART;TZID=America/Chicago:20211211T093000
DTEND;TZID=America/Chicago:20211211T120000
DTSTAMP:20260425T173307
CREATED:20210901T151308Z
LAST-MODIFIED:20210901T151533Z
UID:10001178-1639215000-1639224000@www.fccminneapolis.org
SUMMARY:Downtown Minneapolis Coalition for Grief Support
DESCRIPTION:Note: Masks will be required\, social distancing will be in effect \n9:30 am – Registration and Refreshments\n10:00 am – Speaker\n10:30-11:30 am – Small Group discussion* \n*At 10:30\, we break into small groups\, each led by an experienced\, trained facilitator:\nSpouse or partner loss\nFamily or friend loss\nChild loss
URL:https://www.fccminneapolis.org/event/downtown-minneapolis-coalition-for-grief-support/2021-12-11/
LOCATION:St. Mark’s Episcopal Cathedral\, 519 Oak Grove St\, Minneapolis\, MN\, 55403\, United States
CATEGORIES:Ecumenical,Grief Support
END:VEVENT
BEGIN:VEVENT
DTSTART;TZID=America/Chicago:20220101T100000
DTEND;TZID=America/Chicago:20220101T113000
DTSTAMP:20260425T173307
CREATED:20211229T141225Z
LAST-MODIFIED:20211229T141225Z
UID:10001224-1641031200-1641036600@www.fccminneapolis.org
SUMMARY:Downtown Minneapolis Coalition for Grief Support
DESCRIPTION:Show up any Saturday from 10 to 11:30 am to hear a speaker on various topics of grief and loss.  Then break into small discussion groups to talk to others experiencing a similar loss afterward. \nBeginning on January 1\, 2022\, we will return to Zoom sessions for at least the month of January.   \nWestminster Presbyterian Church will be hosting our sessions.  Use our Contact Form or call 612-317-3454 for more information or to obtain Zoom credentials. http://mplsgriefsupport.com/
URL:https://www.fccminneapolis.org/event/downtown-minneapolis-coalition-for-grief-support-2/2022-01-01/
LOCATION:Online
CATEGORIES:Grief Support
END:VEVENT
BEGIN:VEVENT
DTSTART;TZID=America/Chicago:20220108T100000
DTEND;TZID=America/Chicago:20220108T113000
DTSTAMP:20260425T173307
CREATED:20211229T141225Z
LAST-MODIFIED:20211229T141225Z
UID:10001225-1641636000-1641641400@www.fccminneapolis.org
SUMMARY:Downtown Minneapolis Coalition for Grief Support
DESCRIPTION:Show up any Saturday from 10 to 11:30 am to hear a speaker on various topics of grief and loss.  Then break into small discussion groups to talk to others experiencing a similar loss afterward. \nBeginning on January 1\, 2022\, we will return to Zoom sessions for at least the month of January.   \nWestminster Presbyterian Church will be hosting our sessions.  Use our Contact Form or call 612-317-3454 for more information or to obtain Zoom credentials. http://mplsgriefsupport.com/
URL:https://www.fccminneapolis.org/event/downtown-minneapolis-coalition-for-grief-support-2/2022-01-08/
LOCATION:Online
CATEGORIES:Grief Support
END:VEVENT
BEGIN:VEVENT
DTSTART;TZID=America/Chicago:20220115T100000
DTEND;TZID=America/Chicago:20220115T113000
DTSTAMP:20260425T173307
CREATED:20211229T141225Z
LAST-MODIFIED:20211229T141225Z
UID:10001226-1642240800-1642246200@www.fccminneapolis.org
SUMMARY:Downtown Minneapolis Coalition for Grief Support
DESCRIPTION:Show up any Saturday from 10 to 11:30 am to hear a speaker on various topics of grief and loss.  Then break into small discussion groups to talk to others experiencing a similar loss afterward. \nBeginning on January 1\, 2022\, we will return to Zoom sessions for at least the month of January.   \nWestminster Presbyterian Church will be hosting our sessions.  Use our Contact Form or call 612-317-3454 for more information or to obtain Zoom credentials. http://mplsgriefsupport.com/
URL:https://www.fccminneapolis.org/event/downtown-minneapolis-coalition-for-grief-support-2/2022-01-15/
LOCATION:Online
CATEGORIES:Grief Support
END:VEVENT
END:VCALENDAR