BEGIN:VCALENDAR
VERSION:2.0
PRODID:-//First Christian Church (Disciples of Christ) - ECPv6.15.13//NONSGML v1.0//EN
CALSCALE:GREGORIAN
METHOD:PUBLISH
X-ORIGINAL-URL:https://www.fccminneapolis.org
X-WR-CALDESC:Events for First Christian Church (Disciples of Christ)
REFRESH-INTERVAL;VALUE=DURATION:PT1H
X-Robots-Tag:noindex
X-PUBLISHED-TTL:PT1H
BEGIN:VTIMEZONE
TZID:America/Chicago
BEGIN:DAYLIGHT
TZOFFSETFROM:-0600
TZOFFSETTO:-0500
TZNAME:CDT
DTSTART:20240310T080000
END:DAYLIGHT
BEGIN:STANDARD
TZOFFSETFROM:-0500
TZOFFSETTO:-0600
TZNAME:CST
DTSTART:20241103T070000
END:STANDARD
BEGIN:DAYLIGHT
TZOFFSETFROM:-0600
TZOFFSETTO:-0500
TZNAME:CDT
DTSTART:20250309T080000
END:DAYLIGHT
BEGIN:STANDARD
TZOFFSETFROM:-0500
TZOFFSETTO:-0600
TZNAME:CST
DTSTART:20251102T070000
END:STANDARD
BEGIN:DAYLIGHT
TZOFFSETFROM:-0600
TZOFFSETTO:-0500
TZNAME:CDT
DTSTART:20260308T080000
END:DAYLIGHT
BEGIN:STANDARD
TZOFFSETFROM:-0500
TZOFFSETTO:-0600
TZNAME:CST
DTSTART:20261101T070000
END:STANDARD
END:VTIMEZONE
BEGIN:VEVENT
DTSTART;TZID=America/Chicago:20250717T170000
DTEND;TZID=America/Chicago:20250717T180000
DTSTAMP:20260425T193501
CREATED:20250522T154356Z
LAST-MODIFIED:20250522T154358Z
UID:10005554-1752771600-1752775200@www.fccminneapolis.org
SUMMARY:Happy Hour With Community
DESCRIPTION:https://us02web.zoom.us/j/87366209539 \nMeeting ID: 873 6620 9539
URL:https://www.fccminneapolis.org/event/happy-hour-with-the-pastors-20-2-2/2025-07-17/
LOCATION:FCC Zoom Channel
CATEGORIES:Fellowship,Online Community Gatherings
END:VEVENT
BEGIN:VEVENT
DTSTART;TZID=America/Chicago:20250716T090000
DTEND;TZID=America/Chicago:20250716T100000
DTSTAMP:20260425T193501
CREATED:20250522T154118Z
LAST-MODIFIED:20250731T154844Z
UID:10005177-1752656400-1752660000@www.fccminneapolis.org
SUMMARY:Coffee Hour With Community
DESCRIPTION:https://us02web.zoom.us/j/82648760853 \nMeeting ID:826 4876 0853
URL:https://www.fccminneapolis.org/event/coffee-hour-with-the-pastors-11-2-2-4-2-2-2-3-2-2-3-2-2-2-2-2-2-2-2-2-2-2-2-2/2025-07-16/
LOCATION:FCC Zoom Channel
CATEGORIES:Fellowship,Online Community Gatherings
END:VEVENT
BEGIN:VEVENT
DTSTART;TZID=America/Chicago:20250712T090000
DTEND;TZID=America/Chicago:20250712T100000
DTSTAMP:20260425T193501
CREATED:20250522T154118Z
LAST-MODIFIED:20250731T154844Z
UID:10005176-1752310800-1752314400@www.fccminneapolis.org
SUMMARY:Coffee Hour With Community
DESCRIPTION:https://us02web.zoom.us/j/82648760853 \nMeeting ID:826 4876 0853
URL:https://www.fccminneapolis.org/event/coffee-hour-with-the-pastors-11-2-2-4-2-2-2-3-2-2-3-2-2-2-2-2-2-2-2-2-2-2-2-2/2025-07-12/
LOCATION:FCC Zoom Channel
CATEGORIES:Fellowship,Online Community Gatherings
END:VEVENT
BEGIN:VEVENT
DTSTART;TZID=America/Chicago:20250710T170000
DTEND;TZID=America/Chicago:20250710T180000
DTSTAMP:20260425T193501
CREATED:20250522T154356Z
LAST-MODIFIED:20250522T154358Z
UID:10005553-1752166800-1752170400@www.fccminneapolis.org
SUMMARY:Happy Hour With Community
DESCRIPTION:https://us02web.zoom.us/j/87366209539 \nMeeting ID: 873 6620 9539
URL:https://www.fccminneapolis.org/event/happy-hour-with-the-pastors-20-2-2/2025-07-10/
LOCATION:FCC Zoom Channel
CATEGORIES:Fellowship,Online Community Gatherings
END:VEVENT
BEGIN:VEVENT
DTSTART;TZID=America/Chicago:20250709T090000
DTEND;TZID=America/Chicago:20250709T100000
DTSTAMP:20260425T193501
CREATED:20250522T154118Z
LAST-MODIFIED:20250731T154844Z
UID:10005175-1752051600-1752055200@www.fccminneapolis.org
SUMMARY:Coffee Hour With Community
DESCRIPTION:https://us02web.zoom.us/j/82648760853 \nMeeting ID:826 4876 0853
URL:https://www.fccminneapolis.org/event/coffee-hour-with-the-pastors-11-2-2-4-2-2-2-3-2-2-3-2-2-2-2-2-2-2-2-2-2-2-2-2/2025-07-09/
LOCATION:FCC Zoom Channel
CATEGORIES:Fellowship,Online Community Gatherings
END:VEVENT
BEGIN:VEVENT
DTSTART;TZID=America/Chicago:20250708T170000
DTEND;TZID=America/Chicago:20250708T180000
DTSTAMP:20260425T193501
CREATED:20250522T153607Z
LAST-MODIFIED:20250617T135051Z
UID:10005071-1751994000-1751997600@www.fccminneapolis.org
SUMMARY:Happy Hour With Community
DESCRIPTION:https://us02web.zoom.us/j/87366209539 \nMeeting ID: 873 6620 9539
URL:https://www.fccminneapolis.org/event/happy-hour-with-the-pastors-17-2-3-3-2-2-2-2-3-6-2-2-2-2-2-2-2-2-2-2-2-2-2-2/2025-07-08/
LOCATION:FCC Zoom Channel
CATEGORIES:Fellowship,Online Community Gatherings
END:VEVENT
BEGIN:VEVENT
DTSTART;TZID=America/Chicago:20250705T090000
DTEND;TZID=America/Chicago:20250705T100000
DTSTAMP:20260425T193501
CREATED:20250522T154118Z
LAST-MODIFIED:20250731T154844Z
UID:10005174-1751706000-1751709600@www.fccminneapolis.org
SUMMARY:Coffee Hour With Community
DESCRIPTION:https://us02web.zoom.us/j/82648760853 \nMeeting ID:826 4876 0853
URL:https://www.fccminneapolis.org/event/coffee-hour-with-the-pastors-11-2-2-4-2-2-2-3-2-2-3-2-2-2-2-2-2-2-2-2-2-2-2-2/2025-07-05/
LOCATION:FCC Zoom Channel
CATEGORIES:Fellowship,Online Community Gatherings
END:VEVENT
BEGIN:VEVENT
DTSTART;TZID=America/Chicago:20250703T170000
DTEND;TZID=America/Chicago:20250703T180000
DTSTAMP:20260425T193501
CREATED:20250522T154356Z
LAST-MODIFIED:20250522T154358Z
UID:10005552-1751562000-1751565600@www.fccminneapolis.org
SUMMARY:Happy Hour With Community
DESCRIPTION:https://us02web.zoom.us/j/87366209539 \nMeeting ID: 873 6620 9539
URL:https://www.fccminneapolis.org/event/happy-hour-with-the-pastors-20-2-2/2025-07-03/
LOCATION:FCC Zoom Channel
CATEGORIES:Fellowship,Online Community Gatherings
END:VEVENT
BEGIN:VEVENT
DTSTART;TZID=America/Chicago:20250702T090000
DTEND;TZID=America/Chicago:20250702T100000
DTSTAMP:20260425T193501
CREATED:20250522T154118Z
LAST-MODIFIED:20250731T154844Z
UID:10005173-1751446800-1751450400@www.fccminneapolis.org
SUMMARY:Coffee Hour With Community
DESCRIPTION:https://us02web.zoom.us/j/82648760853 \nMeeting ID:826 4876 0853
URL:https://www.fccminneapolis.org/event/coffee-hour-with-the-pastors-11-2-2-4-2-2-2-3-2-2-3-2-2-2-2-2-2-2-2-2-2-2-2-2/2025-07-02/
LOCATION:FCC Zoom Channel
CATEGORIES:Fellowship,Online Community Gatherings
END:VEVENT
BEGIN:VEVENT
DTSTART;TZID=America/Chicago:20250701T170000
DTEND;TZID=America/Chicago:20250701T180000
DTSTAMP:20260425T193501
CREATED:20250522T153607Z
LAST-MODIFIED:20250617T135051Z
UID:10005069-1751389200-1751392800@www.fccminneapolis.org
SUMMARY:Happy Hour With Community
DESCRIPTION:https://us02web.zoom.us/j/87366209539 \nMeeting ID: 873 6620 9539
URL:https://www.fccminneapolis.org/event/happy-hour-with-the-pastors-17-2-3-3-2-2-2-2-3-6-2-2-2-2-2-2-2-2-2-2-2-2-2-2/2025-07-01/
LOCATION:FCC Zoom Channel
CATEGORIES:Fellowship,Online Community Gatherings
END:VEVENT
BEGIN:VEVENT
DTSTART;TZID=America/Chicago:20250628T090000
DTEND;TZID=America/Chicago:20250628T100000
DTSTAMP:20260425T193501
CREATED:20250522T154118Z
LAST-MODIFIED:20250731T154844Z
UID:10005172-1751101200-1751104800@www.fccminneapolis.org
SUMMARY:Coffee Hour With Community
DESCRIPTION:https://us02web.zoom.us/j/82648760853 \nMeeting ID:826 4876 0853
URL:https://www.fccminneapolis.org/event/coffee-hour-with-the-pastors-11-2-2-4-2-2-2-3-2-2-3-2-2-2-2-2-2-2-2-2-2-2-2-2/2025-06-28/
LOCATION:FCC Zoom Channel
CATEGORIES:Fellowship,Online Community Gatherings
END:VEVENT
BEGIN:VEVENT
DTSTART;TZID=America/Chicago:20250626T170000
DTEND;TZID=America/Chicago:20250626T180000
DTSTAMP:20260425T193501
CREATED:20250522T154356Z
LAST-MODIFIED:20250522T154358Z
UID:10005551-1750957200-1750960800@www.fccminneapolis.org
SUMMARY:Happy Hour With Community
DESCRIPTION:https://us02web.zoom.us/j/87366209539 \nMeeting ID: 873 6620 9539
URL:https://www.fccminneapolis.org/event/happy-hour-with-the-pastors-20-2-2/2025-06-26/
LOCATION:FCC Zoom Channel
CATEGORIES:Fellowship,Online Community Gatherings
END:VEVENT
BEGIN:VEVENT
DTSTART;TZID=America/Chicago:20250625T090000
DTEND;TZID=America/Chicago:20250625T100000
DTSTAMP:20260425T193501
CREATED:20250522T154118Z
LAST-MODIFIED:20250731T154844Z
UID:10005171-1750842000-1750845600@www.fccminneapolis.org
SUMMARY:Coffee Hour With Community
DESCRIPTION:https://us02web.zoom.us/j/82648760853 \nMeeting ID:826 4876 0853
URL:https://www.fccminneapolis.org/event/coffee-hour-with-the-pastors-11-2-2-4-2-2-2-3-2-2-3-2-2-2-2-2-2-2-2-2-2-2-2-2/2025-06-25/
LOCATION:FCC Zoom Channel
CATEGORIES:Fellowship,Online Community Gatherings
END:VEVENT
BEGIN:VEVENT
DTSTART;TZID=America/Chicago:20250624T170000
DTEND;TZID=America/Chicago:20250624T180000
DTSTAMP:20260425T193501
CREATED:20250522T153607Z
LAST-MODIFIED:20250617T135051Z
UID:10005067-1750784400-1750788000@www.fccminneapolis.org
SUMMARY:Happy Hour With Community
DESCRIPTION:https://us02web.zoom.us/j/87366209539 \nMeeting ID: 873 6620 9539
URL:https://www.fccminneapolis.org/event/happy-hour-with-the-pastors-17-2-3-3-2-2-2-2-3-6-2-2-2-2-2-2-2-2-2-2-2-2-2-2/2025-06-24/
LOCATION:FCC Zoom Channel
CATEGORIES:Fellowship,Online Community Gatherings
END:VEVENT
BEGIN:VEVENT
DTSTART;TZID=America/Chicago:20250621T090000
DTEND;TZID=America/Chicago:20250621T100000
DTSTAMP:20260425T193501
CREATED:20250522T154118Z
LAST-MODIFIED:20250731T154844Z
UID:10005170-1750496400-1750500000@www.fccminneapolis.org
SUMMARY:Coffee Hour With Community
DESCRIPTION:https://us02web.zoom.us/j/82648760853 \nMeeting ID:826 4876 0853
URL:https://www.fccminneapolis.org/event/coffee-hour-with-the-pastors-11-2-2-4-2-2-2-3-2-2-3-2-2-2-2-2-2-2-2-2-2-2-2-2/2025-06-21/
LOCATION:FCC Zoom Channel
CATEGORIES:Fellowship,Online Community Gatherings
END:VEVENT
BEGIN:VEVENT
DTSTART;TZID=America/Chicago:20250619T170000
DTEND;TZID=America/Chicago:20250619T180000
DTSTAMP:20260425T193501
CREATED:20250522T154356Z
LAST-MODIFIED:20250522T154358Z
UID:10005550-1750352400-1750356000@www.fccminneapolis.org
SUMMARY:Happy Hour With Community
DESCRIPTION:https://us02web.zoom.us/j/87366209539 \nMeeting ID: 873 6620 9539
URL:https://www.fccminneapolis.org/event/happy-hour-with-the-pastors-20-2-2/2025-06-19/
LOCATION:FCC Zoom Channel
CATEGORIES:Fellowship,Online Community Gatherings
END:VEVENT
BEGIN:VEVENT
DTSTART;TZID=America/Chicago:20250618T090000
DTEND;TZID=America/Chicago:20250618T100000
DTSTAMP:20260425T193501
CREATED:20250522T154118Z
LAST-MODIFIED:20250731T154844Z
UID:10005169-1750237200-1750240800@www.fccminneapolis.org
SUMMARY:Coffee Hour With Community
DESCRIPTION:https://us02web.zoom.us/j/82648760853 \nMeeting ID:826 4876 0853
URL:https://www.fccminneapolis.org/event/coffee-hour-with-the-pastors-11-2-2-4-2-2-2-3-2-2-3-2-2-2-2-2-2-2-2-2-2-2-2-2/2025-06-18/
LOCATION:FCC Zoom Channel
CATEGORIES:Fellowship,Online Community Gatherings
END:VEVENT
BEGIN:VEVENT
DTSTART;TZID=America/Chicago:20250616T190000
DTEND;TZID=America/Chicago:20250616T210000
DTSTAMP:20260425T193501
CREATED:20230622T181400Z
LAST-MODIFIED:20250105T194247Z
UID:10005912-1750100400-1750107600@www.fccminneapolis.org
SUMMARY:FCC and Friends Book Group
DESCRIPTION:2025\nJanuary     Middlemarch by George Eliot  (Jan 20)\nFebruary    Passing by Nella Larsen  (Feb 17)\nMarch      The Seed Keeper by Diane Wilson (Mar 17)\nApril       The Cartographers by Peng Shepherd (Apr 21)\nMay        Tom Lake by Ann Patchett (May 19)
URL:https://www.fccminneapolis.org/event/fcc-and-friends-book-group/2025-06-16/
LOCATION:FCC Zoom Channel
CATEGORIES:Book Group,Fellowship
END:VEVENT
BEGIN:VEVENT
DTSTART;TZID=America/Chicago:20250614T090000
DTEND;TZID=America/Chicago:20250614T100000
DTSTAMP:20260425T193501
CREATED:20250522T154118Z
LAST-MODIFIED:20250731T154844Z
UID:10005168-1749891600-1749895200@www.fccminneapolis.org
SUMMARY:Coffee Hour With Community
DESCRIPTION:https://us02web.zoom.us/j/82648760853 \nMeeting ID:826 4876 0853
URL:https://www.fccminneapolis.org/event/coffee-hour-with-the-pastors-11-2-2-4-2-2-2-3-2-2-3-2-2-2-2-2-2-2-2-2-2-2-2-2/2025-06-14/
LOCATION:FCC Zoom Channel
CATEGORIES:Fellowship,Online Community Gatherings
END:VEVENT
BEGIN:VEVENT
DTSTART;TZID=America/Chicago:20250612T170000
DTEND;TZID=America/Chicago:20250612T180000
DTSTAMP:20260425T193501
CREATED:20250522T154356Z
LAST-MODIFIED:20250522T154358Z
UID:10005549-1749747600-1749751200@www.fccminneapolis.org
SUMMARY:Happy Hour With Community
DESCRIPTION:https://us02web.zoom.us/j/87366209539 \nMeeting ID: 873 6620 9539
URL:https://www.fccminneapolis.org/event/happy-hour-with-the-pastors-20-2-2/2025-06-12/
LOCATION:FCC Zoom Channel
CATEGORIES:Fellowship,Online Community Gatherings
END:VEVENT
BEGIN:VEVENT
DTSTART;TZID=America/Chicago:20250611T090000
DTEND;TZID=America/Chicago:20250611T100000
DTSTAMP:20260425T193501
CREATED:20250522T154118Z
LAST-MODIFIED:20250731T154844Z
UID:10005167-1749632400-1749636000@www.fccminneapolis.org
SUMMARY:Coffee Hour With Community
DESCRIPTION:https://us02web.zoom.us/j/82648760853 \nMeeting ID:826 4876 0853
URL:https://www.fccminneapolis.org/event/coffee-hour-with-the-pastors-11-2-2-4-2-2-2-3-2-2-3-2-2-2-2-2-2-2-2-2-2-2-2-2/2025-06-11/
LOCATION:FCC Zoom Channel
CATEGORIES:Fellowship,Online Community Gatherings
END:VEVENT
BEGIN:VEVENT
DTSTART;TZID=America/Chicago:20250610T170000
DTEND;TZID=America/Chicago:20250610T180000
DTSTAMP:20260425T193501
CREATED:20250522T153607Z
LAST-MODIFIED:20250617T135051Z
UID:10005063-1749574800-1749578400@www.fccminneapolis.org
SUMMARY:Happy Hour With Community
DESCRIPTION:https://us02web.zoom.us/j/87366209539 \nMeeting ID: 873 6620 9539
URL:https://www.fccminneapolis.org/event/happy-hour-with-the-pastors-17-2-3-3-2-2-2-2-3-6-2-2-2-2-2-2-2-2-2-2-2-2-2-2/2025-06-10/
LOCATION:FCC Zoom Channel
CATEGORIES:Fellowship,Online Community Gatherings
END:VEVENT
BEGIN:VEVENT
DTSTART;TZID=America/Chicago:20250605T170000
DTEND;TZID=America/Chicago:20250605T180000
DTSTAMP:20260425T193501
CREATED:20250522T154356Z
LAST-MODIFIED:20250522T154358Z
UID:10005548-1749142800-1749146400@www.fccminneapolis.org
SUMMARY:Happy Hour With Community
DESCRIPTION:https://us02web.zoom.us/j/87366209539 \nMeeting ID: 873 6620 9539
URL:https://www.fccminneapolis.org/event/happy-hour-with-the-pastors-20-2-2/2025-06-05/
LOCATION:FCC Zoom Channel
CATEGORIES:Fellowship,Online Community Gatherings
END:VEVENT
BEGIN:VEVENT
DTSTART;TZID=America/Chicago:20250604T090000
DTEND;TZID=America/Chicago:20250604T100000
DTSTAMP:20260425T193501
CREATED:20250522T154118Z
LAST-MODIFIED:20250731T154844Z
UID:10005165-1749027600-1749031200@www.fccminneapolis.org
SUMMARY:Coffee Hour With Community
DESCRIPTION:https://us02web.zoom.us/j/82648760853 \nMeeting ID:826 4876 0853
URL:https://www.fccminneapolis.org/event/coffee-hour-with-the-pastors-11-2-2-4-2-2-2-3-2-2-3-2-2-2-2-2-2-2-2-2-2-2-2-2/2025-06-04/
LOCATION:FCC Zoom Channel
CATEGORIES:Fellowship,Online Community Gatherings
END:VEVENT
BEGIN:VEVENT
DTSTART;TZID=America/Chicago:20250602T190000
DTEND;TZID=America/Chicago:20250602T200000
DTSTAMP:20260425T193501
CREATED:20230629T160840Z
LAST-MODIFIED:20250705T124437Z
UID:10005011-1748890800-1748894400@www.fccminneapolis.org
SUMMARY:Women's Fellowship
DESCRIPTION:FCC’s Women’s Fellowship meets on Zoom the first Monday of each month. The group is currently reading and discussing the book Learning to Walk in the Dark by Barbara Brown Taylor. The fall meeting dates are September 9 (later due to Labor Day)\, October 7\, November 4\, and December 2. All members and friends of FCC are welcome to join us. Contact Kathy H. for a Zoom link.
URL:https://www.fccminneapolis.org/event/womens-fellowship-8-2-2/2025-06-02/
CATEGORIES:Fellowship,Women's Fellowship
END:VEVENT
BEGIN:VEVENT
DTSTART;TZID=America/Chicago:20250531T090000
DTEND;TZID=America/Chicago:20250531T100000
DTSTAMP:20260425T193501
CREATED:20250522T154118Z
LAST-MODIFIED:20250731T154844Z
UID:10005164-1748682000-1748685600@www.fccminneapolis.org
SUMMARY:Coffee Hour With Community
DESCRIPTION:https://us02web.zoom.us/j/82648760853 \nMeeting ID:826 4876 0853
URL:https://www.fccminneapolis.org/event/coffee-hour-with-the-pastors-11-2-2-4-2-2-2-3-2-2-3-2-2-2-2-2-2-2-2-2-2-2-2-2/2025-05-31/
LOCATION:FCC Zoom Channel
CATEGORIES:Fellowship,Online Community Gatherings
END:VEVENT
BEGIN:VEVENT
DTSTART;TZID=America/Chicago:20250529T170000
DTEND;TZID=America/Chicago:20250529T180000
DTSTAMP:20260425T193501
CREATED:20250522T154356Z
LAST-MODIFIED:20250522T154358Z
UID:10005547-1748538000-1748541600@www.fccminneapolis.org
SUMMARY:Happy Hour With Community
DESCRIPTION:https://us02web.zoom.us/j/87366209539 \nMeeting ID: 873 6620 9539
URL:https://www.fccminneapolis.org/event/happy-hour-with-the-pastors-20-2-2/2025-05-29/
LOCATION:FCC Zoom Channel
CATEGORIES:Fellowship,Online Community Gatherings
END:VEVENT
BEGIN:VEVENT
DTSTART;TZID=America/Chicago:20250528T090000
DTEND;TZID=America/Chicago:20250528T100000
DTSTAMP:20260425T193501
CREATED:20250522T154118Z
LAST-MODIFIED:20250731T154844Z
UID:10005163-1748422800-1748426400@www.fccminneapolis.org
SUMMARY:Coffee Hour With Community
DESCRIPTION:https://us02web.zoom.us/j/82648760853 \nMeeting ID:826 4876 0853
URL:https://www.fccminneapolis.org/event/coffee-hour-with-the-pastors-11-2-2-4-2-2-2-3-2-2-3-2-2-2-2-2-2-2-2-2-2-2-2-2/2025-05-28/
LOCATION:FCC Zoom Channel
CATEGORIES:Fellowship,Online Community Gatherings
END:VEVENT
BEGIN:VEVENT
DTSTART;TZID=America/Chicago:20250527T170000
DTEND;TZID=America/Chicago:20250527T180000
DTSTAMP:20260425T193501
CREATED:20250522T153607Z
LAST-MODIFIED:20250617T135051Z
UID:10005059-1748365200-1748368800@www.fccminneapolis.org
SUMMARY:Happy Hour With Community
DESCRIPTION:https://us02web.zoom.us/j/87366209539 \nMeeting ID: 873 6620 9539
URL:https://www.fccminneapolis.org/event/happy-hour-with-the-pastors-17-2-3-3-2-2-2-2-3-6-2-2-2-2-2-2-2-2-2-2-2-2-2-2/2025-05-27/
LOCATION:FCC Zoom Channel
CATEGORIES:Fellowship,Online Community Gatherings
END:VEVENT
BEGIN:VEVENT
DTSTART;TZID=America/Chicago:20250522T170000
DTEND;TZID=America/Chicago:20250522T180000
DTSTAMP:20260425T193501
CREATED:20250522T160502Z
LAST-MODIFIED:20250522T160509Z
UID:10005546-1747933200-1747936800@www.fccminneapolis.org
SUMMARY:Happy Hour With Community
DESCRIPTION:https://us02web.zoom.us/j/87366209539 \nMeeting ID: 873 6620 9539
URL:https://www.fccminneapolis.org/event/happy-hour-with-the-pastors-20-2-3/
LOCATION:FCC Zoom Channel
CATEGORIES:Fellowship,Online Community Gatherings
END:VEVENT
END:VCALENDAR