BEGIN:VCALENDAR
VERSION:2.0
PRODID:-//First Christian Church (Disciples of Christ) - ECPv6.15.13//NONSGML v1.0//EN
CALSCALE:GREGORIAN
METHOD:PUBLISH
X-ORIGINAL-URL:https://www.fccminneapolis.org
X-WR-CALDESC:Events for First Christian Church (Disciples of Christ)
REFRESH-INTERVAL;VALUE=DURATION:PT1H
X-Robots-Tag:noindex
X-PUBLISHED-TTL:PT1H
BEGIN:VTIMEZONE
TZID:America/Chicago
BEGIN:DAYLIGHT
TZOFFSETFROM:-0600
TZOFFSETTO:-0500
TZNAME:CDT
DTSTART:20190310T080000
END:DAYLIGHT
BEGIN:STANDARD
TZOFFSETFROM:-0500
TZOFFSETTO:-0600
TZNAME:CST
DTSTART:20191103T070000
END:STANDARD
BEGIN:DAYLIGHT
TZOFFSETFROM:-0600
TZOFFSETTO:-0500
TZNAME:CDT
DTSTART:20200308T080000
END:DAYLIGHT
BEGIN:STANDARD
TZOFFSETFROM:-0500
TZOFFSETTO:-0600
TZNAME:CST
DTSTART:20201101T070000
END:STANDARD
BEGIN:DAYLIGHT
TZOFFSETFROM:-0600
TZOFFSETTO:-0500
TZNAME:CDT
DTSTART:20210314T080000
END:DAYLIGHT
BEGIN:STANDARD
TZOFFSETFROM:-0500
TZOFFSETTO:-0600
TZNAME:CST
DTSTART:20211107T070000
END:STANDARD
END:VTIMEZONE
BEGIN:VEVENT
DTSTART;TZID=America/Chicago:20200611T170000
DTEND;TZID=America/Chicago:20200611T180000
DTSTAMP:20260425T215730
CREATED:20200609T204411Z
LAST-MODIFIED:20200609T204411Z
UID:10000638-1591894800-1591898400@www.fccminneapolis.org
SUMMARY:Virtual Happy Hour With The Pastors
DESCRIPTION:To call in: (312) 626-6799\, Meeting ID: 832 7834 8659
URL:https://www.fccminneapolis.org/event/virtual-happy-hour-with-the-pastors-9/2020-06-11/
LOCATION:FCC Zoom Channel
CATEGORIES:Fellowship,Online Community Gatherings
END:VEVENT
BEGIN:VEVENT
DTSTART;TZID=America/Chicago:20200612T090000
DTEND;TZID=America/Chicago:20200612T100000
DTSTAMP:20260425T215730
CREATED:20200605T171945Z
LAST-MODIFIED:20200605T171945Z
UID:10000634-1591952400-1591956000@www.fccminneapolis.org
SUMMARY:Virtual Coffee With The Pastors
DESCRIPTION:To dial in: (312) 626-6799\, Meeting ID: 822 5917 1742
URL:https://www.fccminneapolis.org/event/virtual-coffee-with-the-pastors-9/2020-06-12/
LOCATION:FCC Zoom Channel
CATEGORIES:Fellowship,Online Community Gatherings
END:VEVENT
BEGIN:VEVENT
DTSTART;TZID=America/Chicago:20200617T090000
DTEND;TZID=America/Chicago:20200617T100000
DTSTAMP:20260425T215730
CREATED:20200617T115432Z
LAST-MODIFIED:20200617T115432Z
UID:10000648-1592384400-1592388000@www.fccminneapolis.org
SUMMARY:Virtual Coffee With The Pastors
DESCRIPTION:To call in: (312) 626-6799\, Meeting ID: 895 2403 6775
URL:https://www.fccminneapolis.org/event/virtual-coffee-with-the-pastors-8/2020-06-17/
LOCATION:FCC Zoom Channel
CATEGORIES:Fellowship,Online Community Gatherings
END:VEVENT
BEGIN:VEVENT
DTSTART;TZID=America/Chicago:20200618T170000
DTEND;TZID=America/Chicago:20200618T180000
DTSTAMP:20260425T215730
CREATED:20200617T115516Z
LAST-MODIFIED:20200617T115516Z
UID:10000651-1592499600-1592503200@www.fccminneapolis.org
SUMMARY:Virtual Happy Hour With The Pastors
DESCRIPTION:
URL:https://www.fccminneapolis.org/event/virtual-happy-hour-with-the-pastors-10/
LOCATION:FCC Zoom Channel
CATEGORIES:Fellowship,Online Community Gatherings
END:VEVENT
BEGIN:VEVENT
DTSTART;TZID=America/Chicago:20200619T090000
DTEND;TZID=America/Chicago:20200619T100000
DTSTAMP:20260425T215730
CREATED:20200617T115432Z
LAST-MODIFIED:20200617T115432Z
UID:10000649-1592557200-1592560800@www.fccminneapolis.org
SUMMARY:Virtual Coffee With The Pastors
DESCRIPTION:To call in: (312) 626-6799\, Meeting ID: 895 2403 6775
URL:https://www.fccminneapolis.org/event/virtual-coffee-with-the-pastors-8/2020-06-19/
LOCATION:FCC Zoom Channel
CATEGORIES:Fellowship,Online Community Gatherings
END:VEVENT
BEGIN:VEVENT
DTSTART;TZID=America/Chicago:20200622T090000
DTEND;TZID=America/Chicago:20200622T100000
DTSTAMP:20260425T215730
CREATED:20200621T220626Z
LAST-MODIFIED:20200621T220626Z
UID:10000660-1592816400-1592820000@www.fccminneapolis.org
SUMMARY:Virtual Coffee With The Pastors
DESCRIPTION:to call in: (312) 626-6799\, Meeting ID: 834 3942 3825
URL:https://www.fccminneapolis.org/event/virtual-coffee-with-the-pastors-10/2020-06-22/
LOCATION:FCC Zoom Channel
CATEGORIES:Fellowship,Online Community Gatherings
END:VEVENT
BEGIN:VEVENT
DTSTART;TZID=America/Chicago:20200623T170000
DTEND;TZID=America/Chicago:20200623T180000
DTSTAMP:20260425T215730
CREATED:20200621T220938Z
LAST-MODIFIED:20200621T220938Z
UID:10000663-1592931600-1592935200@www.fccminneapolis.org
SUMMARY:Virtual Happy Hour With The Pastors
DESCRIPTION:to dial in: (312) 636-6799\, Meeting ID: 829 7583 0773
URL:https://www.fccminneapolis.org/event/virtual-happy-hour-with-the-pastors-11/2020-06-23/
LOCATION:FCC Zoom Channel
CATEGORIES:Fellowship,Online Community Gatherings
END:VEVENT
BEGIN:VEVENT
DTSTART;TZID=America/Chicago:20200624T090000
DTEND;TZID=America/Chicago:20200624T100000
DTSTAMP:20260425T215730
CREATED:20200621T220626Z
LAST-MODIFIED:20200621T220626Z
UID:10000661-1592989200-1592992800@www.fccminneapolis.org
SUMMARY:Virtual Coffee With The Pastors
DESCRIPTION:to call in: (312) 626-6799\, Meeting ID: 834 3942 3825
URL:https://www.fccminneapolis.org/event/virtual-coffee-with-the-pastors-10/2020-06-24/
LOCATION:FCC Zoom Channel
CATEGORIES:Fellowship,Online Community Gatherings
END:VEVENT
BEGIN:VEVENT
DTSTART;TZID=America/Chicago:20200625T170000
DTEND;TZID=America/Chicago:20200625T180000
DTSTAMP:20260425T215730
CREATED:20200621T220938Z
LAST-MODIFIED:20200621T220938Z
UID:10000664-1593104400-1593108000@www.fccminneapolis.org
SUMMARY:Virtual Happy Hour With The Pastors
DESCRIPTION:to dial in: (312) 636-6799\, Meeting ID: 829 7583 0773
URL:https://www.fccminneapolis.org/event/virtual-happy-hour-with-the-pastors-11/2020-06-25/
LOCATION:FCC Zoom Channel
CATEGORIES:Fellowship,Online Community Gatherings
END:VEVENT
BEGIN:VEVENT
DTSTART;TZID=America/Chicago:20200626T090000
DTEND;TZID=America/Chicago:20200626T100000
DTSTAMP:20260425T215730
CREATED:20200621T220626Z
LAST-MODIFIED:20200621T220626Z
UID:10000662-1593162000-1593165600@www.fccminneapolis.org
SUMMARY:Virtual Coffee With The Pastors
DESCRIPTION:to call in: (312) 626-6799\, Meeting ID: 834 3942 3825
URL:https://www.fccminneapolis.org/event/virtual-coffee-with-the-pastors-10/2020-06-26/
LOCATION:FCC Zoom Channel
CATEGORIES:Fellowship,Online Community Gatherings
END:VEVENT
BEGIN:VEVENT
DTSTART;TZID=America/Chicago:20200627T090000
DTEND;TZID=America/Chicago:20200627T100000
DTSTAMP:20260425T215730
CREATED:20200627T135358Z
LAST-MODIFIED:20200627T135358Z
UID:10000666-1593248400-1593252000@www.fccminneapolis.org
SUMMARY:Virtual Coffee With The Pastors
DESCRIPTION:To dial in\, (312) 626-6799\, Meeting ID: 876 3226 2267
URL:https://www.fccminneapolis.org/event/virtual-coffee-with-the-pastors-12/2020-06-27/
LOCATION:FCC Zoom Channel
CATEGORIES:Fellowship,Online Community Gatherings
END:VEVENT
BEGIN:VEVENT
DTSTART;TZID=America/Chicago:20200627T100000
DTEND;TZID=America/Chicago:20200627T113000
DTSTAMP:20260425T215730
CREATED:20200627T135543Z
LAST-MODIFIED:20200627T135543Z
UID:10000671-1593252000-1593257400@www.fccminneapolis.org
SUMMARY:Online Game Time - "Yahtzee"
DESCRIPTION:To dial in\, (312) 6262-6799\, Meeting ID: 821 8501 0413
URL:https://www.fccminneapolis.org/event/online-game-time-yahtzee/
LOCATION:FCC Zoom Channel
CATEGORIES:Fellowship,Online Community Gatherings
END:VEVENT
BEGIN:VEVENT
DTSTART;TZID=America/Chicago:20200629T090000
DTEND;TZID=America/Chicago:20200629T100000
DTSTAMP:20260425T215730
CREATED:20200627T135358Z
LAST-MODIFIED:20200627T135358Z
UID:10000667-1593421200-1593424800@www.fccminneapolis.org
SUMMARY:Virtual Coffee With The Pastors
DESCRIPTION:To dial in\, (312) 626-6799\, Meeting ID: 876 3226 2267
URL:https://www.fccminneapolis.org/event/virtual-coffee-with-the-pastors-12/2020-06-29/
LOCATION:FCC Zoom Channel
CATEGORIES:Fellowship,Online Community Gatherings
END:VEVENT
BEGIN:VEVENT
DTSTART;TZID=America/Chicago:20200630T170000
DTEND;TZID=America/Chicago:20200630T180000
DTSTAMP:20260425T215730
CREATED:20200702T141650Z
LAST-MODIFIED:20200702T141650Z
UID:10000683-1593536400-1593540000@www.fccminneapolis.org
SUMMARY:Virtual Happy Hour With The Pastors
DESCRIPTION:To dial in: (312) 626-6799\, Meeting ID: 817 8641 7560.
URL:https://www.fccminneapolis.org/event/virtual-happy-hour-with-the-pastors-12/2020-06-30/
LOCATION:FCC Zoom Channel
CATEGORIES:Fellowship,Online Community Gatherings
END:VEVENT
BEGIN:VEVENT
DTSTART;TZID=America/Chicago:20200701T090000
DTEND;TZID=America/Chicago:20200701T100000
DTSTAMP:20260425T215730
CREATED:20200627T135358Z
LAST-MODIFIED:20200627T135358Z
UID:10000668-1593594000-1593597600@www.fccminneapolis.org
SUMMARY:Virtual Coffee With The Pastors
DESCRIPTION:To dial in\, (312) 626-6799\, Meeting ID: 876 3226 2267
URL:https://www.fccminneapolis.org/event/virtual-coffee-with-the-pastors-12/2020-07-01/
LOCATION:FCC Zoom Channel
CATEGORIES:Fellowship,Online Community Gatherings
END:VEVENT
BEGIN:VEVENT
DTSTART;TZID=America/Chicago:20200702T170000
DTEND;TZID=America/Chicago:20200702T180000
DTSTAMP:20260425T215730
CREATED:20200702T141650Z
LAST-MODIFIED:20200702T141650Z
UID:10000684-1593709200-1593712800@www.fccminneapolis.org
SUMMARY:Virtual Happy Hour With The Pastors
DESCRIPTION:To dial in: (312) 626-6799\, Meeting ID: 817 8641 7560.
URL:https://www.fccminneapolis.org/event/virtual-happy-hour-with-the-pastors-12/2020-07-02/
LOCATION:FCC Zoom Channel
CATEGORIES:Fellowship,Online Community Gatherings
END:VEVENT
BEGIN:VEVENT
DTSTART;TZID=America/Chicago:20200703T090000
DTEND;TZID=America/Chicago:20200703T100000
DTSTAMP:20260425T215730
CREATED:20200627T135358Z
LAST-MODIFIED:20200627T135358Z
UID:10000669-1593766800-1593770400@www.fccminneapolis.org
SUMMARY:Virtual Coffee With The Pastors
DESCRIPTION:To dial in\, (312) 626-6799\, Meeting ID: 876 3226 2267
URL:https://www.fccminneapolis.org/event/virtual-coffee-with-the-pastors-12/2020-07-03/
LOCATION:FCC Zoom Channel
CATEGORIES:Fellowship,Online Community Gatherings
END:VEVENT
BEGIN:VEVENT
DTSTART;TZID=America/Chicago:20200706T090000
DTEND;TZID=America/Chicago:20200706T100000
DTSTAMP:20260425T215730
CREATED:20200705T232031Z
LAST-MODIFIED:20200705T232049Z
UID:10000218-1594026000-1594029600@www.fccminneapolis.org
SUMMARY:Virtual Coffee With The Pastors
DESCRIPTION:To dial in: (312) 626-6799\, https://us02web.zoom.us/j/83982107146
URL:https://www.fccminneapolis.org/event/virtual-coffee-with-the-pastors-11/2020-07-06/
LOCATION:FCC Zoom Channel
CATEGORIES:Fellowship,Online Community Gatherings
END:VEVENT
BEGIN:VEVENT
DTSTART;TZID=America/Chicago:20200706T200000
DTEND;TZID=America/Chicago:20200706T220000
DTSTAMP:20260425T215730
CREATED:20200702T143140Z
LAST-MODIFIED:20200705T232729Z
UID:10000214-1594065600-1594072800@www.fccminneapolis.org
SUMMARY:Online Game Night: Trivia
DESCRIPTION:To call in: (312) 636-6799\, Meeting ID: 874 4147 5754
URL:https://www.fccminneapolis.org/event/online-game-night-trivia/
LOCATION:FCC Zoom Channel
CATEGORIES:Fellowship,Online Community Gatherings
END:VEVENT
BEGIN:VEVENT
DTSTART;TZID=America/Chicago:20200707T170000
DTEND;TZID=America/Chicago:20200707T180000
DTSTAMP:20260425T215730
CREATED:20200705T232410Z
LAST-MODIFIED:20200705T232410Z
UID:10000221-1594141200-1594144800@www.fccminneapolis.org
SUMMARY:Virtual Happy Hour With The Pastors
DESCRIPTION:To dial in: (312) 626-6799\, Meeting ID: 824 4262 6022
URL:https://www.fccminneapolis.org/event/virtual-happy-hour-with-the-pastors-13/2020-07-07/
LOCATION:FCC Zoom Channel
CATEGORIES:Fellowship,Online Community Gatherings
END:VEVENT
BEGIN:VEVENT
DTSTART;TZID=America/Chicago:20200708T090000
DTEND;TZID=America/Chicago:20200708T100000
DTSTAMP:20260425T215730
CREATED:20200705T232031Z
LAST-MODIFIED:20200705T232049Z
UID:10000219-1594198800-1594202400@www.fccminneapolis.org
SUMMARY:Virtual Coffee With The Pastors
DESCRIPTION:To dial in: (312) 626-6799\, https://us02web.zoom.us/j/83982107146
URL:https://www.fccminneapolis.org/event/virtual-coffee-with-the-pastors-11/2020-07-08/
LOCATION:FCC Zoom Channel
CATEGORIES:Fellowship,Online Community Gatherings
END:VEVENT
BEGIN:VEVENT
DTSTART;TZID=America/Chicago:20200709T170000
DTEND;TZID=America/Chicago:20200709T180000
DTSTAMP:20260425T215730
CREATED:20200705T232410Z
LAST-MODIFIED:20200705T232410Z
UID:10000222-1594314000-1594317600@www.fccminneapolis.org
SUMMARY:Virtual Happy Hour With The Pastors
DESCRIPTION:To dial in: (312) 626-6799\, Meeting ID: 824 4262 6022
URL:https://www.fccminneapolis.org/event/virtual-happy-hour-with-the-pastors-13/2020-07-09/
LOCATION:FCC Zoom Channel
CATEGORIES:Fellowship,Online Community Gatherings
END:VEVENT
BEGIN:VEVENT
DTSTART;TZID=America/Chicago:20200710T090000
DTEND;TZID=America/Chicago:20200710T100000
DTSTAMP:20260425T215730
CREATED:20200705T232031Z
LAST-MODIFIED:20200705T232049Z
UID:10000220-1594371600-1594375200@www.fccminneapolis.org
SUMMARY:Virtual Coffee With The Pastors
DESCRIPTION:To dial in: (312) 626-6799\, https://us02web.zoom.us/j/83982107146
URL:https://www.fccminneapolis.org/event/virtual-coffee-with-the-pastors-11/2020-07-10/
LOCATION:FCC Zoom Channel
CATEGORIES:Fellowship,Online Community Gatherings
END:VEVENT
BEGIN:VEVENT
DTSTART;TZID=America/Chicago:20200711T090000
DTEND;TZID=America/Chicago:20200711T100000
DTSTAMP:20260425T215730
CREATED:20200711T184021Z
LAST-MODIFIED:20200711T184106Z
UID:10000229-1594458000-1594461600@www.fccminneapolis.org
SUMMARY:Virtual Coffee With The Pastors
DESCRIPTION:To dial in: (312) 626-6799\, Meeting ID: 832 1512 1467
URL:https://www.fccminneapolis.org/event/virtual-coffee-with-the-pastors-13/2020-07-11/
LOCATION:FCC Zoom Channel
CATEGORIES:Fellowship,Online Community Gatherings
END:VEVENT
BEGIN:VEVENT
DTSTART;TZID=America/Chicago:20200711T190000
DTEND;TZID=America/Chicago:20200711T203000
DTSTAMP:20260425T215730
CREATED:20200702T143703Z
LAST-MODIFIED:20200702T143703Z
UID:10000216-1594494000-1594499400@www.fccminneapolis.org
SUMMARY:Virtual Talent Show
DESCRIPTION:
URL:https://www.fccminneapolis.org/event/virtual-talent-show/
LOCATION:FCC Zoom Channel
CATEGORIES:Fellowship,Online Community Gatherings
END:VEVENT
BEGIN:VEVENT
DTSTART;TZID=America/Chicago:20200713T090000
DTEND;TZID=America/Chicago:20200713T100000
DTSTAMP:20260425T215730
CREATED:20200711T184021Z
LAST-MODIFIED:20200711T184106Z
UID:10000230-1594630800-1594634400@www.fccminneapolis.org
SUMMARY:Virtual Coffee With The Pastors
DESCRIPTION:To dial in: (312) 626-6799\, Meeting ID: 832 1512 1467
URL:https://www.fccminneapolis.org/event/virtual-coffee-with-the-pastors-13/2020-07-13/
LOCATION:FCC Zoom Channel
CATEGORIES:Fellowship,Online Community Gatherings
END:VEVENT
BEGIN:VEVENT
DTSTART;TZID=America/Chicago:20200714T170000
DTEND;TZID=America/Chicago:20200714T180000
DTSTAMP:20260425T215730
CREATED:20200714T152907Z
LAST-MODIFIED:20200714T152907Z
UID:10000234-1594746000-1594749600@www.fccminneapolis.org
SUMMARY:Virtual Happy Hour With The Pastors
DESCRIPTION:To dial in: (312) 626-6799\, Meeting ID: 867 8688 4213
URL:https://www.fccminneapolis.org/event/virtual-happy-hour-with-the-pastors-14/2020-07-14/
LOCATION:FCC Zoom Channel
CATEGORIES:Fellowship,Online Community Gatherings
END:VEVENT
BEGIN:VEVENT
DTSTART;TZID=America/Chicago:20200715T090000
DTEND;TZID=America/Chicago:20200715T100000
DTSTAMP:20260425T215730
CREATED:20200711T184021Z
LAST-MODIFIED:20200711T184106Z
UID:10000231-1594803600-1594807200@www.fccminneapolis.org
SUMMARY:Virtual Coffee With The Pastors
DESCRIPTION:To dial in: (312) 626-6799\, Meeting ID: 832 1512 1467
URL:https://www.fccminneapolis.org/event/virtual-coffee-with-the-pastors-13/2020-07-15/
LOCATION:FCC Zoom Channel
CATEGORIES:Fellowship,Online Community Gatherings
END:VEVENT
BEGIN:VEVENT
DTSTART;TZID=America/Chicago:20200715T180000
DTEND;TZID=America/Chicago:20200715T193000
DTSTAMP:20260425T215730
CREATED:20200715T151151Z
LAST-MODIFIED:20200715T151151Z
UID:10000238-1594836000-1594841400@www.fccminneapolis.org
SUMMARY:SpringHouse Virtual Wednesday Youth Gathering via Zoom
DESCRIPTION:
URL:https://www.fccminneapolis.org/event/springhouse-virtual-wednesday-youth-gathering-via-zoom/2020-07-15/
LOCATION:Virtual Zoom Youth Room
CATEGORIES:Fellowship,Online Community Gatherings,Youth
END:VEVENT
BEGIN:VEVENT
DTSTART;TZID=America/Chicago:20200716T170000
DTEND;TZID=America/Chicago:20200716T180000
DTSTAMP:20260425T215730
CREATED:20200714T152907Z
LAST-MODIFIED:20200714T152907Z
UID:10000235-1594918800-1594922400@www.fccminneapolis.org
SUMMARY:Virtual Happy Hour With The Pastors
DESCRIPTION:To dial in: (312) 626-6799\, Meeting ID: 867 8688 4213
URL:https://www.fccminneapolis.org/event/virtual-happy-hour-with-the-pastors-14/2020-07-16/
LOCATION:FCC Zoom Channel
CATEGORIES:Fellowship,Online Community Gatherings
END:VEVENT
END:VCALENDAR