BEGIN:VCALENDAR
VERSION:2.0
PRODID:-//First Christian Church (Disciples of Christ) - ECPv6.15.13//NONSGML v1.0//EN
CALSCALE:GREGORIAN
METHOD:PUBLISH
X-ORIGINAL-URL:https://www.fccminneapolis.org
X-WR-CALDESC:Events for First Christian Church (Disciples of Christ)
REFRESH-INTERVAL;VALUE=DURATION:PT1H
X-Robots-Tag:noindex
X-PUBLISHED-TTL:PT1H
BEGIN:VTIMEZONE
TZID:America/Chicago
BEGIN:DAYLIGHT
TZOFFSETFROM:-0600
TZOFFSETTO:-0500
TZNAME:CDT
DTSTART:20190310T080000
END:DAYLIGHT
BEGIN:STANDARD
TZOFFSETFROM:-0500
TZOFFSETTO:-0600
TZNAME:CST
DTSTART:20191103T070000
END:STANDARD
BEGIN:DAYLIGHT
TZOFFSETFROM:-0600
TZOFFSETTO:-0500
TZNAME:CDT
DTSTART:20200308T080000
END:DAYLIGHT
BEGIN:STANDARD
TZOFFSETFROM:-0500
TZOFFSETTO:-0600
TZNAME:CST
DTSTART:20201101T070000
END:STANDARD
BEGIN:DAYLIGHT
TZOFFSETFROM:-0600
TZOFFSETTO:-0500
TZNAME:CDT
DTSTART:20210314T080000
END:DAYLIGHT
BEGIN:STANDARD
TZOFFSETFROM:-0500
TZOFFSETTO:-0600
TZNAME:CST
DTSTART:20211107T070000
END:STANDARD
END:VTIMEZONE
BEGIN:VEVENT
DTSTART;TZID=America/Chicago:20200414T170000
DTEND;TZID=America/Chicago:20200414T180000
DTSTAMP:20260425T161516
CREATED:20200414T131001Z
LAST-MODIFIED:20200414T131436Z
UID:10000549-1586883600-1586887200@www.fccminneapolis.org
SUMMARY:Virtual Happy Hour With The Pastors
DESCRIPTION:Grab your favorite beverage and end your day in community! \nTo join by Zoom\, click here. \nTo dial in: 312 626 6799\, Meeting ID: 967 3276 9676
URL:https://www.fccminneapolis.org/event/virtual-happy-hour-with-the-pastors/2020-04-14/
LOCATION:FCC Zoom Channel
CATEGORIES:Fellowship,Online Community Gatherings
END:VEVENT
BEGIN:VEVENT
DTSTART;TZID=America/Chicago:20200415T090000
DTEND;TZID=America/Chicago:20200415T100000
DTSTAMP:20260425T161516
CREATED:20200414T130612Z
LAST-MODIFIED:20200414T131354Z
UID:10000530-1586941200-1586944800@www.fccminneapolis.org
SUMMARY:Virtual Coffee With The Pastors
DESCRIPTION:Start your day with coffee and conversation with your pastors and the wider church community. \nTo join by Zoom\, click here. \nTo call in: 312 626 6799\, Meeting ID: 991 5185 6668.
URL:https://www.fccminneapolis.org/event/virtual-coffee-with-the-pastors-2/2020-04-15/
LOCATION:FCC Zoom Channel
CATEGORIES:Fellowship,Online Community Gatherings
END:VEVENT
BEGIN:VEVENT
DTSTART;TZID=America/Chicago:20200416T090000
DTEND;TZID=America/Chicago:20200416T100000
DTSTAMP:20260425T161516
CREATED:20200414T130612Z
LAST-MODIFIED:20200414T131354Z
UID:10000531-1587027600-1587031200@www.fccminneapolis.org
SUMMARY:Virtual Coffee With The Pastors
DESCRIPTION:Start your day with coffee and conversation with your pastors and the wider church community. \nTo join by Zoom\, click here. \nTo call in: 312 626 6799\, Meeting ID: 991 5185 6668.
URL:https://www.fccminneapolis.org/event/virtual-coffee-with-the-pastors-2/2020-04-16/
LOCATION:FCC Zoom Channel
CATEGORIES:Fellowship,Online Community Gatherings
END:VEVENT
BEGIN:VEVENT
DTSTART;TZID=America/Chicago:20200416T170000
DTEND;TZID=America/Chicago:20200416T180000
DTSTAMP:20260425T161516
CREATED:20200414T131001Z
LAST-MODIFIED:20200414T131436Z
UID:10000550-1587056400-1587060000@www.fccminneapolis.org
SUMMARY:Virtual Happy Hour With The Pastors
DESCRIPTION:Grab your favorite beverage and end your day in community! \nTo join by Zoom\, click here. \nTo dial in: 312 626 6799\, Meeting ID: 967 3276 9676
URL:https://www.fccminneapolis.org/event/virtual-happy-hour-with-the-pastors/2020-04-16/
LOCATION:FCC Zoom Channel
CATEGORIES:Fellowship,Online Community Gatherings
END:VEVENT
BEGIN:VEVENT
DTSTART;TZID=America/Chicago:20200417T090000
DTEND;TZID=America/Chicago:20200417T100000
DTSTAMP:20260425T161516
CREATED:20200414T130612Z
LAST-MODIFIED:20200414T131354Z
UID:10000532-1587114000-1587117600@www.fccminneapolis.org
SUMMARY:Virtual Coffee With The Pastors
DESCRIPTION:Start your day with coffee and conversation with your pastors and the wider church community. \nTo join by Zoom\, click here. \nTo call in: 312 626 6799\, Meeting ID: 991 5185 6668.
URL:https://www.fccminneapolis.org/event/virtual-coffee-with-the-pastors-2/2020-04-17/
LOCATION:FCC Zoom Channel
CATEGORIES:Fellowship,Online Community Gatherings
END:VEVENT
BEGIN:VEVENT
DTSTART;TZID=America/Chicago:20200418T090000
DTEND;TZID=America/Chicago:20200418T100000
DTSTAMP:20260425T161516
CREATED:20200414T130612Z
LAST-MODIFIED:20200414T131354Z
UID:10000533-1587200400-1587204000@www.fccminneapolis.org
SUMMARY:Virtual Coffee With The Pastors
DESCRIPTION:Start your day with coffee and conversation with your pastors and the wider church community. \nTo join by Zoom\, click here. \nTo call in: 312 626 6799\, Meeting ID: 991 5185 6668.
URL:https://www.fccminneapolis.org/event/virtual-coffee-with-the-pastors-2/2020-04-18/
LOCATION:FCC Zoom Channel
CATEGORIES:Fellowship,Online Community Gatherings
END:VEVENT
BEGIN:VEVENT
DTSTART;TZID=America/Chicago:20200420T090000
DTEND;TZID=America/Chicago:20200420T100000
DTSTAMP:20260425T161516
CREATED:20200420T013949Z
LAST-MODIFIED:20200420T013949Z
UID:10000551-1587373200-1587376800@www.fccminneapolis.org
SUMMARY:Virtual Coffee With The Pastors
DESCRIPTION:Start your day off with community\, a couple of cats\, and good conversation. \nTo join via Zoom\, click here. \nTo dial in: 312 626 6799\, Meeting ID: 977 2270 1464
URL:https://www.fccminneapolis.org/event/virtual-coffee-with-the-pastors-3/2020-04-20/
LOCATION:FCC Zoom Channel
CATEGORIES:Fellowship,Online Community Gatherings
END:VEVENT
BEGIN:VEVENT
DTSTART;TZID=America/Chicago:20200421T090000
DTEND;TZID=America/Chicago:20200421T100000
DTSTAMP:20260425T161516
CREATED:20200420T013949Z
LAST-MODIFIED:20200420T013949Z
UID:10000552-1587459600-1587463200@www.fccminneapolis.org
SUMMARY:Virtual Coffee With The Pastors
DESCRIPTION:Start your day off with community\, a couple of cats\, and good conversation. \nTo join via Zoom\, click here. \nTo dial in: 312 626 6799\, Meeting ID: 977 2270 1464
URL:https://www.fccminneapolis.org/event/virtual-coffee-with-the-pastors-3/2020-04-21/
LOCATION:FCC Zoom Channel
CATEGORIES:Fellowship,Online Community Gatherings
END:VEVENT
BEGIN:VEVENT
DTSTART;TZID=America/Chicago:20200422T090000
DTEND;TZID=America/Chicago:20200422T100000
DTSTAMP:20260425T161516
CREATED:20200420T013949Z
LAST-MODIFIED:20200420T013949Z
UID:10000553-1587546000-1587549600@www.fccminneapolis.org
SUMMARY:Virtual Coffee With The Pastors
DESCRIPTION:Start your day off with community\, a couple of cats\, and good conversation. \nTo join via Zoom\, click here. \nTo dial in: 312 626 6799\, Meeting ID: 977 2270 1464
URL:https://www.fccminneapolis.org/event/virtual-coffee-with-the-pastors-3/2020-04-22/
LOCATION:FCC Zoom Channel
CATEGORIES:Fellowship,Online Community Gatherings
END:VEVENT
BEGIN:VEVENT
DTSTART;TZID=America/Chicago:20200423T090000
DTEND;TZID=America/Chicago:20200423T100000
DTSTAMP:20260425T161516
CREATED:20200420T013949Z
LAST-MODIFIED:20200420T013949Z
UID:10000554-1587632400-1587636000@www.fccminneapolis.org
SUMMARY:Virtual Coffee With The Pastors
DESCRIPTION:Start your day off with community\, a couple of cats\, and good conversation. \nTo join via Zoom\, click here. \nTo dial in: 312 626 6799\, Meeting ID: 977 2270 1464
URL:https://www.fccminneapolis.org/event/virtual-coffee-with-the-pastors-3/2020-04-23/
LOCATION:FCC Zoom Channel
CATEGORIES:Fellowship,Online Community Gatherings
END:VEVENT
BEGIN:VEVENT
DTSTART;TZID=America/Chicago:20200423T170000
DTEND;TZID=America/Chicago:20200423T180000
DTSTAMP:20260425T161516
CREATED:20200420T014246Z
LAST-MODIFIED:20200420T014637Z
UID:10000557-1587661200-1587664800@www.fccminneapolis.org
SUMMARY:Virtual Happy Hour With The Pastors
DESCRIPTION:End your day in community with the pastors!  It’s always a great time! \nTo join via Zoom\, click here. \nTo dial in: 312 626 6799\, Meeting ID: 981 5480 1618.
URL:https://www.fccminneapolis.org/event/virtual-happy-hour-with-the-pastors-2/
LOCATION:FCC Zoom Channel
CATEGORIES:Fellowship,Online Community Gatherings
END:VEVENT
BEGIN:VEVENT
DTSTART;TZID=America/Chicago:20200424T090000
DTEND;TZID=America/Chicago:20200424T100000
DTSTAMP:20260425T161516
CREATED:20200420T013949Z
LAST-MODIFIED:20200420T013949Z
UID:10000555-1587718800-1587722400@www.fccminneapolis.org
SUMMARY:Virtual Coffee With The Pastors
DESCRIPTION:Start your day off with community\, a couple of cats\, and good conversation. \nTo join via Zoom\, click here. \nTo dial in: 312 626 6799\, Meeting ID: 977 2270 1464
URL:https://www.fccminneapolis.org/event/virtual-coffee-with-the-pastors-3/2020-04-24/
LOCATION:FCC Zoom Channel
CATEGORIES:Fellowship,Online Community Gatherings
END:VEVENT
BEGIN:VEVENT
DTSTART;TZID=America/Chicago:20200425T090000
DTEND;TZID=America/Chicago:20200425T100000
DTSTAMP:20260425T161516
CREATED:20200420T013949Z
LAST-MODIFIED:20200420T013949Z
UID:10000556-1587805200-1587808800@www.fccminneapolis.org
SUMMARY:Virtual Coffee With The Pastors
DESCRIPTION:Start your day off with community\, a couple of cats\, and good conversation. \nTo join via Zoom\, click here. \nTo dial in: 312 626 6799\, Meeting ID: 977 2270 1464
URL:https://www.fccminneapolis.org/event/virtual-coffee-with-the-pastors-3/2020-04-25/
LOCATION:FCC Zoom Channel
CATEGORIES:Fellowship,Online Community Gatherings
END:VEVENT
BEGIN:VEVENT
DTSTART;TZID=America/Chicago:20200427T090000
DTEND;TZID=America/Chicago:20200427T100000
DTSTAMP:20260425T161516
CREATED:20200427T132115Z
LAST-MODIFIED:20200427T132453Z
UID:10000559-1587978000-1587981600@www.fccminneapolis.org
SUMMARY:Coffee With The Pastors
DESCRIPTION:To Dial In: 312 626 6799\, Meeting ID: 838 2819 0701
URL:https://www.fccminneapolis.org/event/coffee-with-the-pastors/2020-04-27/
LOCATION:FCC Zoom Channel
CATEGORIES:Fellowship,Online Community Gatherings
END:VEVENT
BEGIN:VEVENT
DTSTART;TZID=America/Chicago:20200428T090000
DTEND;TZID=America/Chicago:20200428T100000
DTSTAMP:20260425T161516
CREATED:20200427T132115Z
LAST-MODIFIED:20200427T132453Z
UID:10000560-1588064400-1588068000@www.fccminneapolis.org
SUMMARY:Coffee With The Pastors
DESCRIPTION:To Dial In: 312 626 6799\, Meeting ID: 838 2819 0701
URL:https://www.fccminneapolis.org/event/coffee-with-the-pastors/2020-04-28/
LOCATION:FCC Zoom Channel
CATEGORIES:Fellowship,Online Community Gatherings
END:VEVENT
BEGIN:VEVENT
DTSTART;TZID=America/Chicago:20200428T170000
DTEND;TZID=America/Chicago:20200428T180000
DTSTAMP:20260425T161516
CREATED:20200427T132321Z
LAST-MODIFIED:20200427T132321Z
UID:10000573-1588093200-1588096800@www.fccminneapolis.org
SUMMARY:Virtual Happy Hour With The Pastors
DESCRIPTION:To Dial In: 312 626 6799\, Meeting ID: 891 5529 4950
URL:https://www.fccminneapolis.org/event/virtual-happy-hour-with-the-pastors-3/2020-04-28/
LOCATION:FCC Zoom Channel
CATEGORIES:Fellowship,Online Community Gatherings
END:VEVENT
BEGIN:VEVENT
DTSTART;TZID=America/Chicago:20200429T090000
DTEND;TZID=America/Chicago:20200429T100000
DTSTAMP:20260425T161516
CREATED:20200427T132115Z
LAST-MODIFIED:20200427T132453Z
UID:10000561-1588150800-1588154400@www.fccminneapolis.org
SUMMARY:Coffee With The Pastors
DESCRIPTION:To Dial In: 312 626 6799\, Meeting ID: 838 2819 0701
URL:https://www.fccminneapolis.org/event/coffee-with-the-pastors/2020-04-29/
LOCATION:FCC Zoom Channel
CATEGORIES:Fellowship,Online Community Gatherings
END:VEVENT
BEGIN:VEVENT
DTSTART;TZID=America/Chicago:20200430T090000
DTEND;TZID=America/Chicago:20200430T100000
DTSTAMP:20260425T161516
CREATED:20200427T132115Z
LAST-MODIFIED:20200427T132453Z
UID:10000562-1588237200-1588240800@www.fccminneapolis.org
SUMMARY:Coffee With The Pastors
DESCRIPTION:To Dial In: 312 626 6799\, Meeting ID: 838 2819 0701
URL:https://www.fccminneapolis.org/event/coffee-with-the-pastors/2020-04-30/
LOCATION:FCC Zoom Channel
CATEGORIES:Fellowship,Online Community Gatherings
END:VEVENT
BEGIN:VEVENT
DTSTART;TZID=America/Chicago:20200430T170000
DTEND;TZID=America/Chicago:20200430T180000
DTSTAMP:20260425T161516
CREATED:20200427T132321Z
LAST-MODIFIED:20200427T132321Z
UID:10000574-1588266000-1588269600@www.fccminneapolis.org
SUMMARY:Virtual Happy Hour With The Pastors
DESCRIPTION:To Dial In: 312 626 6799\, Meeting ID: 891 5529 4950
URL:https://www.fccminneapolis.org/event/virtual-happy-hour-with-the-pastors-3/2020-04-30/
LOCATION:FCC Zoom Channel
CATEGORIES:Fellowship,Online Community Gatherings
END:VEVENT
BEGIN:VEVENT
DTSTART;TZID=America/Chicago:20200501T090000
DTEND;TZID=America/Chicago:20200501T100000
DTSTAMP:20260425T161516
CREATED:20200427T132115Z
LAST-MODIFIED:20200427T132453Z
UID:10000563-1588323600-1588327200@www.fccminneapolis.org
SUMMARY:Coffee With The Pastors
DESCRIPTION:To Dial In: 312 626 6799\, Meeting ID: 838 2819 0701
URL:https://www.fccminneapolis.org/event/coffee-with-the-pastors/2020-05-01/
LOCATION:FCC Zoom Channel
CATEGORIES:Fellowship,Online Community Gatherings
END:VEVENT
BEGIN:VEVENT
DTSTART;TZID=America/Chicago:20200502T090000
DTEND;TZID=America/Chicago:20200502T100000
DTSTAMP:20260425T161516
CREATED:20200427T132115Z
LAST-MODIFIED:20200427T132453Z
UID:10000564-1588410000-1588413600@www.fccminneapolis.org
SUMMARY:Coffee With The Pastors
DESCRIPTION:To Dial In: 312 626 6799\, Meeting ID: 838 2819 0701
URL:https://www.fccminneapolis.org/event/coffee-with-the-pastors/2020-05-02/
LOCATION:FCC Zoom Channel
CATEGORIES:Fellowship,Online Community Gatherings
END:VEVENT
BEGIN:VEVENT
DTSTART;TZID=America/Chicago:20200504T090000
DTEND;TZID=America/Chicago:20200504T100000
DTSTAMP:20260425T161516
CREATED:20200504T010901Z
LAST-MODIFIED:20200505T114628Z
UID:10000579-1588582800-1588586400@www.fccminneapolis.org
SUMMARY:Virtual Coffee Hour With The Pastors
DESCRIPTION:To dial in: 312 626 6799\, Meeting ID: 862 4455 7828
URL:https://www.fccminneapolis.org/event/virtual-coffee-hour-with-the-pastors/2020-05-04/
LOCATION:FCC Zoom Channel
CATEGORIES:Fellowship,Online Community Gatherings
END:VEVENT
BEGIN:VEVENT
DTSTART;TZID=America/Chicago:20200504T190000
DTEND;TZID=America/Chicago:20200504T210000
DTSTAMP:20260425T161516
CREATED:20200206T181800Z
LAST-MODIFIED:20200504T011015Z
UID:10000513-1588618800-1588626000@www.fccminneapolis.org
SUMMARY:Women's Fellowship
DESCRIPTION:2020-21 Study Guide: Hope\, Healing and Wholeness \nLesson 3: Job’s Wife \nFacilitator: Dee Ward
URL:https://www.fccminneapolis.org/event/womens-fellowship-4/
LOCATION:FCC Zoom Channel
CATEGORIES:Fellowship,Online Community Gatherings,Studies,Women's Fellowship
END:VEVENT
BEGIN:VEVENT
DTSTART;TZID=America/Chicago:20200505T090000
DTEND;TZID=America/Chicago:20200505T100000
DTSTAMP:20260425T161516
CREATED:20200504T010901Z
LAST-MODIFIED:20200505T114628Z
UID:10000580-1588669200-1588672800@www.fccminneapolis.org
SUMMARY:Virtual Coffee Hour With The Pastors
DESCRIPTION:To dial in: 312 626 6799\, Meeting ID: 862 4455 7828
URL:https://www.fccminneapolis.org/event/virtual-coffee-hour-with-the-pastors/2020-05-05/
LOCATION:FCC Zoom Channel
CATEGORIES:Fellowship,Online Community Gatherings
END:VEVENT
BEGIN:VEVENT
DTSTART;TZID=America/Chicago:20200505T170000
DTEND;TZID=America/Chicago:20200505T180000
DTSTAMP:20260425T161516
CREATED:20200504T010631Z
LAST-MODIFIED:20200504T010704Z
UID:10000576-1588698000-1588701600@www.fccminneapolis.org
SUMMARY:Virtual Happy Hour With The Pastors
DESCRIPTION:To dial in: 312 626 6799\, Meeting ID: 895 3021 9501
URL:https://www.fccminneapolis.org/event/virtual-happy-hour-with-the-pastors-4/2020-05-05/
LOCATION:FCC Zoom Channel
CATEGORIES:Fellowship,Online Community Gatherings
END:VEVENT
BEGIN:VEVENT
DTSTART;TZID=America/Chicago:20200506T090000
DTEND;TZID=America/Chicago:20200506T100000
DTSTAMP:20260425T161516
CREATED:20200504T010901Z
LAST-MODIFIED:20200505T114628Z
UID:10000581-1588755600-1588759200@www.fccminneapolis.org
SUMMARY:Virtual Coffee Hour With The Pastors
DESCRIPTION:To dial in: 312 626 6799\, Meeting ID: 862 4455 7828
URL:https://www.fccminneapolis.org/event/virtual-coffee-hour-with-the-pastors/2020-05-06/
LOCATION:FCC Zoom Channel
CATEGORIES:Fellowship,Online Community Gatherings
END:VEVENT
BEGIN:VEVENT
DTSTART;TZID=America/Chicago:20200507T090000
DTEND;TZID=America/Chicago:20200507T100000
DTSTAMP:20260425T161516
CREATED:20200504T010901Z
LAST-MODIFIED:20200505T114628Z
UID:10000582-1588842000-1588845600@www.fccminneapolis.org
SUMMARY:Virtual Coffee Hour With The Pastors
DESCRIPTION:To dial in: 312 626 6799\, Meeting ID: 862 4455 7828
URL:https://www.fccminneapolis.org/event/virtual-coffee-hour-with-the-pastors/2020-05-07/
LOCATION:FCC Zoom Channel
CATEGORIES:Fellowship,Online Community Gatherings
END:VEVENT
BEGIN:VEVENT
DTSTART;TZID=America/Chicago:20200507T170000
DTEND;TZID=America/Chicago:20200507T180000
DTSTAMP:20260425T161516
CREATED:20200504T010631Z
LAST-MODIFIED:20200504T010704Z
UID:10000577-1588870800-1588874400@www.fccminneapolis.org
SUMMARY:Virtual Happy Hour With The Pastors
DESCRIPTION:To dial in: 312 626 6799\, Meeting ID: 895 3021 9501
URL:https://www.fccminneapolis.org/event/virtual-happy-hour-with-the-pastors-4/2020-05-07/
LOCATION:FCC Zoom Channel
CATEGORIES:Fellowship,Online Community Gatherings
END:VEVENT
BEGIN:VEVENT
DTSTART;TZID=America/Chicago:20200508T090000
DTEND;TZID=America/Chicago:20200508T100000
DTSTAMP:20260425T161516
CREATED:20200504T010901Z
LAST-MODIFIED:20200505T114628Z
UID:10000583-1588928400-1588932000@www.fccminneapolis.org
SUMMARY:Virtual Coffee Hour With The Pastors
DESCRIPTION:To dial in: 312 626 6799\, Meeting ID: 862 4455 7828
URL:https://www.fccminneapolis.org/event/virtual-coffee-hour-with-the-pastors/2020-05-08/
LOCATION:FCC Zoom Channel
CATEGORIES:Fellowship,Online Community Gatherings
END:VEVENT
BEGIN:VEVENT
DTSTART;TZID=America/Chicago:20200508T200000
DTEND;TZID=America/Chicago:20200508T210000
DTSTAMP:20260425T161516
CREATED:20200506T170529Z
LAST-MODIFIED:20200508T220925Z
UID:10000162-1588968000-1588971600@www.fccminneapolis.org
SUMMARY:FCC Online Game Night - Trivia
DESCRIPTION:To dial in: 312 626 6799 \nMeeting ID: 857 3887 4868
URL:https://www.fccminneapolis.org/event/fcc-online-game-night-trivia/
LOCATION:FCC Zoom Channel
CATEGORIES:Fellowship,Online Community Gatherings
END:VEVENT
END:VCALENDAR