BEGIN:VCALENDAR
VERSION:2.0
PRODID:-//First Christian Church (Disciples of Christ) - ECPv6.15.13//NONSGML v1.0//EN
CALSCALE:GREGORIAN
METHOD:PUBLISH
X-ORIGINAL-URL:https://www.fccminneapolis.org
X-WR-CALDESC:Events for First Christian Church (Disciples of Christ)
REFRESH-INTERVAL;VALUE=DURATION:PT1H
X-Robots-Tag:noindex
X-PUBLISHED-TTL:PT1H
BEGIN:VTIMEZONE
TZID:America/Chicago
BEGIN:DAYLIGHT
TZOFFSETFROM:-0600
TZOFFSETTO:-0500
TZNAME:CDT
DTSTART:20240310T080000
END:DAYLIGHT
BEGIN:STANDARD
TZOFFSETFROM:-0500
TZOFFSETTO:-0600
TZNAME:CST
DTSTART:20241103T070000
END:STANDARD
BEGIN:DAYLIGHT
TZOFFSETFROM:-0600
TZOFFSETTO:-0500
TZNAME:CDT
DTSTART:20250309T080000
END:DAYLIGHT
BEGIN:STANDARD
TZOFFSETFROM:-0500
TZOFFSETTO:-0600
TZNAME:CST
DTSTART:20251102T070000
END:STANDARD
BEGIN:DAYLIGHT
TZOFFSETFROM:-0600
TZOFFSETTO:-0500
TZNAME:CDT
DTSTART:20260308T080000
END:DAYLIGHT
BEGIN:STANDARD
TZOFFSETFROM:-0500
TZOFFSETTO:-0600
TZNAME:CST
DTSTART:20261101T070000
END:STANDARD
END:VTIMEZONE
BEGIN:VEVENT
DTSTART;TZID=America/Chicago:20250902T170000
DTEND;TZID=America/Chicago:20250902T180000
DTSTAMP:20260425T220119
CREATED:20250522T153607Z
LAST-MODIFIED:20250617T135051Z
UID:10005087-1756832400-1756836000@www.fccminneapolis.org
SUMMARY:Happy Hour With Community
DESCRIPTION:https://us02web.zoom.us/j/87366209539 \nMeeting ID: 873 6620 9539
URL:https://www.fccminneapolis.org/event/happy-hour-with-the-pastors-17-2-3-3-2-2-2-2-3-6-2-2-2-2-2-2-2-2-2-2-2-2-2-2/2025-09-02/
LOCATION:FCC Zoom Channel
CATEGORIES:Fellowship,Online Community Gatherings
END:VEVENT
BEGIN:VEVENT
DTSTART;TZID=America/Chicago:20250904T170000
DTEND;TZID=America/Chicago:20250904T180000
DTSTAMP:20260425T220119
CREATED:20250522T154356Z
LAST-MODIFIED:20250522T154358Z
UID:10005561-1757005200-1757008800@www.fccminneapolis.org
SUMMARY:Happy Hour With Community
DESCRIPTION:https://us02web.zoom.us/j/87366209539 \nMeeting ID: 873 6620 9539
URL:https://www.fccminneapolis.org/event/happy-hour-with-the-pastors-20-2-2/2025-09-04/
LOCATION:FCC Zoom Channel
CATEGORIES:Fellowship,Online Community Gatherings
END:VEVENT
BEGIN:VEVENT
DTSTART;TZID=America/Chicago:20250908T190000
DTEND;TZID=America/Chicago:20250908T200000
DTSTAMP:20260425T220119
CREATED:20250701T154824Z
LAST-MODIFIED:20250701T154830Z
UID:10005014-1757358000-1757361600@www.fccminneapolis.org
SUMMARY:Women's Fellowship
DESCRIPTION:FCC’s Women’s Fellowship meets on Zoom the first Monday of each month. The group is currently reading and discussing the book Learning to Walk in the Dark by Barbara Brown Taylor. The fall meeting dates are September 9 (later due to Labor Day)\, October 7\, November 4\, and December 2. All members and friends of FCC are welcome to join us. Contact Kathy H. for a Zoom link.
URL:https://www.fccminneapolis.org/event/womens-fellowship-8-2-2-2/
CATEGORIES:Fellowship,Women's Fellowship
END:VEVENT
BEGIN:VEVENT
DTSTART;TZID=America/Chicago:20250909T170000
DTEND;TZID=America/Chicago:20250909T180000
DTSTAMP:20260425T220119
CREATED:20250522T153607Z
LAST-MODIFIED:20250617T135051Z
UID:10005089-1757437200-1757440800@www.fccminneapolis.org
SUMMARY:Happy Hour With Community
DESCRIPTION:https://us02web.zoom.us/j/87366209539 \nMeeting ID: 873 6620 9539
URL:https://www.fccminneapolis.org/event/happy-hour-with-the-pastors-17-2-3-3-2-2-2-2-3-6-2-2-2-2-2-2-2-2-2-2-2-2-2-2/2025-09-09/
LOCATION:FCC Zoom Channel
CATEGORIES:Fellowship,Online Community Gatherings
END:VEVENT
BEGIN:VEVENT
DTSTART;TZID=America/Chicago:20250911T170000
DTEND;TZID=America/Chicago:20250911T180000
DTSTAMP:20260425T220119
CREATED:20250522T154356Z
LAST-MODIFIED:20250522T154358Z
UID:10005562-1757610000-1757613600@www.fccminneapolis.org
SUMMARY:Happy Hour With Community
DESCRIPTION:https://us02web.zoom.us/j/87366209539 \nMeeting ID: 873 6620 9539
URL:https://www.fccminneapolis.org/event/happy-hour-with-the-pastors-20-2-2/2025-09-11/
LOCATION:FCC Zoom Channel
CATEGORIES:Fellowship,Online Community Gatherings
END:VEVENT
BEGIN:VEVENT
DTSTART;TZID=America/Chicago:20250918T170000
DTEND;TZID=America/Chicago:20250918T180000
DTSTAMP:20260425T220119
CREATED:20250522T154356Z
LAST-MODIFIED:20250522T154358Z
UID:10005563-1758214800-1758218400@www.fccminneapolis.org
SUMMARY:Happy Hour With Community
DESCRIPTION:https://us02web.zoom.us/j/87366209539 \nMeeting ID: 873 6620 9539
URL:https://www.fccminneapolis.org/event/happy-hour-with-the-pastors-20-2-2/2025-09-18/
LOCATION:FCC Zoom Channel
CATEGORIES:Fellowship,Online Community Gatherings
END:VEVENT
BEGIN:VEVENT
DTSTART;TZID=America/Chicago:20250923T170000
DTEND;TZID=America/Chicago:20250923T180000
DTSTAMP:20260425T220119
CREATED:20250522T153607Z
LAST-MODIFIED:20250617T135051Z
UID:10005093-1758646800-1758650400@www.fccminneapolis.org
SUMMARY:Happy Hour With Community
DESCRIPTION:https://us02web.zoom.us/j/87366209539 \nMeeting ID: 873 6620 9539
URL:https://www.fccminneapolis.org/event/happy-hour-with-the-pastors-17-2-3-3-2-2-2-2-3-6-2-2-2-2-2-2-2-2-2-2-2-2-2-2/2025-09-23/
LOCATION:FCC Zoom Channel
CATEGORIES:Fellowship,Online Community Gatherings
END:VEVENT
BEGIN:VEVENT
DTSTART;TZID=America/Chicago:20250925T170000
DTEND;TZID=America/Chicago:20250925T180000
DTSTAMP:20260425T220119
CREATED:20250522T154356Z
LAST-MODIFIED:20250522T154358Z
UID:10005564-1758819600-1758823200@www.fccminneapolis.org
SUMMARY:Happy Hour With Community
DESCRIPTION:https://us02web.zoom.us/j/87366209539 \nMeeting ID: 873 6620 9539
URL:https://www.fccminneapolis.org/event/happy-hour-with-the-pastors-20-2-2/2025-09-25/
LOCATION:FCC Zoom Channel
CATEGORIES:Fellowship,Online Community Gatherings
END:VEVENT
BEGIN:VEVENT
DTSTART;TZID=America/Chicago:20250930T170000
DTEND;TZID=America/Chicago:20250930T180000
DTSTAMP:20260425T220119
CREATED:20250522T153607Z
LAST-MODIFIED:20250617T135051Z
UID:10005095-1759251600-1759255200@www.fccminneapolis.org
SUMMARY:Happy Hour With Community
DESCRIPTION:https://us02web.zoom.us/j/87366209539 \nMeeting ID: 873 6620 9539
URL:https://www.fccminneapolis.org/event/happy-hour-with-the-pastors-17-2-3-3-2-2-2-2-3-6-2-2-2-2-2-2-2-2-2-2-2-2-2-2/2025-09-30/
LOCATION:FCC Zoom Channel
CATEGORIES:Fellowship,Online Community Gatherings
END:VEVENT
END:VCALENDAR