BEGIN:VCALENDAR
VERSION:2.0
PRODID:-//First Christian Church (Disciples of Christ) - ECPv6.15.13//NONSGML v1.0//EN
CALSCALE:GREGORIAN
METHOD:PUBLISH
X-ORIGINAL-URL:https://www.fccminneapolis.org
X-WR-CALDESC:Events for First Christian Church (Disciples of Christ)
REFRESH-INTERVAL;VALUE=DURATION:PT1H
X-Robots-Tag:noindex
X-PUBLISHED-TTL:PT1H
BEGIN:VTIMEZONE
TZID:America/Chicago
BEGIN:DAYLIGHT
TZOFFSETFROM:-0600
TZOFFSETTO:-0500
TZNAME:CDT
DTSTART:20200308T080000
END:DAYLIGHT
BEGIN:STANDARD
TZOFFSETFROM:-0500
TZOFFSETTO:-0600
TZNAME:CST
DTSTART:20201101T070000
END:STANDARD
BEGIN:DAYLIGHT
TZOFFSETFROM:-0600
TZOFFSETTO:-0500
TZNAME:CDT
DTSTART:20210314T080000
END:DAYLIGHT
BEGIN:STANDARD
TZOFFSETFROM:-0500
TZOFFSETTO:-0600
TZNAME:CST
DTSTART:20211107T070000
END:STANDARD
BEGIN:DAYLIGHT
TZOFFSETFROM:-0600
TZOFFSETTO:-0500
TZNAME:CDT
DTSTART:20220313T080000
END:DAYLIGHT
BEGIN:STANDARD
TZOFFSETFROM:-0500
TZOFFSETTO:-0600
TZNAME:CST
DTSTART:20221106T070000
END:STANDARD
BEGIN:DAYLIGHT
TZOFFSETFROM:-0600
TZOFFSETTO:-0500
TZNAME:CDT
DTSTART:20230312T080000
END:DAYLIGHT
BEGIN:STANDARD
TZOFFSETFROM:-0500
TZOFFSETTO:-0600
TZNAME:CST
DTSTART:20231105T070000
END:STANDARD
BEGIN:DAYLIGHT
TZOFFSETFROM:-0600
TZOFFSETTO:-0500
TZNAME:CDT
DTSTART:20240310T080000
END:DAYLIGHT
BEGIN:STANDARD
TZOFFSETFROM:-0500
TZOFFSETTO:-0600
TZNAME:CST
DTSTART:20241103T070000
END:STANDARD
BEGIN:DAYLIGHT
TZOFFSETFROM:-0600
TZOFFSETTO:-0500
TZNAME:CDT
DTSTART:20250309T080000
END:DAYLIGHT
BEGIN:STANDARD
TZOFFSETFROM:-0500
TZOFFSETTO:-0600
TZNAME:CST
DTSTART:20251102T070000
END:STANDARD
END:VTIMEZONE
BEGIN:VEVENT
DTSTART;TZID=America/Chicago:20240715T190000
DTEND;TZID=America/Chicago:20240715T210000
DTSTAMP:20260425T203645
CREATED:20230622T181400Z
LAST-MODIFIED:20250105T194247Z
UID:10003370-1721070000-1721077200@www.fccminneapolis.org
SUMMARY:FCC and Friends Book Group
DESCRIPTION:2025\nJanuary     Middlemarch by George Eliot  (Jan 20)\nFebruary    Passing by Nella Larsen  (Feb 17)\nMarch      The Seed Keeper by Diane Wilson (Mar 17)\nApril       The Cartographers by Peng Shepherd (Apr 21)\nMay        Tom Lake by Ann Patchett (May 19)
URL:https://www.fccminneapolis.org/event/fcc-and-friends-book-group/2024-07-15/
LOCATION:FCC Zoom Channel
CATEGORIES:Book Group,Fellowship
END:VEVENT
BEGIN:VEVENT
DTSTART;TZID=America/Chicago:20240617T190000
DTEND;TZID=America/Chicago:20240617T210000
DTSTAMP:20260425T203645
CREATED:20230622T181400Z
LAST-MODIFIED:20250105T194247Z
UID:10003369-1718650800-1718658000@www.fccminneapolis.org
SUMMARY:FCC and Friends Book Group
DESCRIPTION:2025\nJanuary     Middlemarch by George Eliot  (Jan 20)\nFebruary    Passing by Nella Larsen  (Feb 17)\nMarch      The Seed Keeper by Diane Wilson (Mar 17)\nApril       The Cartographers by Peng Shepherd (Apr 21)\nMay        Tom Lake by Ann Patchett (May 19)
URL:https://www.fccminneapolis.org/event/fcc-and-friends-book-group/2024-06-17/
LOCATION:FCC Zoom Channel
CATEGORIES:Book Group,Fellowship
END:VEVENT
BEGIN:VEVENT
DTSTART;TZID=America/Chicago:20240520T190000
DTEND;TZID=America/Chicago:20240520T210000
DTSTAMP:20260425T203645
CREATED:20230622T181400Z
LAST-MODIFIED:20250105T194247Z
UID:10003368-1716231600-1716238800@www.fccminneapolis.org
SUMMARY:FCC and Friends Book Group
DESCRIPTION:2025\nJanuary     Middlemarch by George Eliot  (Jan 20)\nFebruary    Passing by Nella Larsen  (Feb 17)\nMarch      The Seed Keeper by Diane Wilson (Mar 17)\nApril       The Cartographers by Peng Shepherd (Apr 21)\nMay        Tom Lake by Ann Patchett (May 19)
URL:https://www.fccminneapolis.org/event/fcc-and-friends-book-group/2024-05-20/
LOCATION:FCC Zoom Channel
CATEGORIES:Book Group,Fellowship
END:VEVENT
BEGIN:VEVENT
DTSTART;TZID=America/Chicago:20240415T190000
DTEND;TZID=America/Chicago:20240415T210000
DTSTAMP:20260425T203645
CREATED:20230622T181400Z
LAST-MODIFIED:20250105T194247Z
UID:10003367-1713207600-1713214800@www.fccminneapolis.org
SUMMARY:FCC and Friends Book Group
DESCRIPTION:2025\nJanuary     Middlemarch by George Eliot  (Jan 20)\nFebruary    Passing by Nella Larsen  (Feb 17)\nMarch      The Seed Keeper by Diane Wilson (Mar 17)\nApril       The Cartographers by Peng Shepherd (Apr 21)\nMay        Tom Lake by Ann Patchett (May 19)
URL:https://www.fccminneapolis.org/event/fcc-and-friends-book-group/2024-04-15/
LOCATION:FCC Zoom Channel
CATEGORIES:Book Group,Fellowship
END:VEVENT
BEGIN:VEVENT
DTSTART;TZID=America/Chicago:20240318T190000
DTEND;TZID=America/Chicago:20240318T210000
DTSTAMP:20260425T203645
CREATED:20230622T181400Z
LAST-MODIFIED:20250105T194247Z
UID:10003366-1710788400-1710795600@www.fccminneapolis.org
SUMMARY:FCC and Friends Book Group
DESCRIPTION:2025\nJanuary     Middlemarch by George Eliot  (Jan 20)\nFebruary    Passing by Nella Larsen  (Feb 17)\nMarch      The Seed Keeper by Diane Wilson (Mar 17)\nApril       The Cartographers by Peng Shepherd (Apr 21)\nMay        Tom Lake by Ann Patchett (May 19)
URL:https://www.fccminneapolis.org/event/fcc-and-friends-book-group/2024-03-18/
LOCATION:FCC Zoom Channel
CATEGORIES:Book Group,Fellowship
END:VEVENT
BEGIN:VEVENT
DTSTART;TZID=America/Chicago:20240219T190000
DTEND;TZID=America/Chicago:20240219T210000
DTSTAMP:20260425T203645
CREATED:20230622T181400Z
LAST-MODIFIED:20250105T194247Z
UID:10003365-1708369200-1708376400@www.fccminneapolis.org
SUMMARY:FCC and Friends Book Group
DESCRIPTION:2025\nJanuary     Middlemarch by George Eliot  (Jan 20)\nFebruary    Passing by Nella Larsen  (Feb 17)\nMarch      The Seed Keeper by Diane Wilson (Mar 17)\nApril       The Cartographers by Peng Shepherd (Apr 21)\nMay        Tom Lake by Ann Patchett (May 19)
URL:https://www.fccminneapolis.org/event/fcc-and-friends-book-group/2024-02-19/
LOCATION:FCC Zoom Channel
CATEGORIES:Book Group,Fellowship
END:VEVENT
BEGIN:VEVENT
DTSTART;TZID=America/Chicago:20240115T190000
DTEND;TZID=America/Chicago:20240115T210000
DTSTAMP:20260425T203645
CREATED:20230622T181400Z
LAST-MODIFIED:20250105T194247Z
UID:10003364-1705345200-1705352400@www.fccminneapolis.org
SUMMARY:FCC and Friends Book Group
DESCRIPTION:2025\nJanuary     Middlemarch by George Eliot  (Jan 20)\nFebruary    Passing by Nella Larsen  (Feb 17)\nMarch      The Seed Keeper by Diane Wilson (Mar 17)\nApril       The Cartographers by Peng Shepherd (Apr 21)\nMay        Tom Lake by Ann Patchett (May 19)
URL:https://www.fccminneapolis.org/event/fcc-and-friends-book-group/2024-01-15/
LOCATION:FCC Zoom Channel
CATEGORIES:Book Group,Fellowship
END:VEVENT
BEGIN:VEVENT
DTSTART;TZID=America/Chicago:20231120T190000
DTEND;TZID=America/Chicago:20231120T210000
DTSTAMP:20260425T203645
CREATED:20230622T181400Z
LAST-MODIFIED:20250105T194247Z
UID:10002831-1700506800-1700514000@www.fccminneapolis.org
SUMMARY:FCC and Friends Book Group
DESCRIPTION:2025\nJanuary     Middlemarch by George Eliot  (Jan 20)\nFebruary    Passing by Nella Larsen  (Feb 17)\nMarch      The Seed Keeper by Diane Wilson (Mar 17)\nApril       The Cartographers by Peng Shepherd (Apr 21)\nMay        Tom Lake by Ann Patchett (May 19)
URL:https://www.fccminneapolis.org/event/fcc-and-friends-book-group/2023-11-20/
LOCATION:FCC Zoom Channel
CATEGORIES:Book Group,Fellowship
END:VEVENT
BEGIN:VEVENT
DTSTART;TZID=America/Chicago:20231016T190000
DTEND;TZID=America/Chicago:20231016T210000
DTSTAMP:20260425T203645
CREATED:20230622T181400Z
LAST-MODIFIED:20250105T194247Z
UID:10002830-1697482800-1697490000@www.fccminneapolis.org
SUMMARY:FCC and Friends Book Group
DESCRIPTION:2025\nJanuary     Middlemarch by George Eliot  (Jan 20)\nFebruary    Passing by Nella Larsen  (Feb 17)\nMarch      The Seed Keeper by Diane Wilson (Mar 17)\nApril       The Cartographers by Peng Shepherd (Apr 21)\nMay        Tom Lake by Ann Patchett (May 19)
URL:https://www.fccminneapolis.org/event/fcc-and-friends-book-group/2023-10-16/
LOCATION:FCC Zoom Channel
CATEGORIES:Book Group,Fellowship
END:VEVENT
BEGIN:VEVENT
DTSTART;TZID=America/Chicago:20230918T190000
DTEND;TZID=America/Chicago:20230918T210000
DTSTAMP:20260425T203645
CREATED:20230622T181400Z
LAST-MODIFIED:20250105T194247Z
UID:10002829-1695063600-1695070800@www.fccminneapolis.org
SUMMARY:FCC and Friends Book Group
DESCRIPTION:2025\nJanuary     Middlemarch by George Eliot  (Jan 20)\nFebruary    Passing by Nella Larsen  (Feb 17)\nMarch      The Seed Keeper by Diane Wilson (Mar 17)\nApril       The Cartographers by Peng Shepherd (Apr 21)\nMay        Tom Lake by Ann Patchett (May 19)
URL:https://www.fccminneapolis.org/event/fcc-and-friends-book-group/2023-09-18/
LOCATION:FCC Zoom Channel
CATEGORIES:Book Group,Fellowship
END:VEVENT
BEGIN:VEVENT
DTSTART;TZID=America/Chicago:20230821T190000
DTEND;TZID=America/Chicago:20230821T210000
DTSTAMP:20260425T203645
CREATED:20230622T181400Z
LAST-MODIFIED:20250105T194247Z
UID:10002828-1692644400-1692651600@www.fccminneapolis.org
SUMMARY:FCC and Friends Book Group
DESCRIPTION:2025\nJanuary     Middlemarch by George Eliot  (Jan 20)\nFebruary    Passing by Nella Larsen  (Feb 17)\nMarch      The Seed Keeper by Diane Wilson (Mar 17)\nApril       The Cartographers by Peng Shepherd (Apr 21)\nMay        Tom Lake by Ann Patchett (May 19)
URL:https://www.fccminneapolis.org/event/fcc-and-friends-book-group/2023-08-21/
LOCATION:FCC Zoom Channel
CATEGORIES:Book Group,Fellowship
END:VEVENT
BEGIN:VEVENT
DTSTART;TZID=America/Chicago:20230717T190000
DTEND;TZID=America/Chicago:20230717T210000
DTSTAMP:20260425T203645
CREATED:20230622T181400Z
LAST-MODIFIED:20250105T194247Z
UID:10002827-1689620400-1689627600@www.fccminneapolis.org
SUMMARY:FCC and Friends Book Group
DESCRIPTION:2025\nJanuary     Middlemarch by George Eliot  (Jan 20)\nFebruary    Passing by Nella Larsen  (Feb 17)\nMarch      The Seed Keeper by Diane Wilson (Mar 17)\nApril       The Cartographers by Peng Shepherd (Apr 21)\nMay        Tom Lake by Ann Patchett (May 19)
URL:https://www.fccminneapolis.org/event/fcc-and-friends-book-group/2023-07-17/
LOCATION:FCC Zoom Channel
CATEGORIES:Book Group,Fellowship
END:VEVENT
BEGIN:VEVENT
DTSTART;TZID=America/Chicago:20230619T190000
DTEND;TZID=America/Chicago:20230619T210000
DTSTAMP:20260425T203645
CREATED:20230607T113428Z
LAST-MODIFIED:20230613T152602Z
UID:10002820-1687201200-1687208400@www.fccminneapolis.org
SUMMARY:FCC & Friends Book Group/Ice Cream Get Together
DESCRIPTION:June selection: Things Fall Apart by Chinua Achebe
URL:https://www.fccminneapolis.org/event/book-group-18/
LOCATION:Sebastian Joe’s\, 4321 Upton Ave S\, Minneapolis\, MN\, 55410\, United States
CATEGORIES:Book Group,Fellowship
END:VEVENT
BEGIN:VEVENT
DTSTART;TZID=America/Chicago:20230515T190000
DTEND;TZID=America/Chicago:20230515T200000
DTSTAMP:20260425T203645
CREATED:20221122T202743Z
LAST-MODIFIED:20221122T202743Z
UID:10001490-1684177200-1684180800@www.fccminneapolis.org
SUMMARY:Book Group
DESCRIPTION:May selection: \nThe Last Circle of Love by Lorna Landvik
URL:https://www.fccminneapolis.org/event/book-group-17/
LOCATION:Online
CATEGORIES:Book Group
END:VEVENT
BEGIN:VEVENT
DTSTART;TZID=America/Chicago:20230417T190000
DTEND;TZID=America/Chicago:20230417T200000
DTSTAMP:20260425T203645
CREATED:20221122T202638Z
LAST-MODIFIED:20221122T202638Z
UID:10001489-1681758000-1681761600@www.fccminneapolis.org
SUMMARY:Book Group
DESCRIPTION:April selection: \nThe Mountains Sing by Nguyen Phan Que Mai
URL:https://www.fccminneapolis.org/event/book-group-16/
LOCATION:Online
CATEGORIES:Book Group
END:VEVENT
BEGIN:VEVENT
DTSTART;TZID=America/Chicago:20230320T190000
DTEND;TZID=America/Chicago:20230320T200000
DTSTAMP:20260425T203645
CREATED:20221122T202520Z
LAST-MODIFIED:20221122T202520Z
UID:10001488-1679338800-1679342400@www.fccminneapolis.org
SUMMARY:Book Group
DESCRIPTION:March selection: \nThe Personal Librarian by Marie Benedict and Victoria Christopher Murray
URL:https://www.fccminneapolis.org/event/book-group-15/
LOCATION:Online
CATEGORIES:Book Group
END:VEVENT
BEGIN:VEVENT
DTSTART;TZID=America/Chicago:20230220T190000
DTEND;TZID=America/Chicago:20230220T200000
DTSTAMP:20260425T203645
CREATED:20221122T202354Z
LAST-MODIFIED:20221122T202354Z
UID:10001487-1676919600-1676923200@www.fccminneapolis.org
SUMMARY:Book Group
DESCRIPTION:February selection: \nDeacon King Kong by James McBride
URL:https://www.fccminneapolis.org/event/book-group-14/
LOCATION:Online
CATEGORIES:Book Group
END:VEVENT
BEGIN:VEVENT
DTSTART;TZID=America/Chicago:20230116T190000
DTEND;TZID=America/Chicago:20230116T200000
DTSTAMP:20260425T203645
CREATED:20221122T192927Z
LAST-MODIFIED:20221122T192927Z
UID:10001486-1673895600-1673899200@www.fccminneapolis.org
SUMMARY:Book Group
DESCRIPTION:January selection: \nPrague Winter by Madeleine Albright
URL:https://www.fccminneapolis.org/event/book-group-13/
LOCATION:Online
CATEGORIES:Book Group
END:VEVENT
BEGIN:VEVENT
DTSTART;TZID=America/Chicago:20221121T190000
DTEND;TZID=America/Chicago:20221121T210000
DTSTAMP:20260425T203645
CREATED:20220915T125200Z
LAST-MODIFIED:20220915T125200Z
UID:10000919-1669057200-1669064400@www.fccminneapolis.org
SUMMARY:Book Group
DESCRIPTION:November selection: \nSimon the Fiddler by Paulette Jiles
URL:https://www.fccminneapolis.org/event/book-group-12/
LOCATION:Online
CATEGORIES:Book Group
END:VEVENT
BEGIN:VEVENT
DTSTART;TZID=America/Chicago:20221017T190000
DTEND;TZID=America/Chicago:20221017T210000
DTSTAMP:20260425T203645
CREATED:20220915T125105Z
LAST-MODIFIED:20220915T125105Z
UID:10000917-1666033200-1666040400@www.fccminneapolis.org
SUMMARY:Book Group
DESCRIPTION:October Selection: \nA House Among the Trees by Julia Glass
URL:https://www.fccminneapolis.org/event/book-group-11/
LOCATION:Online
CATEGORIES:Book Group
END:VEVENT
BEGIN:VEVENT
DTSTART;TZID=America/Chicago:20220919T190000
DTEND;TZID=America/Chicago:20220919T210000
DTSTAMP:20260425T203645
CREATED:20220503T151216Z
LAST-MODIFIED:20220503T151216Z
UID:10000818-1663614000-1663621200@www.fccminneapolis.org
SUMMARY:Book Group
DESCRIPTION:September selection: Be Free Or Die: The Amazing Story of Robert Smalls’ Escape From Slavery to Union Hero by Cate Lineberry
URL:https://www.fccminneapolis.org/event/book-group-10/
LOCATION:Online
CATEGORIES:Book Group
END:VEVENT
BEGIN:VEVENT
DTSTART;VALUE=DATE:20220815
DTEND;VALUE=DATE:20220816
DTSTAMP:20260425T203645
CREATED:20220503T150850Z
LAST-MODIFIED:20220503T150850Z
UID:10000815-1660521600-1660607999@www.fccminneapolis.org
SUMMARY:Book Group
DESCRIPTION:August selection: Today A Woman Went Mad In The Supermarket by Hilma Wolitzer
URL:https://www.fccminneapolis.org/event/book-group-9/
LOCATION:Bobbie Hall’s River House
CATEGORIES:Book Group
END:VEVENT
BEGIN:VEVENT
DTSTART;TZID=America/Chicago:20220718T190000
DTEND;TZID=America/Chicago:20220718T210000
DTSTAMP:20260425T203645
CREATED:20220503T150747Z
LAST-MODIFIED:20220503T150747Z
UID:10000814-1658170800-1658178000@www.fccminneapolis.org
SUMMARY:Book Group
DESCRIPTION:July selection: Late Migration: A Natural History of Love and Loss by Margaret Renkl
URL:https://www.fccminneapolis.org/event/book-group-8/
LOCATION:Online
CATEGORIES:Book Group
END:VEVENT
BEGIN:VEVENT
DTSTART;TZID=America/Chicago:20220620T190000
DTEND;TZID=America/Chicago:20220620T210000
DTSTAMP:20260425T203645
CREATED:20220503T150633Z
LAST-MODIFIED:20220503T150633Z
UID:10000813-1655751600-1655758800@www.fccminneapolis.org
SUMMARY:Book Group
DESCRIPTION:June selection: My Life on the Road by Gloria Steinem
URL:https://www.fccminneapolis.org/event/book-group-7/
LOCATION:Online
CATEGORIES:Book Group
END:VEVENT
BEGIN:VEVENT
DTSTART;TZID=America/Chicago:20220516T190000
DTEND;TZID=America/Chicago:20220516T210000
DTSTAMP:20260425T203645
CREATED:20220222T142825Z
LAST-MODIFIED:20220222T144119Z
UID:10001273-1652727600-1652734800@www.fccminneapolis.org
SUMMARY:Book Group
DESCRIPTION:May selection: West With Giraffes by Lynda Rutledge
URL:https://www.fccminneapolis.org/event/book-group-6/
LOCATION:Online
CATEGORIES:Book Group
END:VEVENT
BEGIN:VEVENT
DTSTART;TZID=America/Chicago:20220418T190000
DTEND;TZID=America/Chicago:20220418T210000
DTSTAMP:20260425T203645
CREATED:20220222T142621Z
LAST-MODIFIED:20220222T142621Z
UID:10001272-1650308400-1650315600@www.fccminneapolis.org
SUMMARY:Book Group
DESCRIPTION:April selection: The Wonder Boy of Whistle Stop: A Novel by Fannie Flagg \nQuestions/more information: contact Kathy Hintz
URL:https://www.fccminneapolis.org/event/book-group-5/
LOCATION:Online
CATEGORIES:Book Group
END:VEVENT
BEGIN:VEVENT
DTSTART;TZID=America/Chicago:20220321T190000
DTEND;TZID=America/Chicago:20220321T210000
DTSTAMP:20260425T203645
CREATED:20211229T133941Z
LAST-MODIFIED:20211229T133941Z
UID:10000670-1647889200-1647896400@www.fccminneapolis.org
SUMMARY:Virtual Book Group
DESCRIPTION:The Night Watchman\, by Louise Erdrich
URL:https://www.fccminneapolis.org/event/virtual-book-group-3/
LOCATION:Online
CATEGORIES:Book Group,Fellowship,Online Community Gatherings
END:VEVENT
BEGIN:VEVENT
DTSTART;TZID=America/Chicago:20220221T190000
DTEND;TZID=America/Chicago:20220221T210000
DTSTAMP:20260425T203645
CREATED:20211229T133736Z
LAST-MODIFIED:20211229T133736Z
UID:10000665-1645470000-1645477200@www.fccminneapolis.org
SUMMARY:Virtual Book Group
DESCRIPTION:Facing The Mountain\, by Daniel James Brown
URL:https://www.fccminneapolis.org/event/virtual-book-group-2/
LOCATION:Online
CATEGORIES:Book Group,Fellowship,Online Community Gatherings
END:VEVENT
BEGIN:VEVENT
DTSTART;TZID=America/Chicago:20220117T190000
DTEND;TZID=America/Chicago:20220117T210000
DTSTAMP:20260425T203645
CREATED:20211229T133542Z
LAST-MODIFIED:20211229T133542Z
UID:10001217-1642446000-1642453200@www.fccminneapolis.org
SUMMARY:Virtual Book Group
DESCRIPTION:The Book of Lost Friends\, by Lisa Wingate
URL:https://www.fccminneapolis.org/event/virtual-book-group/
LOCATION:Online
CATEGORIES:Book Group,Fellowship,Online Community Gatherings
END:VEVENT
BEGIN:VEVENT
DTSTART;TZID=America/Chicago:20211115T190000
DTEND;TZID=America/Chicago:20211115T210000
DTSTAMP:20260425T203645
CREATED:20210824T151646Z
LAST-MODIFIED:20211107T210124Z
UID:10001161-1637002800-1637010000@www.fccminneapolis.org
SUMMARY:Book Group
DESCRIPTION:The Agitators by Dorothy Wickerdom \nHISTORY\, recommended by Mary Hurlocker! \nQuestions: Contact Kathy Hintz
URL:https://www.fccminneapolis.org/event/book-group-4/
LOCATION:FCC Zoom Channel
CATEGORIES:Book Group,Fellowship,Online Community Gatherings
END:VEVENT
END:VCALENDAR